BEGIN:VCALENDAR
VERSION:2.0
PRODID:-//Fairmount Water Works - ECPv6.15.20//NONSGML v1.0//EN
CALSCALE:GREGORIAN
METHOD:PUBLISH
X-WR-CALNAME:Fairmount Water Works
X-ORIGINAL-URL:https://fairmountwaterworks.org
X-WR-CALDESC:Events for Fairmount Water Works
REFRESH-INTERVAL;VALUE=DURATION:PT1H
X-Robots-Tag:noindex
X-PUBLISHED-TTL:PT1H
BEGIN:VTIMEZONE
TZID:America/New_York
BEGIN:DAYLIGHT
TZOFFSETFROM:-0500
TZOFFSETTO:-0400
TZNAME:EDT
DTSTART:20150308T070000
END:DAYLIGHT
BEGIN:STANDARD
TZOFFSETFROM:-0400
TZOFFSETTO:-0500
TZNAME:EST
DTSTART:20151101T060000
END:STANDARD
BEGIN:DAYLIGHT
TZOFFSETFROM:-0500
TZOFFSETTO:-0400
TZNAME:EDT
DTSTART:20160313T070000
END:DAYLIGHT
BEGIN:STANDARD
TZOFFSETFROM:-0400
TZOFFSETTO:-0500
TZNAME:EST
DTSTART:20161106T060000
END:STANDARD
BEGIN:DAYLIGHT
TZOFFSETFROM:-0500
TZOFFSETTO:-0400
TZNAME:EDT
DTSTART:20170312T070000
END:DAYLIGHT
BEGIN:STANDARD
TZOFFSETFROM:-0400
TZOFFSETTO:-0500
TZNAME:EST
DTSTART:20171105T060000
END:STANDARD
END:VTIMEZONE
BEGIN:VEVENT
DTSTART;TZID=America/New_York:20160715T193000
DTEND;TZID=America/New_York:20160716T140000
DTSTAMP:20260425T100017
CREATED:20160707T180200Z
LAST-MODIFIED:20181120T163946Z
UID:7119-1468611000-1468677600@fairmountwaterworks.org
SUMMARY:Invisible River 2016
DESCRIPTION:Spend the weekend of Friday\, July 15th and Saturday\, July 16th with INVISIBLE RIVER on the Schuylkill in East Fairmount Park! Take out a kayak or canoe as dancers twirl\, dangle\, and mesmerize above your head during BECK EPOCH\, the evenings of Fri\, July 15th and Sat\, July 16th at 7:30pm. Bring the entire family for a festive exploration of the river all day on Saturday\, July 16th from 10am-2pm during Schuylkill River Arts Day with dance and music performances\, free boating\, fishing\, interactive watershed lessons\, local food and more! \n To find out more about these events\, visit www.invisibleriver.org.
URL:https://fairmountwaterworks.org/event/invisible-river-2016/
LOCATION:Unnamed Venue\, 2200 Kelly Drive\, Philadelphia\, PA\, 19121\, United States
CATEGORIES:Arts & Culture
END:VEVENT
BEGIN:VEVENT
DTSTART;TZID=America/New_York:20160716T130000
DTEND;TZID=America/New_York:20160716T140000
DTSTAMP:20260425T100017
CREATED:20160707T160004Z
LAST-MODIFIED:20181120T192341Z
UID:7105-1468674000-1468677600@fairmountwaterworks.org
SUMMARY:Family Tour with Let's Go Outdoors
DESCRIPTION:Join Let’s Go Outdoors for a general family-friendly tour of the Fairmount Water Works! \nLearn about amazing grounds outside of the historic site\, including the Fishway Dam\, then head inside for a guided orientation to “Water in our World” and watch a 15-minute film about the building’s important role in Philadelphia’s history.  Let’s Go Outdoors inspires an appreciation for the outdoors through education and recreation programming\, especially among people of color and those that live in city communities. \nAfter the tour\, stick around for our weekly Science Saturday activity that starts at 2pm. \nThe tour is FREE\, but registration is required\, as space is limited.
URL:https://fairmountwaterworks.org/event/family-tour-with-lets-go-outdoors/
LOCATION:Fairmount Water Works\, 640 Water Works Drive\, Philadelphia\, PA\, 19130\, United States
CATEGORIES:Tour
END:VEVENT
END:VCALENDAR