BEGIN:VCALENDAR
VERSION:2.0
PRODID:-//Fairmount Water Works - ECPv6.15.20//NONSGML v1.0//EN
CALSCALE:GREGORIAN
METHOD:PUBLISH
X-ORIGINAL-URL:https://fairmountwaterworks.org
X-WR-CALDESC:Events for Fairmount Water Works
REFRESH-INTERVAL;VALUE=DURATION:PT1H
X-Robots-Tag:noindex
X-PUBLISHED-TTL:PT1H
BEGIN:VTIMEZONE
TZID:America/New_York
BEGIN:DAYLIGHT
TZOFFSETFROM:-0500
TZOFFSETTO:-0400
TZNAME:EDT
DTSTART:20150308T070000
END:DAYLIGHT
BEGIN:STANDARD
TZOFFSETFROM:-0400
TZOFFSETTO:-0500
TZNAME:EST
DTSTART:20151101T060000
END:STANDARD
BEGIN:DAYLIGHT
TZOFFSETFROM:-0500
TZOFFSETTO:-0400
TZNAME:EDT
DTSTART:20160313T070000
END:DAYLIGHT
BEGIN:STANDARD
TZOFFSETFROM:-0400
TZOFFSETTO:-0500
TZNAME:EST
DTSTART:20161106T060000
END:STANDARD
BEGIN:DAYLIGHT
TZOFFSETFROM:-0500
TZOFFSETTO:-0400
TZNAME:EDT
DTSTART:20170312T070000
END:DAYLIGHT
BEGIN:STANDARD
TZOFFSETFROM:-0400
TZOFFSETTO:-0500
TZNAME:EST
DTSTART:20171105T060000
END:STANDARD
END:VTIMEZONE
BEGIN:VEVENT
DTSTART;TZID=America/New_York:20160730T130000
DTEND;TZID=America/New_York:20160730T140000
DTSTAMP:20260425T100111
CREATED:20160707T160945Z
LAST-MODIFIED:20181120T192341Z
UID:7106-1469883600-1469887200@fairmountwaterworks.org
SUMMARY:Family Tour w/ Let's Go Outdoors
DESCRIPTION:Join Let’s Go Outdoors for a general family-friendly tour of the Fairmount Water Works! \nLearn about amazing grounds outside of the historic site\, including the Fishway Dam\, then head inside for a guided orientation to “Water in our World” and watch a 15-minute film about the building’s important role in Philadelphia’s history.  Let’s Go Outdoors inspires an appreciation for the outdoors through education and recreation programming\, especially among people of color and those that live in city communities. \nAfter the tour\, stick around for our weekly Science Saturday activity that starts at 2pm. \nThe tour is FREE\, but registration is required\, as space is limited.
URL:https://fairmountwaterworks.org/event/family-tour-w-lets-go-outdoors/
LOCATION:Fairmount Water Works\, 640 Water Works Drive\, Philadelphia\, PA\, 19130\, United States
CATEGORIES:Tour
END:VEVENT
BEGIN:VEVENT
DTSTART;TZID=America/New_York:20160730T140000
DTEND;TZID=America/New_York:20160730T160000
DTSTAMP:20260425T100111
CREATED:20160713T143300Z
LAST-MODIFIED:20181120T191002Z
UID:7143-1469887200-1469894400@fairmountwaterworks.org
SUMMARY:Science Saturday: "Put Your Dirt to Work"
DESCRIPTION:Drop in every Saturday between 2-4 pm\, and together\, we’ll explore different aspects of our environment during fun and interactive sessions in our water lab. \nWhat happens to the fall leaves\, grass clippings\, or weeds you pull from the garden? They don’t just disappear! Like all natural materials\, they decompose. Composting is the practice of managing waste to be reborn as a soil enricher. Come and learn how to compost\, and find out what sort of critters make the whole process happen.
URL:https://fairmountwaterworks.org/event/science-saturday-put-your-dirt-to-work-3/
LOCATION:Fairmount Water Works\, 640 Water Works Drive\, Philadelphia\, PA\, 19130\, United States
CATEGORIES:Hands-On Science
END:VEVENT
END:VCALENDAR