BEGIN:VCALENDAR
VERSION:2.0
PRODID:-//Fairmount Water Works - ECPv6.15.20//NONSGML v1.0//EN
CALSCALE:GREGORIAN
METHOD:PUBLISH
X-ORIGINAL-URL:https://fairmountwaterworks.org
X-WR-CALDESC:Events for Fairmount Water Works
REFRESH-INTERVAL;VALUE=DURATION:PT1H
X-Robots-Tag:noindex
X-PUBLISHED-TTL:PT1H
BEGIN:VTIMEZONE
TZID:America/New_York
BEGIN:DAYLIGHT
TZOFFSETFROM:-0500
TZOFFSETTO:-0400
TZNAME:EDT
DTSTART:20150308T070000
END:DAYLIGHT
BEGIN:STANDARD
TZOFFSETFROM:-0400
TZOFFSETTO:-0500
TZNAME:EST
DTSTART:20151101T060000
END:STANDARD
BEGIN:DAYLIGHT
TZOFFSETFROM:-0500
TZOFFSETTO:-0400
TZNAME:EDT
DTSTART:20160313T070000
END:DAYLIGHT
BEGIN:STANDARD
TZOFFSETFROM:-0400
TZOFFSETTO:-0500
TZNAME:EST
DTSTART:20161106T060000
END:STANDARD
BEGIN:DAYLIGHT
TZOFFSETFROM:-0500
TZOFFSETTO:-0400
TZNAME:EDT
DTSTART:20170312T070000
END:DAYLIGHT
BEGIN:STANDARD
TZOFFSETFROM:-0400
TZOFFSETTO:-0500
TZNAME:EST
DTSTART:20171105T060000
END:STANDARD
END:VTIMEZONE
BEGIN:VEVENT
DTSTART;TZID=America/New_York:20160813T130000
DTEND;TZID=America/New_York:20160813T140000
DTSTAMP:20260425T080739
CREATED:20160707T161945Z
LAST-MODIFIED:20181120T192341Z
UID:7108-1471093200-1471096800@fairmountwaterworks.org
SUMMARY:Family Tour w/ Let's Go Outdoors
DESCRIPTION:Join Let’s Go Outdoors for a general family-friendly tour of the Fairmount Water Works! \nLearn about amazing grounds outside of the historic site\, including the Fishway Dam\, then head inside for a guided orientation to “Water in our World” and watch a 15-minute film about the building’s important role in Philadelphia’s history.  Let’s Go Outdoors inspires an appreciation for the outdoors through education and recreation programming\, especially among people of color and those that live in city communities. \nAfter the tour\, stick around for our weekly Science Saturday activity that starts at 2pm. \nThe tour is FREE\, but registration is required\, as space is limited.
URL:https://fairmountwaterworks.org/event/family-tour-w-lets-go-outdoors-3/
LOCATION:Fairmount Water Works\, 640 Water Works Drive\, Philadelphia\, PA\, 19130\, United States
CATEGORIES:Tour
END:VEVENT
BEGIN:VEVENT
DTSTART;TZID=America/New_York:20160813T140000
DTEND;TZID=America/New_York:20160813T160000
DTSTAMP:20260425T080739
CREATED:20160713T143758Z
LAST-MODIFIED:20181120T191001Z
UID:7145-1471096800-1471104000@fairmountwaterworks.org
SUMMARY:Science Saturday: "The Greatest Flow on Earth: A Water Carnival"
DESCRIPTION:Drop in every Saturday between 2-4 pm\, and together\, we’ll explore different aspects of our environment during fun and interactive sessions in our water lab. \nStep right up and see the amazing surface tension! You will be polarized by this amazing molecule\, H2O! Come and explore some of water’s many fascinating properties in fun lab activities.
URL:https://fairmountwaterworks.org/event/science-saturday-the-greatest-flow-on-earth-a-water-carnival-2/
LOCATION:Fairmount Water Works\, 640 Water Works Drive\, Philadelphia\, PA\, 19130\, United States
CATEGORIES:Hands-On Science
END:VEVENT
END:VCALENDAR