BEGIN:VCALENDAR
VERSION:2.0
PRODID:-//Fairmount Water Works - ECPv6.15.20//NONSGML v1.0//EN
CALSCALE:GREGORIAN
METHOD:PUBLISH
X-WR-CALNAME:Fairmount Water Works
X-ORIGINAL-URL:https://fairmountwaterworks.org
X-WR-CALDESC:Events for Fairmount Water Works
REFRESH-INTERVAL;VALUE=DURATION:PT1H
X-Robots-Tag:noindex
X-PUBLISHED-TTL:PT1H
BEGIN:VTIMEZONE
TZID:America/New_York
BEGIN:DAYLIGHT
TZOFFSETFROM:-0500
TZOFFSETTO:-0400
TZNAME:EDT
DTSTART:20150308T070000
END:DAYLIGHT
BEGIN:STANDARD
TZOFFSETFROM:-0400
TZOFFSETTO:-0500
TZNAME:EST
DTSTART:20151101T060000
END:STANDARD
BEGIN:DAYLIGHT
TZOFFSETFROM:-0500
TZOFFSETTO:-0400
TZNAME:EDT
DTSTART:20160313T070000
END:DAYLIGHT
BEGIN:STANDARD
TZOFFSETFROM:-0400
TZOFFSETTO:-0500
TZNAME:EST
DTSTART:20161106T060000
END:STANDARD
BEGIN:DAYLIGHT
TZOFFSETFROM:-0500
TZOFFSETTO:-0400
TZNAME:EDT
DTSTART:20170312T070000
END:DAYLIGHT
BEGIN:STANDARD
TZOFFSETFROM:-0400
TZOFFSETTO:-0500
TZNAME:EST
DTSTART:20171105T060000
END:STANDARD
END:VTIMEZONE
BEGIN:VEVENT
DTSTART;TZID=America/New_York:20160903T140000
DTEND;TZID=America/New_York:20160903T160000
DTSTAMP:20260425T062927
CREATED:20160713T144359Z
LAST-MODIFIED:20181120T191001Z
UID:7148-1472911200-1472918400@fairmountwaterworks.org
SUMMARY:Science Saturday: "Ecology Under Wraps: Ecosystems and Terrariums"
DESCRIPTION:Drop in every Saturday between 2-4 pm\, and together\, we’ll explore different aspects of our environment during fun and interactive sessions in our water lab. \nThe Schuylkill River ecosystem is an interrelationship of water\, earth\, plants and animals. Learn about the ecology of the area around the Fairmount Water Works and build your own miniature ecosystem in a bottle. VISITORS ARE ENCOURAGED TO BRING THEIR OWN CONTAINER to create a terrarium in.
URL:https://fairmountwaterworks.org/event/science-saturday-ecology-under-wraps-ecosystems-and-terrariums/
LOCATION:Fairmount Water Works\, 640 Water Works Drive\, Philadelphia\, PA\, 19130\, United States
CATEGORIES:Hands-On Science
END:VEVENT
END:VCALENDAR