BEGIN:VCALENDAR
VERSION:2.0
PRODID:-//Fairmount Water Works - ECPv6.15.20//NONSGML v1.0//EN
CALSCALE:GREGORIAN
METHOD:PUBLISH
X-ORIGINAL-URL:https://fairmountwaterworks.org
X-WR-CALDESC:Events for Fairmount Water Works
REFRESH-INTERVAL;VALUE=DURATION:PT1H
X-Robots-Tag:noindex
X-PUBLISHED-TTL:PT1H
BEGIN:VTIMEZONE
TZID:America/New_York
BEGIN:DAYLIGHT
TZOFFSETFROM:-0500
TZOFFSETTO:-0400
TZNAME:EDT
DTSTART:20160313T070000
END:DAYLIGHT
BEGIN:STANDARD
TZOFFSETFROM:-0400
TZOFFSETTO:-0500
TZNAME:EST
DTSTART:20161106T060000
END:STANDARD
BEGIN:DAYLIGHT
TZOFFSETFROM:-0500
TZOFFSETTO:-0400
TZNAME:EDT
DTSTART:20170312T070000
END:DAYLIGHT
BEGIN:STANDARD
TZOFFSETFROM:-0400
TZOFFSETTO:-0500
TZNAME:EST
DTSTART:20171105T060000
END:STANDARD
BEGIN:DAYLIGHT
TZOFFSETFROM:-0500
TZOFFSETTO:-0400
TZNAME:EDT
DTSTART:20180311T070000
END:DAYLIGHT
BEGIN:STANDARD
TZOFFSETFROM:-0400
TZOFFSETTO:-0500
TZNAME:EST
DTSTART:20181104T060000
END:STANDARD
END:VTIMEZONE
BEGIN:VEVENT
DTSTART;TZID=America/New_York:20170421T080000
DTEND;TZID=America/New_York:20170429T170000
DTSTAMP:20260423T052835
CREATED:20170412T191336Z
LAST-MODIFIED:20181120T163848Z
UID:7534-1492761600-1493485200@fairmountwaterworks.org
SUMMARY:Philadelphia Science Festival
DESCRIPTION:The Philadelphia Science Festival (PSF) returns for its seventh year of scientific celebrations with nine days of events at restaurants\, breweries\, museums\, libraries\, parks and other neighborhood spaces. \nLast year\, more than 70\,000 people flocked to festival events\, and with the awesome\, 80-plus happenings on tap for 2017\, this year’s festivities are expected to be bigger\, better and brainier than ever before. \nFrom a life on Mars discussion to a chocolate chip cookie lab to a stargazin\ng party to an ’80s prom-themed scientific soiree\, the array of events run the gamut\, with many of the workshops\, lectures and happenings unfolding free of charge. All are designed to help spark conversation\, curiosity and passion for the topics of science and technology that play a vital role in our everyday lives. \nWith over 80 great events\, across the greater Philadelphia region\, you’re sure to find a reason to get nerdy! \nFind out more about the Festival here.
URL:https://fairmountwaterworks.org/event/philadelphia-science-festival/
LOCATION:PA
CATEGORIES:Arts & Culture,Hands-On Science
END:VEVENT
BEGIN:VEVENT
DTSTART;TZID=America/New_York:20170429T120000
DTEND;TZID=America/New_York:20170429T130000
DTSTAMP:20260423T052835
CREATED:20170403T195447Z
LAST-MODIFIED:20181120T163848Z
UID:7511-1493467200-1493470800@fairmountwaterworks.org
SUMMARY:Mommies & Minnows Fathers & Fry
DESCRIPTION:
URL:https://fairmountwaterworks.org/event/mommies-minnows-fathers-fry-11/
LOCATION:Fairmount Water Works\, 640 Water Works Drive\, Philadelphia\, PA\, 19130\, United States
CATEGORIES:Hands-On Science
END:VEVENT
BEGIN:VEVENT
DTSTART;TZID=America/New_York:20170429T140000
DTEND;TZID=America/New_York:20170429T160000
DTSTAMP:20260423T052835
CREATED:20170328T201108Z
LAST-MODIFIED:20181120T190958Z
UID:7476-1493474400-1493481600@fairmountwaterworks.org
SUMMARY:Science Saturday – “A Day in the Life of the Schuylkill River: The Exploration Continues”
DESCRIPTION:Spring is a time when life in the stream comes alive. Macroinvertebrates are organisms that are big enough for you to see with the bare eye\, but without backbones. Mayflies\, water pennies\, caddisflies\, and stoneflies…scientists use these freshwater creatures as natural indicators of river health.  In our water lab\, act like a scientist to inspect and characterize your own virtual river sample. Do they have legs or shells? Are they “shredders”\, “grazers”\, or “collectors”? Learn all about these creatures during this family-friendly program.
URL:https://fairmountwaterworks.org/event/science-saturday-macroinvertebrates-a-river-continuum-5/
LOCATION:Fairmount Water Works\, 640 Water Works Drive\, Philadelphia\, PA\, 19130\, United States
CATEGORIES:Hands-On Science
END:VEVENT
END:VCALENDAR