BEGIN:VCALENDAR
VERSION:2.0
PRODID:-//Fairmount Water Works - ECPv6.15.20//NONSGML v1.0//EN
CALSCALE:GREGORIAN
METHOD:PUBLISH
X-WR-CALNAME:Fairmount Water Works
X-ORIGINAL-URL:https://fairmountwaterworks.org
X-WR-CALDESC:Events for Fairmount Water Works
REFRESH-INTERVAL;VALUE=DURATION:PT1H
X-Robots-Tag:noindex
X-PUBLISHED-TTL:PT1H
BEGIN:VTIMEZONE
TZID:America/New_York
BEGIN:DAYLIGHT
TZOFFSETFROM:-0500
TZOFFSETTO:-0400
TZNAME:EDT
DTSTART:20160313T070000
END:DAYLIGHT
BEGIN:STANDARD
TZOFFSETFROM:-0400
TZOFFSETTO:-0500
TZNAME:EST
DTSTART:20161106T060000
END:STANDARD
BEGIN:DAYLIGHT
TZOFFSETFROM:-0500
TZOFFSETTO:-0400
TZNAME:EDT
DTSTART:20170312T070000
END:DAYLIGHT
BEGIN:STANDARD
TZOFFSETFROM:-0400
TZOFFSETTO:-0500
TZNAME:EST
DTSTART:20171105T060000
END:STANDARD
BEGIN:DAYLIGHT
TZOFFSETFROM:-0500
TZOFFSETTO:-0400
TZNAME:EDT
DTSTART:20180311T070000
END:DAYLIGHT
BEGIN:STANDARD
TZOFFSETFROM:-0400
TZOFFSETTO:-0500
TZNAME:EST
DTSTART:20181104T060000
END:STANDARD
END:VTIMEZONE
BEGIN:VEVENT
DTSTART;TZID=America/New_York:20170908T160000
DTEND;TZID=America/New_York:20170908T180000
DTSTAMP:20260423T194603
CREATED:20170829T203358Z
LAST-MODIFIED:20170829T203358Z
UID:7621-1504886400-1504893600@fairmountwaterworks.org
SUMMARY:A Walk Along the Parkway
DESCRIPTION:Philadelphia’s Parkway references the most beautiful cities of Old Europe. Discover the magnificent buildings along Philadelphia’s own Champs-Élysées and what lies beneath them. \nStart at the Fairmount Water Works\, where wheels once pumped the City’s drinking water\, then embark on a mile-long stroll down the picturesque path to Logan Square and back again. Ideal for history buffs\, cultural connoisseurs and architectural mavens. \nPLEASE NOTE: Comfortable shoes strongly encouraged for this walking tour. Registrants will be contacted in the event of cancellation due to inclement weather. \nTHIS IS A FREE TOUR\, BUT REGISTRATION IS REQUIRED: https://www.eventbrite.com/e/a-walk-along-the-parkway-tickets-37425560860
URL:https://fairmountwaterworks.org/event/a-walk-along-the-parkway/
LOCATION:Fairmount Water Works\, 640 Water Works Drive\, Philadelphia\, PA\, 19130\, United States
CATEGORIES:Arts & Culture,Lecture,Tour
END:VEVENT
END:VCALENDAR