BEGIN:VCALENDAR
VERSION:2.0
PRODID:-//Fairmount Water Works - ECPv6.15.20//NONSGML v1.0//EN
CALSCALE:GREGORIAN
METHOD:PUBLISH
X-WR-CALNAME:Fairmount Water Works
X-ORIGINAL-URL:https://fairmountwaterworks.org
X-WR-CALDESC:Events for Fairmount Water Works
REFRESH-INTERVAL;VALUE=DURATION:PT1H
X-Robots-Tag:noindex
X-PUBLISHED-TTL:PT1H
BEGIN:VTIMEZONE
TZID:America/New_York
BEGIN:DAYLIGHT
TZOFFSETFROM:-0500
TZOFFSETTO:-0400
TZNAME:EDT
DTSTART:20160313T070000
END:DAYLIGHT
BEGIN:STANDARD
TZOFFSETFROM:-0400
TZOFFSETTO:-0500
TZNAME:EST
DTSTART:20161106T060000
END:STANDARD
BEGIN:DAYLIGHT
TZOFFSETFROM:-0500
TZOFFSETTO:-0400
TZNAME:EDT
DTSTART:20170312T070000
END:DAYLIGHT
BEGIN:STANDARD
TZOFFSETFROM:-0400
TZOFFSETTO:-0500
TZNAME:EST
DTSTART:20171105T060000
END:STANDARD
BEGIN:DAYLIGHT
TZOFFSETFROM:-0500
TZOFFSETTO:-0400
TZNAME:EDT
DTSTART:20180311T070000
END:DAYLIGHT
BEGIN:STANDARD
TZOFFSETFROM:-0400
TZOFFSETTO:-0500
TZNAME:EST
DTSTART:20181104T060000
END:STANDARD
END:VTIMEZONE
BEGIN:VEVENT
DTSTART;TZID=America/New_York:20171028T140000
DTEND;TZID=America/New_York:20171028T160000
DTSTAMP:20260423T214255
CREATED:20170919T151252Z
LAST-MODIFIED:20181120T190956Z
UID:7702-1509199200-1509206400@fairmountwaterworks.org
SUMMARY:Science Saturday: "The Schuylkill River & You!"
DESCRIPTION:Discover the many ways we are connected to the Schuylkill River\, and how we can protect these waters from the harmful effects of water pollution. \nRivers provide drinking water and a habitat for wildlife. Join us at the river’s edge as we explore our past and present relationship with the Schuylkill River in particular and our environmental impact. Activities include: \n\n“Fishing Around” – Survey the number of fish and species in your “river” to help determine how polluted it is.\n“Where Does the Water Go?” – Follow the journey of water from the river\, to our treatment plants\, and to your home!\n“Your Impact on the Schuylkill” – Learn how to reduce your carbon footprint by reducing the amount of trash you produce. Make the pledge to protect our river!
URL:https://fairmountwaterworks.org/event/science-saturday-the-schuylkill-river-you-4/
LOCATION:Fairmount Water Works\, 640 Water Works Drive\, Philadelphia\, PA\, 19130\, United States
CATEGORIES:Hands-On Science
END:VEVENT
END:VCALENDAR