BEGIN:VCALENDAR
VERSION:2.0
PRODID:-//Fairmount Water Works - ECPv6.15.20//NONSGML v1.0//EN
CALSCALE:GREGORIAN
METHOD:PUBLISH
X-ORIGINAL-URL:https://fairmountwaterworks.org
X-WR-CALDESC:Events for Fairmount Water Works
REFRESH-INTERVAL;VALUE=DURATION:PT1H
X-Robots-Tag:noindex
X-PUBLISHED-TTL:PT1H
BEGIN:VTIMEZONE
TZID:America/New_York
BEGIN:DAYLIGHT
TZOFFSETFROM:-0500
TZOFFSETTO:-0400
TZNAME:EDT
DTSTART:20160313T070000
END:DAYLIGHT
BEGIN:STANDARD
TZOFFSETFROM:-0400
TZOFFSETTO:-0500
TZNAME:EST
DTSTART:20161106T060000
END:STANDARD
BEGIN:DAYLIGHT
TZOFFSETFROM:-0500
TZOFFSETTO:-0400
TZNAME:EDT
DTSTART:20170312T070000
END:DAYLIGHT
BEGIN:STANDARD
TZOFFSETFROM:-0400
TZOFFSETTO:-0500
TZNAME:EST
DTSTART:20171105T060000
END:STANDARD
BEGIN:DAYLIGHT
TZOFFSETFROM:-0500
TZOFFSETTO:-0400
TZNAME:EDT
DTSTART:20180311T070000
END:DAYLIGHT
BEGIN:STANDARD
TZOFFSETFROM:-0400
TZOFFSETTO:-0500
TZNAME:EST
DTSTART:20181104T060000
END:STANDARD
END:VTIMEZONE
BEGIN:VEVENT
DTSTART;TZID=America/New_York:20171125T110000
DTEND;TZID=America/New_York:20171125T130000
DTSTAMP:20260423T232700
CREATED:20171116T172301Z
LAST-MODIFIED:20181120T163810Z
UID:7816-1511607600-1511614800@fairmountwaterworks.org
SUMMARY:Setting the Thanksgiving Water Table
DESCRIPTION:Water is part of everything we eat\, drink\, and use. Your traditional Thanksgiving recipes\, like one for pumpkin pie\, calls for little to no cups of water\, but from the time the pumpkin starts growing in the pumpkin patch to the moment it reaches your dinner table the pie you consumed uses almost  234 gallons of water to make. If a pie uses that much water\, to make\, then how much water does it take to create the feast that we indulge in on Thanksgiving Day? \nJoin us at the Fairmount Water Works for our Thanksgiving holiday pop-up activity. All visitors are invited to discover the incredible amounts of water that it takes for our holiday meal staples to reach the Thanksgiving table. Visitors will have the opportunity to create a plate with their own holiday meal favorites and calculate the “water footprint” of their individual feast.
URL:https://fairmountwaterworks.org/event/setting-the-thanksgiving-water-table-11/
LOCATION:Fairmount Water Works\, 640 Water Works Drive\, Philadelphia\, PA\, 19130\, United States
CATEGORIES:Hands-On Science
END:VEVENT
BEGIN:VEVENT
DTSTART;TZID=America/New_York:20171125T140000
DTEND;TZID=America/New_York:20171125T160000
DTSTAMP:20260423T232700
CREATED:20170919T151730Z
LAST-MODIFIED:20181120T190955Z
UID:7706-1511618400-1511625600@fairmountwaterworks.org
SUMMARY:Science Saturday: "The Schuylkill River & You!"
DESCRIPTION:Discover the many ways we are connected to the Schuylkill River\, and how we can protect these waters from the harmful effects of water pollution. \nRivers provide drinking water and a habitat for wildlife. Join us at the river’s edge as we explore our past and present relationship with the Schuylkill River in particular and our environmental impact. Activities include: \n\n“Fishing Around” – Survey the number of fish and species in your “river” to help determine how polluted it is.\n“Where Does the Water Go?” – Follow the journey of water from the river\, to our treatment plants\, and to your home!\n“Your Impact on the Schuylkill” – Learn how to reduce your carbon footprint by reducing the amount of trash you produce. Make the pledge to protect our river!
URL:https://fairmountwaterworks.org/event/science-saturday-the-schuylkill-river-you-8/
LOCATION:Fairmount Water Works\, 640 Water Works Drive\, Philadelphia\, PA\, 19130\, United States
CATEGORIES:Hands-On Science
END:VEVENT
END:VCALENDAR