BEGIN:VCALENDAR
VERSION:2.0
PRODID:-//Fairmount Water Works - ECPv6.15.20//NONSGML v1.0//EN
CALSCALE:GREGORIAN
METHOD:PUBLISH
X-ORIGINAL-URL:https://fairmountwaterworks.org
X-WR-CALDESC:Events for Fairmount Water Works
REFRESH-INTERVAL;VALUE=DURATION:PT1H
X-Robots-Tag:noindex
X-PUBLISHED-TTL:PT1H
BEGIN:VTIMEZONE
TZID:America/New_York
BEGIN:DAYLIGHT
TZOFFSETFROM:-0500
TZOFFSETTO:-0400
TZNAME:EDT
DTSTART:20160313T070000
END:DAYLIGHT
BEGIN:STANDARD
TZOFFSETFROM:-0400
TZOFFSETTO:-0500
TZNAME:EST
DTSTART:20161106T060000
END:STANDARD
BEGIN:DAYLIGHT
TZOFFSETFROM:-0500
TZOFFSETTO:-0400
TZNAME:EDT
DTSTART:20170312T070000
END:DAYLIGHT
BEGIN:STANDARD
TZOFFSETFROM:-0400
TZOFFSETTO:-0500
TZNAME:EST
DTSTART:20171105T060000
END:STANDARD
BEGIN:DAYLIGHT
TZOFFSETFROM:-0500
TZOFFSETTO:-0400
TZNAME:EDT
DTSTART:20180311T070000
END:DAYLIGHT
BEGIN:STANDARD
TZOFFSETFROM:-0400
TZOFFSETTO:-0500
TZNAME:EST
DTSTART:20181104T060000
END:STANDARD
END:VTIMEZONE
BEGIN:VEVENT
DTSTART;TZID=America/New_York:20171226T110000
DTEND;TZID=America/New_York:20171226T130000
DTSTAMP:20260424T010318
CREATED:20171213T172540Z
LAST-MODIFIED:20181120T163810Z
UID:7839-1514286000-1514293200@fairmountwaterworks.org
SUMMARY:Let It Snow!
DESCRIPTION:Come inside to enjoy fun science-themed programs for all ages at the Fairmount Water Works. Make your own snowy winter scene in a DIY snow globe\, or a stuffed fish (paper that is) to get it ready to survive the winter. Why? Find out during your visit! (Recommended for ages 3 and up. Some activities may require adult supervision.)
URL:https://fairmountwaterworks.org/event/let-it-snow-2/
LOCATION:PA
CATEGORIES:Hands-On Science
END:VEVENT
END:VCALENDAR