BEGIN:VCALENDAR
VERSION:2.0
PRODID:-//Fairmount Water Works - ECPv6.15.20//NONSGML v1.0//EN
CALSCALE:GREGORIAN
METHOD:PUBLISH
X-WR-CALNAME:Fairmount Water Works
X-ORIGINAL-URL:https://fairmountwaterworks.org
X-WR-CALDESC:Events for Fairmount Water Works
REFRESH-INTERVAL;VALUE=DURATION:PT1H
X-Robots-Tag:noindex
X-PUBLISHED-TTL:PT1H
BEGIN:VTIMEZONE
TZID:America/New_York
BEGIN:DAYLIGHT
TZOFFSETFROM:-0500
TZOFFSETTO:-0400
TZNAME:EDT
DTSTART:20220313T070000
END:DAYLIGHT
BEGIN:STANDARD
TZOFFSETFROM:-0400
TZOFFSETTO:-0500
TZNAME:EST
DTSTART:20221106T060000
END:STANDARD
BEGIN:DAYLIGHT
TZOFFSETFROM:-0500
TZOFFSETTO:-0400
TZNAME:EDT
DTSTART:20230312T070000
END:DAYLIGHT
BEGIN:STANDARD
TZOFFSETFROM:-0400
TZOFFSETTO:-0500
TZNAME:EST
DTSTART:20231105T060000
END:STANDARD
BEGIN:DAYLIGHT
TZOFFSETFROM:-0500
TZOFFSETTO:-0400
TZNAME:EDT
DTSTART:20240310T070000
END:DAYLIGHT
BEGIN:STANDARD
TZOFFSETFROM:-0400
TZOFFSETTO:-0500
TZNAME:EST
DTSTART:20241103T060000
END:STANDARD
END:VTIMEZONE
BEGIN:VEVENT
DTSTART;TZID=America/New_York:20230722T100000
DTEND;TZID=America/New_York:20230722T120000
DTSTAMP:20260424T005508
CREATED:20230703T144927Z
LAST-MODIFIED:20240819T221144Z
UID:10078-1690020000-1690027200@fairmountwaterworks.org
SUMMARY:SPLASH: Summer Family Literacy Program
DESCRIPTION:Saturday mornings filled with lively family expeditions at the Fairmount Water Works site along the Schuylkill River! \nExplore the area with guided water-related activities. The fun continues with take-home books and kits full of water-themed activities to do in your neighborhood. \nDates: July 8\, 15\, 22\, 29\, rain or shine\nTime: 10am- 12noon (meet across from the Fountain of the Sea Horses at 10 am) \nOptional round-trip (school) bus transportation will be provided for those traveling from the adjacent Strawberry Mansion neighborhood. Bus departs at 9:30 am outside Mander Playground (33rd & Diamond Streets)\, and leaves from the Fairmount Water Works at 12noon. \nThis free program is for families with children 2-8 years old. All siblings welcome. \nRegistration required.
URL:https://fairmountwaterworks.org/event/splash-summer-family-literacy-program-3/
LOCATION:Fairmount Water Works\, 640 Water Works Drive\, Philadelphia\, PA\, 19130\, United States
CATEGORIES:Get Active,Hands-On Science,Literacy
ATTACH;FMTTYPE=image/jpeg:https://fairmountwaterworks.org/wp-content/uploads/pic-1-1.jpg
END:VEVENT
END:VCALENDAR