BEGIN:VCALENDAR
VERSION:2.0
PRODID:-//Fairmount Water Works - ECPv6.15.20//NONSGML v1.0//EN
CALSCALE:GREGORIAN
METHOD:PUBLISH
X-WR-CALNAME:Fairmount Water Works
X-ORIGINAL-URL:https://fairmountwaterworks.org
X-WR-CALDESC:Events for Fairmount Water Works
REFRESH-INTERVAL;VALUE=DURATION:PT1H
X-Robots-Tag:noindex
X-PUBLISHED-TTL:PT1H
BEGIN:VTIMEZONE
TZID:America/New_York
BEGIN:DAYLIGHT
TZOFFSETFROM:-0500
TZOFFSETTO:-0400
TZNAME:EDT
DTSTART:20230312T070000
END:DAYLIGHT
BEGIN:STANDARD
TZOFFSETFROM:-0400
TZOFFSETTO:-0500
TZNAME:EST
DTSTART:20231105T060000
END:STANDARD
BEGIN:DAYLIGHT
TZOFFSETFROM:-0500
TZOFFSETTO:-0400
TZNAME:EDT
DTSTART:20240310T070000
END:DAYLIGHT
BEGIN:STANDARD
TZOFFSETFROM:-0400
TZOFFSETTO:-0500
TZNAME:EST
DTSTART:20241103T060000
END:STANDARD
BEGIN:DAYLIGHT
TZOFFSETFROM:-0500
TZOFFSETTO:-0400
TZNAME:EDT
DTSTART:20250309T070000
END:DAYLIGHT
BEGIN:STANDARD
TZOFFSETFROM:-0400
TZOFFSETTO:-0500
TZNAME:EST
DTSTART:20251102T060000
END:STANDARD
END:VTIMEZONE
BEGIN:VEVENT
DTSTART;TZID=America/New_York:20240420T100000
DTEND;TZID=America/New_York:20240727T170000
DTSTAMP:20260421T060618
CREATED:20240307T204725Z
LAST-MODIFIED:20240819T202733Z
UID:10260-1713607200-1722099600@fairmountwaterworks.org
SUMMARY:WANDERING: Observations of Our Watershed
DESCRIPTION:WANDERING: Observations of Our Watershed\nCome visit FWWIC and view this special exhibition focusing on artists’ observations of our watershed. The curated selection of vintage and contemporary drawings\, paintings and photography by Philadelphia artists captures our rivers\, streams\, wildlife\, and tidal wetlands. The purpose of WANDERING: Observations of Our Watershed\, is to encourage exploration of our watershed\, and discussion of the delicate and crucial balance of an ecosystem in an urban setting. \nCurator and Artist Led Tours\nTwo one-hour tours will be offered at 11am and 1pm on: \n\nApril 20th\nMay 4th and 18th\nJune 1st\, 15th and 29th\nJuly 13th and 27th\n\nRegister for a tour \nHours: 10 AM – 5 PM     Wednesday through Saturday
URL:https://fairmountwaterworks.org/event/wandering-observations-of-our-watershed-2/
LOCATION:Fairmount Water Works\, 640 Water Works Drive\, Philadelphia\, PA\, 19130\, United States
CATEGORIES:Arts & Culture
ATTACH;FMTTYPE=image/jpeg:https://fairmountwaterworks.org/wp-content/uploads/Winter-on-the-River_MAChappell_3.jpeg
END:VEVENT
END:VCALENDAR