BEGIN:VCALENDAR
VERSION:2.0
PRODID:-//Fairmount Water Works - ECPv6.15.20//NONSGML v1.0//EN
CALSCALE:GREGORIAN
METHOD:PUBLISH
X-ORIGINAL-URL:https://fairmountwaterworks.org
X-WR-CALDESC:Events for Fairmount Water Works
REFRESH-INTERVAL;VALUE=DURATION:PT1H
X-Robots-Tag:noindex
X-PUBLISHED-TTL:PT1H
BEGIN:VTIMEZONE
TZID:America/New_York
BEGIN:DAYLIGHT
TZOFFSETFROM:-0500
TZOFFSETTO:-0400
TZNAME:EDT
DTSTART:20240310T070000
END:DAYLIGHT
BEGIN:STANDARD
TZOFFSETFROM:-0400
TZOFFSETTO:-0500
TZNAME:EST
DTSTART:20241103T060000
END:STANDARD
BEGIN:DAYLIGHT
TZOFFSETFROM:-0500
TZOFFSETTO:-0400
TZNAME:EDT
DTSTART:20250309T070000
END:DAYLIGHT
BEGIN:STANDARD
TZOFFSETFROM:-0400
TZOFFSETTO:-0500
TZNAME:EST
DTSTART:20251102T060000
END:STANDARD
BEGIN:DAYLIGHT
TZOFFSETFROM:-0500
TZOFFSETTO:-0400
TZNAME:EDT
DTSTART:20260308T070000
END:DAYLIGHT
BEGIN:STANDARD
TZOFFSETFROM:-0400
TZOFFSETTO:-0500
TZNAME:EST
DTSTART:20261101T060000
END:STANDARD
END:VTIMEZONE
BEGIN:VEVENT
DTSTART;TZID=America/New_York:20250219T100000
DTEND;TZID=America/New_York:20250222T170000
DTSTAMP:20260421T133336
CREATED:20250722T164631Z
LAST-MODIFIED:20250722T164631Z
UID:11957-1739959200-1740243600@fairmountwaterworks.org
SUMMARY:Trash Free Waters Art Show
DESCRIPTION:Come view a selection of entries from the 2023 Trash Free Waters Art Contest\, organized by the Partnership for the Delaware Estuary. \nArtists from across the Delaware Estuary region were asked to create a piece of artwork related to the theme of Trash Free Waters. Artwork could use any medium\, but had to be created on a provided 12″ by 9″ canvas. The goal of the art contest was to bring awareness to the problem of aquatic trash and highlight the ways people can help be part of the solution. \nWinners were chosen by public vote at the 2023 Delaware River Festival\, held at Penn’s Landing in Philadelphia on September 9th. \nWinning artwork have been turned into advertisements to help share the message of the importance of keeping out local waterways trash free! \nView during Interpretive Center hours starting August 10: Wednesday – Saturday: 10am-5pm
URL:https://fairmountwaterworks.org/event/trash-free-waters-art-show-32/
LOCATION:Fairmount Water Works\, 640 Water Works Drive\, Philadelphia\, PA\, 19130\, United States
CATEGORIES:Arts & Culture,Exhibitions
ATTACH;FMTTYPE=image/jpeg:https://fairmountwaterworks.org/wp-content/uploads/Todd-edited-scaled.jpg
END:VEVENT
BEGIN:VEVENT
DTSTART;TZID=America/New_York:20250222T110000
DTEND;TZID=America/New_York:20250222T140000
DTSTAMP:20260421T133336
CREATED:20241226T173632Z
LAST-MODIFIED:20250221T200826Z
UID:11423-1740222000-1740232800@fairmountwaterworks.org
SUMMARY:MIGHTY MUSSEL POP-UP
DESCRIPTION:DROP IN! NO RESERVATIONS NEEDED! \n\nFreshwater mussels have been described as nature’s own ‘mini water-filtration plants’. They are able to remove suspended algae\, detritus and even toxins from their aquatic homes. Join us to find out how we are working to restore populations of native freshwater mussels in our urban waterways! Paint a mussel shell\, play mussel games\, do mussel puzzles\, visit our hatchery and more! \n \n\nFor families and all ages!
URL:https://fairmountwaterworks.org/event/pop-up-mussel-shell-art/
LOCATION:Fairmount Water Works\, 640 Water Works Drive\, Philadelphia\, PA\, 19130\, United States
CATEGORIES:Pop-Up
ATTACH;FMTTYPE=image/avif:https://fairmountwaterworks.org/wp-content/uploads/2024/12/painted-mussel-shell.avif
END:VEVENT
END:VCALENDAR