BEGIN:VCALENDAR
VERSION:2.0
PRODID:-//Fairmount Water Works - ECPv6.15.20//NONSGML v1.0//EN
CALSCALE:GREGORIAN
METHOD:PUBLISH
X-ORIGINAL-URL:https://fairmountwaterworks.org
X-WR-CALDESC:Events for Fairmount Water Works
REFRESH-INTERVAL;VALUE=DURATION:PT1H
X-Robots-Tag:noindex
X-PUBLISHED-TTL:PT1H
BEGIN:VTIMEZONE
TZID:America/New_York
BEGIN:DAYLIGHT
TZOFFSETFROM:-0500
TZOFFSETTO:-0400
TZNAME:EDT
DTSTART:20240310T070000
END:DAYLIGHT
BEGIN:STANDARD
TZOFFSETFROM:-0400
TZOFFSETTO:-0500
TZNAME:EST
DTSTART:20241103T060000
END:STANDARD
BEGIN:DAYLIGHT
TZOFFSETFROM:-0500
TZOFFSETTO:-0400
TZNAME:EDT
DTSTART:20250309T070000
END:DAYLIGHT
BEGIN:STANDARD
TZOFFSETFROM:-0400
TZOFFSETTO:-0500
TZNAME:EST
DTSTART:20251102T060000
END:STANDARD
BEGIN:DAYLIGHT
TZOFFSETFROM:-0500
TZOFFSETTO:-0400
TZNAME:EDT
DTSTART:20260308T070000
END:DAYLIGHT
BEGIN:STANDARD
TZOFFSETFROM:-0400
TZOFFSETTO:-0500
TZNAME:EST
DTSTART:20261101T060000
END:STANDARD
END:VTIMEZONE
BEGIN:VEVENT
DTSTART;TZID=America/New_York:20250503T110000
DTEND;TZID=America/New_York:20250503T120000
DTSTAMP:20260424T120852
CREATED:20250325T200932Z
LAST-MODIFIED:20250410T203609Z
UID:11580-1746270000-1746273600@fairmountwaterworks.org
SUMMARY:Curator-Led Tour of CONFLUENCE
DESCRIPTION:ART EXHIBIT TOURS\nCONFLUENCE: 3rd ANNUAL ART EXHIBIT AT FWWIC\nWe welcome visitors to register in advance for personal and engaging tours with Thom Duffy\, Curator. Visitors will also be greeted by contributing artists. Don’t miss this opportunity to hear from artists who are featured in this special exhibition ! \nRegister HERE.
URL:https://fairmountwaterworks.org/event/curator-led-tour-of-confluence/
LOCATION:Fairmount Water Works\, 640 Water Works Drive\, Philadelphia\, PA\, 19130\, United States
CATEGORIES:Arts & Culture
ATTACH;FMTTYPE=image/jpeg:https://fairmountwaterworks.org/wp-content/uploads/2025/03/Fenton-Susan-Pink-Hat-and-Floral-Frame-KM.jpg.jpeg
END:VEVENT
BEGIN:VEVENT
DTSTART;TZID=America/New_York:20250503T120000
DTEND;TZID=America/New_York:20250503T130000
DTSTAMP:20260424T120852
CREATED:20250425T203120Z
LAST-MODIFIED:20250425T205523Z
UID:11701-1746273600-1746277200@fairmountwaterworks.org
SUMMARY:Bodies of Water Dance Performance
DESCRIPTION:The Naked Stark is a Partner in Movement at Fairmount Water Works. Come and celebrate the first performance of their residency! \nFree performances will be shown in tandem with free gallery tours of the Fairmount Water Works’ new art exhibit “CONFLUENCE.” \nMay 3\, 12 PM & 12:30 PM \nCome for am art tour at 11pm and stay for a dance performance at 12pm!\nCome for a dance performance at 12:30 and stay for an art tour at 1pm!
URL:https://fairmountwaterworks.org/event/bodies-of-water/
LOCATION:Fairmount Water Works Interpretive Center\, 640 Water Works Drive\, Philadelphia\, PA\, 19130
CATEGORIES:Arts & Culture,Exhibitions
ATTACH;FMTTYPE=image/png:https://fairmountwaterworks.org/wp-content/uploads/2025/04/2.png
END:VEVENT
BEGIN:VEVENT
DTSTART;TZID=America/New_York:20250503T120000
DTEND;TZID=America/New_York:20250503T130000
DTSTAMP:20260424T120852
CREATED:20250430T191423Z
LAST-MODIFIED:20250430T191843Z
UID:11726-1746273600-1746277200@fairmountwaterworks.org
SUMMARY:HISTORIC PRESERVATION TOUR
DESCRIPTION:A special guided tour of the exterior grounds of the Fairmount Water Works\, a National Historic Landmark.\n \nRegister here.
URL:https://fairmountwaterworks.org/event/historic-preservation-tours-4/
LOCATION:Fairmount Water Works\, 640 Water Works Drive\, Philadelphia\, PA\, 19130\, United States
CATEGORIES:Tour
ATTACH;FMTTYPE=image/jpeg:https://fairmountwaterworks.org/wp-content/uploads/service-pnp-det-4a00000-4a06000-4a06100-4a06159v.jpg
END:VEVENT
BEGIN:VEVENT
DTSTART;TZID=America/New_York:20250503T130000
DTEND;TZID=America/New_York:20250503T140000
DTSTAMP:20260424T120852
CREATED:20250325T201029Z
LAST-MODIFIED:20250410T203631Z
UID:11582-1746277200-1746280800@fairmountwaterworks.org
SUMMARY:Curator-Led Tour of CONFLUENCE
DESCRIPTION:ART EXHIBIT TOURS\nCONFLUENCE: 3rd ANNUAL ART EXHIBIT AT FWWIC\nWe welcome visitors to register in advance for personal and engaging tours with Thom Duffy\, Curator. Visitors will also be greeted by contributing artists. Don’t miss this opportunity to hear from artists who are featured in this special exhibition ! \nRegister HERE.
URL:https://fairmountwaterworks.org/event/curator-led-tour-of-confluence-2/
LOCATION:Fairmount Water Works\, 640 Water Works Drive\, Philadelphia\, PA\, 19130\, United States
CATEGORIES:Arts & Culture
ATTACH;FMTTYPE=image/jpeg:https://fairmountwaterworks.org/wp-content/uploads/2025/03/Fenton-Susan-Pink-Hat-and-Floral-Frame-KM.jpg.jpeg
END:VEVENT
END:VCALENDAR