BEGIN:VCALENDAR
VERSION:2.0
PRODID:-//Fairmount Water Works - ECPv6.15.20//NONSGML v1.0//EN
CALSCALE:GREGORIAN
METHOD:PUBLISH
X-ORIGINAL-URL:https://fairmountwaterworks.org
X-WR-CALDESC:Events for Fairmount Water Works
REFRESH-INTERVAL;VALUE=DURATION:PT1H
X-Robots-Tag:noindex
X-PUBLISHED-TTL:PT1H
BEGIN:VTIMEZONE
TZID:America/New_York
BEGIN:DAYLIGHT
TZOFFSETFROM:-0500
TZOFFSETTO:-0400
TZNAME:EDT
DTSTART:20240310T070000
END:DAYLIGHT
BEGIN:STANDARD
TZOFFSETFROM:-0400
TZOFFSETTO:-0500
TZNAME:EST
DTSTART:20241103T060000
END:STANDARD
BEGIN:DAYLIGHT
TZOFFSETFROM:-0500
TZOFFSETTO:-0400
TZNAME:EDT
DTSTART:20250309T070000
END:DAYLIGHT
BEGIN:STANDARD
TZOFFSETFROM:-0400
TZOFFSETTO:-0500
TZNAME:EST
DTSTART:20251102T060000
END:STANDARD
BEGIN:DAYLIGHT
TZOFFSETFROM:-0500
TZOFFSETTO:-0400
TZNAME:EDT
DTSTART:20260308T070000
END:DAYLIGHT
BEGIN:STANDARD
TZOFFSETFROM:-0400
TZOFFSETTO:-0500
TZNAME:EST
DTSTART:20261101T060000
END:STANDARD
END:VTIMEZONE
BEGIN:VEVENT
DTSTART;TZID=America/New_York:20250531T110000
DTEND;TZID=America/New_York:20250531T120000
DTSTAMP:20260424T120900
CREATED:20250423T163249Z
LAST-MODIFIED:20250423T163249Z
UID:11624-1748689200-1748692800@fairmountwaterworks.org
SUMMARY:Curator-Led Tour of CONFLUENCE
DESCRIPTION:ART EXHIBIT TOURS\nCONFLUENCE: 3rd ANNUAL ART EXHIBIT AT FWWIC\nWe welcome visitors to register in advance for personal and engaging tours with Thom Duffy\, Curator. Visitors will also be greeted by contributing artists. Don’t miss this opportunity to hear from artists who are featured in this special exhibition ! \nRegister HERE.
URL:https://fairmountwaterworks.org/event/curator-led-tour-of-confluence-9/
LOCATION:Fairmount Water Works\, 640 Water Works Drive\, Philadelphia\, PA\, 19130\, United States
CATEGORIES:Arts & Culture
ATTACH;FMTTYPE=image/jpeg:https://fairmountwaterworks.org/wp-content/uploads/2025/03/Fenton-Susan-Pink-Hat-and-Floral-Frame-KM.jpg.jpeg
END:VEVENT
BEGIN:VEVENT
DTSTART;TZID=America/New_York:20250531T110000
DTEND;TZID=America/New_York:20250531T140000
DTSTAMP:20260424T120900
CREATED:20250507T170941Z
LAST-MODIFIED:20250507T170941Z
UID:11762-1748689200-1748700000@fairmountwaterworks.org
SUMMARY:Pop-Up: Let's Go Fishing
DESCRIPTION:Let’s Go Fishing Pop-Up\nJoin us to learn about the fish living in the Schuylkill River. Playing our Fish Game will allow you to use one of our fishing poles to try your hand at catching a fish! No registration needed – just drop in! We provide all equipment needed.\nLocation: Fairmount Water Works Interpretive Center\, 640 Water Works Drive 19130
URL:https://fairmountwaterworks.org/event/pop-up-lets-go-fishing/
LOCATION:Fairmount Water Works Interpretive Center\, 640 Water Works Drive\, Philadelphia\, PA\, 19130
CATEGORIES:Get Active,Hands-On Science,Pop-Up
ATTACH;FMTTYPE=image/jpeg:https://fairmountwaterworks.org/wp-content/uploads/2025/05/poster_id_shad-herring.jpeg
END:VEVENT
BEGIN:VEVENT
DTSTART;TZID=America/New_York:20250531T120000
DTEND;TZID=America/New_York:20250531T130000
DTSTAMP:20260424T120900
CREATED:20250430T192208Z
LAST-MODIFIED:20250430T192208Z
UID:11745-1748692800-1748696400@fairmountwaterworks.org
SUMMARY:HISTORIC PRESERVATION TOUR
DESCRIPTION:A special guided tour of the exterior grounds of the Fairmount Water Works\, a National Historic Landmark.\n \nRegister here.
URL:https://fairmountwaterworks.org/event/historic-preservation-tour-13/
LOCATION:Fairmount Water Works\, 640 Water Works Drive\, Philadelphia\, PA\, 19130\, United States
CATEGORIES:Tour
ATTACH;FMTTYPE=image/jpeg:https://fairmountwaterworks.org/wp-content/uploads/service-pnp-det-4a00000-4a06000-4a06100-4a06159v.jpg
END:VEVENT
BEGIN:VEVENT
DTSTART;TZID=America/New_York:20250531T130000
DTEND;TZID=America/New_York:20250531T140000
DTSTAMP:20260424T120900
CREATED:20250423T163310Z
LAST-MODIFIED:20250423T163310Z
UID:11626-1748696400-1748700000@fairmountwaterworks.org
SUMMARY:Curator-Led Tour of CONFLUENCE
DESCRIPTION:ART EXHIBIT TOURS\nCONFLUENCE: 3rd ANNUAL ART EXHIBIT AT FWWIC\nWe welcome visitors to register in advance for personal and engaging tours with Thom Duffy\, Curator. Visitors will also be greeted by contributing artists. Don’t miss this opportunity to hear from artists who are featured in this special exhibition ! \nRegister HERE.
URL:https://fairmountwaterworks.org/event/curator-led-tour-of-confluence-10/
LOCATION:Fairmount Water Works\, 640 Water Works Drive\, Philadelphia\, PA\, 19130\, United States
CATEGORIES:Arts & Culture
ATTACH;FMTTYPE=image/jpeg:https://fairmountwaterworks.org/wp-content/uploads/2025/03/Fenton-Susan-Pink-Hat-and-Floral-Frame-KM.jpg.jpeg
END:VEVENT
END:VCALENDAR