BEGIN:VCALENDAR
VERSION:2.0
PRODID:-//Fairmount Water Works - ECPv6.15.20//NONSGML v1.0//EN
CALSCALE:GREGORIAN
METHOD:PUBLISH
X-WR-CALNAME:Fairmount Water Works
X-ORIGINAL-URL:https://fairmountwaterworks.org
X-WR-CALDESC:Events for Fairmount Water Works
REFRESH-INTERVAL;VALUE=DURATION:PT1H
X-Robots-Tag:noindex
X-PUBLISHED-TTL:PT1H
BEGIN:VTIMEZONE
TZID:America/New_York
BEGIN:DAYLIGHT
TZOFFSETFROM:-0500
TZOFFSETTO:-0400
TZNAME:EDT
DTSTART:20240310T070000
END:DAYLIGHT
BEGIN:STANDARD
TZOFFSETFROM:-0400
TZOFFSETTO:-0500
TZNAME:EST
DTSTART:20241103T060000
END:STANDARD
BEGIN:DAYLIGHT
TZOFFSETFROM:-0500
TZOFFSETTO:-0400
TZNAME:EDT
DTSTART:20250309T070000
END:DAYLIGHT
BEGIN:STANDARD
TZOFFSETFROM:-0400
TZOFFSETTO:-0500
TZNAME:EST
DTSTART:20251102T060000
END:STANDARD
BEGIN:DAYLIGHT
TZOFFSETFROM:-0500
TZOFFSETTO:-0400
TZNAME:EDT
DTSTART:20260308T070000
END:DAYLIGHT
BEGIN:STANDARD
TZOFFSETFROM:-0400
TZOFFSETTO:-0500
TZNAME:EST
DTSTART:20261101T060000
END:STANDARD
END:VTIMEZONE
BEGIN:VEVENT
DTSTART;VALUE=DATE:20251224
DTEND;VALUE=DATE:20251225
DTSTAMP:20260423T181035
CREATED:20251223T191010Z
LAST-MODIFIED:20251223T191010Z
UID:12617-1766534400-1766620799@fairmountwaterworks.org
SUMMARY:OPEN 10am-1pm
DESCRIPTION:
URL:https://fairmountwaterworks.org/event/open-10am-1pm/
LOCATION:Fairmount Water Works Interpretive Center\, 640 Water Works Drive\, Philadelphia\, PA\, 19130
CATEGORIES:CLOSED
ATTACH;FMTTYPE=image/jpeg:https://fairmountwaterworks.org/wp-content/uploads/Winter-on-the-River_MAChappell_3.jpeg
END:VEVENT
END:VCALENDAR