BEGIN:VCALENDAR
VERSION:2.0
PRODID:-//Fairmount Water Works - ECPv6.15.20//NONSGML v1.0//EN
CALSCALE:GREGORIAN
METHOD:PUBLISH
X-WR-CALNAME:Fairmount Water Works
X-ORIGINAL-URL:https://fairmountwaterworks.org
X-WR-CALDESC:Events for Fairmount Water Works
REFRESH-INTERVAL;VALUE=DURATION:PT1H
X-Robots-Tag:noindex
X-PUBLISHED-TTL:PT1H
BEGIN:VTIMEZONE
TZID:America/New_York
BEGIN:DAYLIGHT
TZOFFSETFROM:-0500
TZOFFSETTO:-0400
TZNAME:EDT
DTSTART:20240310T070000
END:DAYLIGHT
BEGIN:STANDARD
TZOFFSETFROM:-0400
TZOFFSETTO:-0500
TZNAME:EST
DTSTART:20241103T060000
END:STANDARD
BEGIN:DAYLIGHT
TZOFFSETFROM:-0500
TZOFFSETTO:-0400
TZNAME:EDT
DTSTART:20250309T070000
END:DAYLIGHT
BEGIN:STANDARD
TZOFFSETFROM:-0400
TZOFFSETTO:-0500
TZNAME:EST
DTSTART:20251102T060000
END:STANDARD
BEGIN:DAYLIGHT
TZOFFSETFROM:-0500
TZOFFSETTO:-0400
TZNAME:EDT
DTSTART:20260308T070000
END:DAYLIGHT
BEGIN:STANDARD
TZOFFSETFROM:-0400
TZOFFSETTO:-0500
TZNAME:EST
DTSTART:20261101T060000
END:STANDARD
END:VTIMEZONE
BEGIN:VEVENT
DTSTART;TZID=America/New_York:20251129T110000
DTEND;TZID=America/New_York:20251129T140000
DTSTAMP:20260421T223205
CREATED:20251126T153539Z
LAST-MODIFIED:20251126T161914Z
UID:12554-1764414000-1764424800@fairmountwaterworks.org
SUMMARY:Pop-Up: River Crafts and Collaging
DESCRIPTION:Did you know we have an insect in our river that makes its own home from the environment? Collage custom caddisfly cases with found objects from in and around the Schuylkill River. \nThis is fun for the whole family ! No registration needed. Just drop-in and let your creativity flow! No charge.
URL:https://fairmountwaterworks.org/event/pop-up-river-crafts-and-collaging/
LOCATION:Fairmount Water Works Interpretive Center\, 640 Water Works Drive\, Philadelphia\, PA\, 19130
CATEGORIES:Art activity,Hands-On Science,Pop-Up
ATTACH;FMTTYPE=image/png:https://fairmountwaterworks.org/wp-content/uploads/2025/11/collage-caddisfly-larvae-e1764172111187.png
END:VEVENT
END:VCALENDAR