BEGIN:VCALENDAR
VERSION:2.0
PRODID:-//Fairmount Water Works - ECPv6.15.20//NONSGML v1.0//EN
CALSCALE:GREGORIAN
METHOD:PUBLISH
X-WR-CALNAME:Fairmount Water Works
X-ORIGINAL-URL:https://fairmountwaterworks.org
X-WR-CALDESC:Events for Fairmount Water Works
REFRESH-INTERVAL;VALUE=DURATION:PT1H
X-Robots-Tag:noindex
X-PUBLISHED-TTL:PT1H
BEGIN:VTIMEZONE
TZID:America/New_York
BEGIN:DAYLIGHT
TZOFFSETFROM:-0500
TZOFFSETTO:-0400
TZNAME:EDT
DTSTART:20250309T070000
END:DAYLIGHT
BEGIN:STANDARD
TZOFFSETFROM:-0400
TZOFFSETTO:-0500
TZNAME:EST
DTSTART:20251102T060000
END:STANDARD
BEGIN:DAYLIGHT
TZOFFSETFROM:-0500
TZOFFSETTO:-0400
TZNAME:EDT
DTSTART:20260308T070000
END:DAYLIGHT
BEGIN:STANDARD
TZOFFSETFROM:-0400
TZOFFSETTO:-0500
TZNAME:EST
DTSTART:20261101T060000
END:STANDARD
BEGIN:DAYLIGHT
TZOFFSETFROM:-0500
TZOFFSETTO:-0400
TZNAME:EDT
DTSTART:20270314T070000
END:DAYLIGHT
BEGIN:STANDARD
TZOFFSETFROM:-0400
TZOFFSETTO:-0500
TZNAME:EST
DTSTART:20271107T060000
END:STANDARD
END:VTIMEZONE
BEGIN:VEVENT
DTSTART;TZID=America/New_York:20260103T110000
DTEND;TZID=America/New_York:20260103T140000
DTSTAMP:20260421T183125
CREATED:20251216T182059Z
LAST-MODIFIED:20251216T182250Z
UID:12597-1767438000-1767448800@fairmountwaterworks.org
SUMMARY:Pop-Up: Wondrous World of Winter Adaptations
DESCRIPTION:Join us for a winter POP-UP! \nLearn how cold-blooded residents of the Schuylkill River survive in the winter. Then get creative and design your own aquatic invertebrate to take home! \nAll ages. No registration needed. Just drop in! \nFREE
URL:https://fairmountwaterworks.org/event/the-outside-story-wondrous-world-of-winter-adaptations-4/
LOCATION:Fairmount Water Works Interpretive Center\, 640 Water Works Drive\, Philadelphia\, PA\, 19130
CATEGORIES:Pop-Up
ATTACH;FMTTYPE=image/jpeg:https://fairmountwaterworks.org/wp-content/uploads/2025/12/ice-on-the-SR--rotated.jpeg
END:VEVENT
BEGIN:VEVENT
DTSTART;TZID=America/New_York:20260124T100000
DTEND;TZID=America/New_York:20260124T170000
DTSTAMP:20260421T183125
CREATED:20251216T182033Z
LAST-MODIFIED:20260123T201428Z
UID:12595-1769248800-1769274000@fairmountwaterworks.org
SUMMARY:Dew Drop-In... for fun!
DESCRIPTION:Hands-on activities for all ages! \nAll ages. No registration needed. Just drop in! \nFREE
URL:https://fairmountwaterworks.org/event/the-outside-story-wondrous-world-of-winter-adaptations-3/
LOCATION:Fairmount Water Works Interpretive Center\, 640 Water Works Drive\, Philadelphia\, PA\, 19130
CATEGORIES:Art activity,Hands-On Science,Outdoor fun,Pop-Up
ATTACH;FMTTYPE=image/jpeg:https://fairmountwaterworks.org/wp-content/uploads/2025/12/cub-scouts-rotated.jpeg
END:VEVENT
BEGIN:VEVENT
DTSTART;TZID=America/New_York:20260131T100000
DTEND;TZID=America/New_York:20260131T170000
DTSTAMP:20260421T183125
CREATED:20260117T215617Z
LAST-MODIFIED:20260123T201456Z
UID:12685-1769853600-1769878800@fairmountwaterworks.org
SUMMARY:Dew Drop-In... for fun!
DESCRIPTION:Hands-on activities for all ages! \nAll ages. No registration needed. Just drop in! \nFREE
URL:https://fairmountwaterworks.org/event/dew-drop-in-for-fun/
LOCATION:Fairmount Water Works Interpretive Center\, 640 Water Works Drive\, Philadelphia\, PA\, 19130
CATEGORIES:Art activity,Hands-On Science,Outdoor fun,Pop-Up
ATTACH;FMTTYPE=image/jpeg:https://fairmountwaterworks.org/wp-content/uploads/2025/12/cub-scouts-rotated.jpeg
END:VEVENT
END:VCALENDAR