BEGIN:VCALENDAR
VERSION:2.0
PRODID:-//Fairmount Water Works - ECPv6.15.20//NONSGML v1.0//EN
CALSCALE:GREGORIAN
METHOD:PUBLISH
X-ORIGINAL-URL:https://fairmountwaterworks.org
X-WR-CALDESC:Events for Fairmount Water Works
REFRESH-INTERVAL;VALUE=DURATION:PT1H
X-Robots-Tag:noindex
X-PUBLISHED-TTL:PT1H
BEGIN:VTIMEZONE
TZID:America/New_York
BEGIN:DAYLIGHT
TZOFFSETFROM:-0500
TZOFFSETTO:-0400
TZNAME:EDT
DTSTART:20140309T070000
END:DAYLIGHT
BEGIN:STANDARD
TZOFFSETFROM:-0400
TZOFFSETTO:-0500
TZNAME:EST
DTSTART:20141102T060000
END:STANDARD
BEGIN:DAYLIGHT
TZOFFSETFROM:-0500
TZOFFSETTO:-0400
TZNAME:EDT
DTSTART:20150308T070000
END:DAYLIGHT
BEGIN:STANDARD
TZOFFSETFROM:-0400
TZOFFSETTO:-0500
TZNAME:EST
DTSTART:20151101T060000
END:STANDARD
BEGIN:DAYLIGHT
TZOFFSETFROM:-0500
TZOFFSETTO:-0400
TZNAME:EDT
DTSTART:20160313T070000
END:DAYLIGHT
BEGIN:STANDARD
TZOFFSETFROM:-0400
TZOFFSETTO:-0500
TZNAME:EST
DTSTART:20161106T060000
END:STANDARD
END:VTIMEZONE
BEGIN:VEVENT
DTSTART;TZID=America/New_York:20150819T120000
DTEND;TZID=America/New_York:20150819T140000
DTSTAMP:20260422T094833
CREATED:20150308T020304Z
LAST-MODIFIED:20181120T165424Z
UID:2485-1439985600-1439992800@fairmountwaterworks.org
SUMMARY:Lunch & Learn
DESCRIPTION:This special monthly program for lifelong learners combines an intimate one-hour tour of the Fairmount Water Works facility with an outdoor lunch on the grounds overlooking the scenic Schuylkill River. Enjoy learning about the history\, engineering\, architecture and environmental significance of the historic landmark. Purchase tickets here.
URL:https://fairmountwaterworks.org/event/lunch-learn-3/
LOCATION:Fairmount Water Works\, 640 Water Works Drive\, Philadelphia\, PA\, 19130\, United States
CATEGORIES:Social,Tour
ATTACH;FMTTYPE=:
END:VEVENT
BEGIN:VEVENT
DTSTART;TZID=America/New_York:20150829T140000
DTEND;TZID=America/New_York:20150829T200000
DTSTAMP:20260422T094834
CREATED:20150517T003047Z
LAST-MODIFIED:20181120T165424Z
UID:5530-1440856800-1440878400@fairmountwaterworks.org
SUMMARY:Invisible River 2015
DESCRIPTION:The Fairmount Water Works is proud to partner with Invisible River for its annual public art and boating event\, featuring a live music processional through the park\, dance performances on water and suspended from the Strawberry Mansion Bridge\, free boating and paddling lessons\, food vendors\, and a beer garden. Family fun and free for all ages! \nKick off at Mander Recreation Center\, 2140 N. 33rd St. (corner of Diamond St.)\, Philadelphia\, PA 19121
URL:https://fairmountwaterworks.org/event/invisible-river-2015/
LOCATION:PA
CATEGORIES:Arts & Culture,Social,Tour
END:VEVENT
END:VCALENDAR