BEGIN:VCALENDAR
VERSION:2.0
PRODID:-//Fairmount Water Works - ECPv6.15.20//NONSGML v1.0//EN
CALSCALE:GREGORIAN
METHOD:PUBLISH
X-ORIGINAL-URL:https://fairmountwaterworks.org
X-WR-CALDESC:Events for Fairmount Water Works
REFRESH-INTERVAL;VALUE=DURATION:PT1H
X-Robots-Tag:noindex
X-PUBLISHED-TTL:PT1H
BEGIN:VTIMEZONE
TZID:America/New_York
BEGIN:DAYLIGHT
TZOFFSETFROM:-0500
TZOFFSETTO:-0400
TZNAME:EDT
DTSTART:20140309T070000
END:DAYLIGHT
BEGIN:STANDARD
TZOFFSETFROM:-0400
TZOFFSETTO:-0500
TZNAME:EST
DTSTART:20141102T060000
END:STANDARD
BEGIN:DAYLIGHT
TZOFFSETFROM:-0500
TZOFFSETTO:-0400
TZNAME:EDT
DTSTART:20150308T070000
END:DAYLIGHT
BEGIN:STANDARD
TZOFFSETFROM:-0400
TZOFFSETTO:-0500
TZNAME:EST
DTSTART:20151101T060000
END:STANDARD
BEGIN:DAYLIGHT
TZOFFSETFROM:-0500
TZOFFSETTO:-0400
TZNAME:EDT
DTSTART:20160313T070000
END:DAYLIGHT
BEGIN:STANDARD
TZOFFSETFROM:-0400
TZOFFSETTO:-0500
TZNAME:EST
DTSTART:20161106T060000
END:STANDARD
END:VTIMEZONE
BEGIN:VEVENT
DTSTART;TZID=America/New_York:20151120T180000
DTEND;TZID=America/New_York:20151120T200000
DTSTAMP:20260422T024029
CREATED:20151002T162102Z
LAST-MODIFIED:20181120T165424Z
UID:6150-1448042400-1448049600@fairmountwaterworks.org
SUMMARY:Schuylkill Soundings: City in a Park
DESCRIPTION:Meet the authors of City in a Park\, James McClelland and Lynn Miller for a special book signing and lecture at the Fairmount Water Works. \nAbout City in a ParkFairmount Park is the municipal park system of Philadelphia\, Pennsylvania. It consists of more than one hundred parks\, squares\, and green spaces totaling approximately 11\,000 acres\, and is one of the largest landscaped urban park systems in the world. In City in a Park\, James McClelland and Lynn Miller provide an affectionate and comprehensive history of this 200-year-old network of parks. \nFilled with nearly 150 gorgeous full-color photographs\, City in a Park chronicles the continuing efforts to create a twenty-first century version of what founder William Penn desired\, a “greene countrie town.” \nCopies of City in a Park will be available for sale ($39.50).  \nLight refreshments will be served.  \nAdmission is free\, but registration is required.
URL:https://fairmountwaterworks.org/event/schuylkill-soundings-city-in-a-park/
LOCATION:Fairmount Water Works\, 640 Water Works Drive\, Philadelphia\, PA\, 19130\, United States
CATEGORIES:Arts & Culture,Lecture,Social
END:VEVENT
BEGIN:VEVENT
DTSTART;TZID=America/New_York:20151127T130000
DTEND;TZID=America/New_York:20151127T150000
DTSTAMP:20260422T024029
CREATED:20151002T192142Z
LAST-MODIFIED:20181120T165423Z
UID:6159-1448629200-1448636400@fairmountwaterworks.org
SUMMARY:Fall Open  House
DESCRIPTION:Continue your holiday festivities at the Fairmount Water Works! \nEnjoy a special tour of the historic landmark\, including a behind-the-scenes look at Kelly Pool. Eye-level with the Schuylkill\, you’ll walk the same underground paths as a royal family and Olympic swimmers. \nVisitors of all ages will be able to calculate the “water footprint” of their holiday meal during our “Setting the Thanksgiving Water Table” activity. Discover the many ways that water is a part of everything you eat\, drink\, and use throughout your Thanksgiving feast – from the mashed potatoes to the tablecloth – even the main attraction: the turkey! \nWe’ll even serve up some tasty seasonal treats\, including apple cider. \n(Note: The latter portion of the tour requires a hard hat\, and may not be accessible for all of our visitors. Sturdy closed-toe shoes are strongly recommended.)
URL:https://fairmountwaterworks.org/event/fall-open-house/
LOCATION:Fairmount Water Works\, 640 Water Works Drive\, Philadelphia\, PA\, 19130\, United States
CATEGORIES:Social,Tour
END:VEVENT
BEGIN:VEVENT
DTSTART;TZID=America/New_York:20151128T130000
DTEND;TZID=America/New_York:20151128T150000
DTSTAMP:20260422T024029
CREATED:20151002T192322Z
LAST-MODIFIED:20181120T165423Z
UID:6161-1448715600-1448722800@fairmountwaterworks.org
SUMMARY:Fall Open  House
DESCRIPTION:Continue your holiday festivities at the Fairmount Water Works! \nEnjoy a special tour of the historic landmark\, including a behind-the-scenes look at Kelly Pool. Eye-level with the Schuylkill\, you’ll walk the same underground paths as a royal family and Olympic swimmers. \nVisitors of all ages will be able to calculate the “water footprint” of their holiday meal during our “Setting the Thanksgiving Water Table” activity. Discover the many ways that water is a part of everything you eat\, drink\, and use throughout your Thanksgiving feast – from the mashed potatoes to the tablecloth – even the main attraction: the turkey! \nWe’ll even serve up some tasty seasonal treats\, including apple cider. \n(Note: The latter portion of the tour requires a hard hat\, and may not be accessible for all of our visitors. Sturdy closed-toe shoes are strongly recommended.)
URL:https://fairmountwaterworks.org/event/fall-open-house-2/
LOCATION:Fairmount Water Works\, 640 Water Works Drive\, Philadelphia\, PA\, 19130\, United States
CATEGORIES:Social,Tour
END:VEVENT
END:VCALENDAR