BEGIN:VCALENDAR
VERSION:2.0
PRODID:-//Fairmount Water Works - ECPv6.15.20//NONSGML v1.0//EN
CALSCALE:GREGORIAN
METHOD:PUBLISH
X-ORIGINAL-URL:https://fairmountwaterworks.org
X-WR-CALDESC:Events for Fairmount Water Works
REFRESH-INTERVAL;VALUE=DURATION:PT1H
X-Robots-Tag:noindex
X-PUBLISHED-TTL:PT1H
BEGIN:VTIMEZONE
TZID:America/New_York
BEGIN:DAYLIGHT
TZOFFSETFROM:-0500
TZOFFSETTO:-0400
TZNAME:EDT
DTSTART:20220313T070000
END:DAYLIGHT
BEGIN:STANDARD
TZOFFSETFROM:-0400
TZOFFSETTO:-0500
TZNAME:EST
DTSTART:20221106T060000
END:STANDARD
BEGIN:DAYLIGHT
TZOFFSETFROM:-0500
TZOFFSETTO:-0400
TZNAME:EDT
DTSTART:20230312T070000
END:DAYLIGHT
BEGIN:STANDARD
TZOFFSETFROM:-0400
TZOFFSETTO:-0500
TZNAME:EST
DTSTART:20231105T060000
END:STANDARD
BEGIN:DAYLIGHT
TZOFFSETFROM:-0500
TZOFFSETTO:-0400
TZNAME:EDT
DTSTART:20240310T070000
END:DAYLIGHT
BEGIN:STANDARD
TZOFFSETFROM:-0400
TZOFFSETTO:-0500
TZNAME:EST
DTSTART:20241103T060000
END:STANDARD
END:VTIMEZONE
BEGIN:VEVENT
DTSTART;TZID=America/New_York:20230429T120000
DTEND;TZID=America/New_York:20230429T160000
DTSTAMP:20260425T100320
CREATED:20230328T144450Z
LAST-MODIFIED:20230328T145408Z
UID:9975-1682769600-1682784000@fairmountwaterworks.org
SUMMARY:It Flowed from Fairmount: Brewing History Tour
DESCRIPTION:Sure\, people have loved drinking beer in the park for years\, but did you know that beer was also made on these lands? \nBefore the city created the park\, the banks of the Schuylkill River were valuable to emerging breweries for the harvesting and storage of ice\, and the cold storage of lager beer in underground vaults. \nSchedule: \n\nTalk (12pm – 1pm)\nTour (1pm – 2:30pm)\nTasting (2:30pm – 3:30pm)\nBrass Band Performance (3pm – 4pm)\n\nSponsored by Fairmount Park Conservancy. \nFull details and registration here.
URL:https://fairmountwaterworks.org/event/it-flowed-from-fairmount-brewing-history-tour/
LOCATION:Fairmount Water Works\, 640 Water Works Drive\, Philadelphia\, PA\, 19130\, United States
CATEGORIES:Lecture,Pop-Up,Tour
ATTACH;FMTTYPE=image/jpeg:https://fairmountwaterworks.org/wp-content/uploads/BREW-HISTORY-400x400-1.jpg
END:VEVENT
END:VCALENDAR