BEGIN:VCALENDAR
VERSION:2.0
PRODID:-//Fairmount Water Works - ECPv6.15.20//NONSGML v1.0//EN
CALSCALE:GREGORIAN
METHOD:PUBLISH
X-WR-CALNAME:Fairmount Water Works
X-ORIGINAL-URL:https://fairmountwaterworks.org
X-WR-CALDESC:Events for Fairmount Water Works
REFRESH-INTERVAL;VALUE=DURATION:PT1H
X-Robots-Tag:noindex
X-PUBLISHED-TTL:PT1H
BEGIN:VTIMEZONE
TZID:America/New_York
BEGIN:DAYLIGHT
TZOFFSETFROM:-0500
TZOFFSETTO:-0400
TZNAME:EDT
DTSTART:20230312T070000
END:DAYLIGHT
BEGIN:STANDARD
TZOFFSETFROM:-0400
TZOFFSETTO:-0500
TZNAME:EST
DTSTART:20231105T060000
END:STANDARD
BEGIN:DAYLIGHT
TZOFFSETFROM:-0500
TZOFFSETTO:-0400
TZNAME:EDT
DTSTART:20240310T070000
END:DAYLIGHT
BEGIN:STANDARD
TZOFFSETFROM:-0400
TZOFFSETTO:-0500
TZNAME:EST
DTSTART:20241103T060000
END:STANDARD
BEGIN:DAYLIGHT
TZOFFSETFROM:-0500
TZOFFSETTO:-0400
TZNAME:EDT
DTSTART:20250309T070000
END:DAYLIGHT
BEGIN:STANDARD
TZOFFSETFROM:-0400
TZOFFSETTO:-0500
TZNAME:EST
DTSTART:20251102T060000
END:STANDARD
END:VTIMEZONE
BEGIN:VEVENT
DTSTART;TZID=America/New_York:20240502T130000
DTEND;TZID=America/New_York:20240502T140000
DTSTAMP:20260424T054502
CREATED:20240531T144147Z
LAST-MODIFIED:20240531T144147Z
UID:10365-1714654800-1714658400@fairmountwaterworks.org
SUMMARY:HISTORIC PRESERVATION TOURS
DESCRIPTION:A special guided tour of the exterior grounds of the Fairmount Water Works\, a National Historic Landmark.\nRegister here.
URL:https://fairmountwaterworks.org/event/historic-preservation-tours/
LOCATION:Fairmount Water Works\, 640 Water Works Drive\, Philadelphia\, PA\, 19130\, United States
CATEGORIES:Tour
ATTACH;FMTTYPE=image/jpeg:https://fairmountwaterworks.org/wp-content/uploads/service-pnp-det-4a00000-4a06000-4a06100-4a06159v.jpg
END:VEVENT
BEGIN:VEVENT
DTSTART;TZID=America/New_York:20240504T110000
DTEND;TZID=America/New_York:20240504T120000
DTSTAMP:20260424T054502
CREATED:20240424T200649Z
LAST-MODIFIED:20240513T222048Z
UID:10293-1714820400-1714824000@fairmountwaterworks.org
SUMMARY:Curator-Led Tour of Wandering: Observations of Our Watershed
DESCRIPTION:ART EXHIBIT TOURS\nWANDERING: OBSERVATIONS OF OUR WATERSHED\nWe welcome visitors to register in advance for personal and engaging tours with Thom Duffy\, Curator. Visitors will also be greeted by contributing artists so you won’t want miss this opportunity to hear from artists who are featured in this special exhibition themed on their observations of our regions watersheds. \nRegister HERE.
URL:https://fairmountwaterworks.org/event/curator-led-tour-of-wandering-observations-of-our-watershed/
LOCATION:Fairmount Water Works\, 640 Water Works Drive\, Philadelphia\, PA\, 19130\, United States
CATEGORIES:Arts & Culture,Tour
ATTACH;FMTTYPE=image/jpeg:https://fairmountwaterworks.org/wp-content/uploads/Thom-Intro.jpg
END:VEVENT
BEGIN:VEVENT
DTSTART;TZID=America/New_York:20240516T130000
DTEND;TZID=America/New_York:20240516T140000
DTSTAMP:20260424T054502
CREATED:20240531T144521Z
LAST-MODIFIED:20240531T144521Z
UID:10368-1715864400-1715868000@fairmountwaterworks.org
SUMMARY:HISTORIC PRESERVATION TOURS
DESCRIPTION:A special guided tour of the exterior grounds of the Fairmount Water Works\, a National Historic Landmark. Register here.
URL:https://fairmountwaterworks.org/event/historic-preservation-tours-2/
LOCATION:Fairmount Water Works\, 640 Water Works Drive\, Philadelphia\, PA\, 19130\, United States
CATEGORIES:Tour
ATTACH;FMTTYPE=image/jpeg:https://fairmountwaterworks.org/wp-content/uploads/service-pnp-det-4a00000-4a06000-4a06100-4a06159v.jpg
END:VEVENT
BEGIN:VEVENT
DTSTART;TZID=America/New_York:20240525T130000
DTEND;TZID=America/New_York:20240525T140000
DTSTAMP:20260424T054502
CREATED:20240531T144957Z
LAST-MODIFIED:20240531T145033Z
UID:10370-1716642000-1716645600@fairmountwaterworks.org
SUMMARY:HISTORIC PRESERVATION TOUR
DESCRIPTION:A special guided tour of the exterior grounds of the Fairmount Water Works\, a National Historic Landmark. Register here.
URL:https://fairmountwaterworks.org/event/historic-preservation-tour-3/
LOCATION:Fairmount Water Works\, 640 Water Works Drive\, Philadelphia\, PA\, 19130\, United States
CATEGORIES:Tour
ATTACH;FMTTYPE=image/jpeg:https://fairmountwaterworks.org/wp-content/uploads/service-pnp-det-4a00000-4a06000-4a06100-4a06159v.jpg
END:VEVENT
BEGIN:VEVENT
DTSTART;TZID=America/New_York:20240530T130000
DTEND;TZID=America/New_York:20240530T140000
DTSTAMP:20260424T054502
CREATED:20240531T144742Z
LAST-MODIFIED:20240531T144742Z
UID:10369-1717074000-1717077600@fairmountwaterworks.org
SUMMARY:HISTORIC PRESERVATION TOURS
DESCRIPTION:A special guided tour of the exterior grounds of the Fairmount Water Works\, a National Historic Landmark. Register here.
URL:https://fairmountwaterworks.org/event/historic-preservation-tours-3/
LOCATION:Fairmount Water Works\, 640 Water Works Drive\, Philadelphia\, PA\, 19130\, United States
CATEGORIES:Tour
ATTACH;FMTTYPE=image/jpeg:https://fairmountwaterworks.org/wp-content/uploads/service-pnp-det-4a00000-4a06000-4a06100-4a06159v.jpg
END:VEVENT
END:VCALENDAR