BEGIN:VCALENDAR
VERSION:2.0
PRODID:-//Fairmount Water Works - ECPv6.15.20//NONSGML v1.0//EN
CALSCALE:GREGORIAN
METHOD:PUBLISH
X-ORIGINAL-URL:https://fairmountwaterworks.org
X-WR-CALDESC:Events for Fairmount Water Works
REFRESH-INTERVAL;VALUE=DURATION:PT1H
X-Robots-Tag:noindex
X-PUBLISHED-TTL:PT1H
BEGIN:VTIMEZONE
TZID:America/New_York
BEGIN:DAYLIGHT
TZOFFSETFROM:-0500
TZOFFSETTO:-0400
TZNAME:EDT
DTSTART:20240310T070000
END:DAYLIGHT
BEGIN:STANDARD
TZOFFSETFROM:-0400
TZOFFSETTO:-0500
TZNAME:EST
DTSTART:20241103T060000
END:STANDARD
BEGIN:DAYLIGHT
TZOFFSETFROM:-0500
TZOFFSETTO:-0400
TZNAME:EDT
DTSTART:20250309T070000
END:DAYLIGHT
BEGIN:STANDARD
TZOFFSETFROM:-0400
TZOFFSETTO:-0500
TZNAME:EST
DTSTART:20251102T060000
END:STANDARD
BEGIN:DAYLIGHT
TZOFFSETFROM:-0500
TZOFFSETTO:-0400
TZNAME:EDT
DTSTART:20260308T070000
END:DAYLIGHT
BEGIN:STANDARD
TZOFFSETFROM:-0400
TZOFFSETTO:-0500
TZNAME:EST
DTSTART:20261101T060000
END:STANDARD
END:VTIMEZONE
BEGIN:VEVENT
DTSTART;TZID=America/New_York:20250621T103000
DTEND;TZID=America/New_York:20250621T143000
DTSTAMP:20260423T085850
CREATED:20250606T143504Z
LAST-MODIFIED:20250606T143504Z
UID:11832-1750501800-1750516200@fairmountwaterworks.org
SUMMARY:Get to Know the Schuylkill River - Kayak Program
DESCRIPTION:Start at Fairmount Water Works Interpretive Center: collect water samples from the river and try your hand at identifying some of the microlife we’ll find. Explore the history of Philadelphia’s innovative water supply system. Get to know the freshwater mussel species we are propagating in our hatchery. \nAfter a brief lunch break (bring your own)\, we will hike down the Schuylkill River Trail (about 1 mile) to the Walnut Street Dock\, where kayaks await. Hidden River Outfitters will give a brief orientation to paddling and then we’ll get into our kayaks and out on the river! \nThis program is geared towards families with youth ages 12 and up. (12 years is the minimum age allowed). All participants must sign a kayak waiver\, and participants aged 12-18 must be accompanied by a parent or guardian who will need to sign the minor’s kayak waiver. \nMeet at Fairmount water Works at 10:30am. Space is limited; 20-person maximum. Advance registration required. Fee: $10/person. \nThis program is made possible through a partnership between Fairmount Water Works Interpretive Center and Schuylkill River Development Corporation. \nA bus will be available at Walnut Street to take participants back to FWWIC instead of walking back\, if desired. \nEmail stacey.heffernan@phila.gov\, Environmental Education Planner\, FWWIC\, for more information.
URL:https://fairmountwaterworks.org/event/get-to-know-the-schuylkill-river-kayak-program/
LOCATION:Fairmount Water Works\, 640 Water Works Drive\, Philadelphia\, PA\, 19130\, United States
CATEGORIES:Get Active,Hands-On Science,Tour
ATTACH;FMTTYPE=image/jpeg:https://fairmountwaterworks.org/wp-content/uploads/IMG_1067-1.jpg
END:VEVENT
END:VCALENDAR