BEGIN:VCALENDAR
VERSION:2.0
PRODID:-//Fairmount Water Works - ECPv6.15.20//NONSGML v1.0//EN
CALSCALE:GREGORIAN
METHOD:PUBLISH
X-WR-CALNAME:Fairmount Water Works
X-ORIGINAL-URL:https://fairmountwaterworks.org
X-WR-CALDESC:Events for Fairmount Water Works
REFRESH-INTERVAL;VALUE=DURATION:PT1H
X-Robots-Tag:noindex
X-PUBLISHED-TTL:PT1H
BEGIN:VTIMEZONE
TZID:America/New_York
BEGIN:DAYLIGHT
TZOFFSETFROM:-0500
TZOFFSETTO:-0400
TZNAME:EDT
DTSTART:20220313T070000
END:DAYLIGHT
BEGIN:STANDARD
TZOFFSETFROM:-0400
TZOFFSETTO:-0500
TZNAME:EST
DTSTART:20221106T060000
END:STANDARD
BEGIN:DAYLIGHT
TZOFFSETFROM:-0500
TZOFFSETTO:-0400
TZNAME:EDT
DTSTART:20230312T070000
END:DAYLIGHT
BEGIN:STANDARD
TZOFFSETFROM:-0400
TZOFFSETTO:-0500
TZNAME:EST
DTSTART:20231105T060000
END:STANDARD
BEGIN:DAYLIGHT
TZOFFSETFROM:-0500
TZOFFSETTO:-0400
TZNAME:EDT
DTSTART:20240310T070000
END:DAYLIGHT
BEGIN:STANDARD
TZOFFSETFROM:-0400
TZOFFSETTO:-0500
TZNAME:EST
DTSTART:20241103T060000
END:STANDARD
END:VTIMEZONE
BEGIN:VEVENT
DTSTART;TZID=America/New_York:20230727T163000
DTEND;TZID=America/New_York:20230727T193000
DTSTAMP:20260425T063232
CREATED:20230629T150727Z
LAST-MODIFIED:20230629T151115Z
UID:10073-1690475400-1690486200@fairmountwaterworks.org
SUMMARY:Closing Reception for "SUBMERGED: A Changing Global Climate"
DESCRIPTION:PLEASE JOIN US! \nCatered light fare will be served. \nRefreshments donated by 31st and Wharton. \nCONTRIBUTING GALLERIES/ARTISTS \nIndependent Artists: Loren Berckey\, Diane Burko\, Rhea Cutillo\, Andrea Krupp\, Anabelle Rodríguez\, Laura Storck and Maura Williams \nCerulean Arts Gallery: Pia De Girolamo\, Richard Estell\, Susan B. Howard\, Frederic C. Kaplan\, Michael Rossman and Jill A. Rupinski \nThom Duffy Fine Art: Thom Duffy and Andrés Tavárez \nBridgette Mayer Gallery: Arden Bendler Browning\, Tim McFarlane and Rebecca Rutstein \nSchwarz Gallery: Antique painting by Arthur Melzer \nHollis Taggart: Bill Scott \nThe exhibition is brought to you in part by Fund for the Water Works and the Ed F. Grusheski Water Literacy Foundation.
URL:https://fairmountwaterworks.org/event/closing-reception-for-submerged-a-changing-global-climate/
LOCATION:PA
CATEGORIES:Arts & Culture,Lecture,Tour
ATTACH;FMTTYPE=image/png:https://fairmountwaterworks.org/wp-content/uploads/FWW-Social-Media-Graphics-2.png
END:VEVENT
END:VCALENDAR