BEGIN:VCALENDAR
VERSION:2.0
PRODID:-//Fairmount Water Works - ECPv6.15.20//NONSGML v1.0//EN
CALSCALE:GREGORIAN
METHOD:PUBLISH
X-WR-CALNAME:Fairmount Water Works
X-ORIGINAL-URL:https://fairmountwaterworks.org
X-WR-CALDESC:Events for Fairmount Water Works
REFRESH-INTERVAL;VALUE=DURATION:PT1H
X-Robots-Tag:noindex
X-PUBLISHED-TTL:PT1H
BEGIN:VTIMEZONE
TZID:America/New_York
BEGIN:DAYLIGHT
TZOFFSETFROM:-0500
TZOFFSETTO:-0400
TZNAME:EDT
DTSTART:20220313T070000
END:DAYLIGHT
BEGIN:STANDARD
TZOFFSETFROM:-0400
TZOFFSETTO:-0500
TZNAME:EST
DTSTART:20221106T060000
END:STANDARD
BEGIN:DAYLIGHT
TZOFFSETFROM:-0500
TZOFFSETTO:-0400
TZNAME:EDT
DTSTART:20230312T070000
END:DAYLIGHT
BEGIN:STANDARD
TZOFFSETFROM:-0400
TZOFFSETTO:-0500
TZNAME:EST
DTSTART:20231105T060000
END:STANDARD
BEGIN:DAYLIGHT
TZOFFSETFROM:-0500
TZOFFSETTO:-0400
TZNAME:EDT
DTSTART:20240310T070000
END:DAYLIGHT
BEGIN:STANDARD
TZOFFSETFROM:-0400
TZOFFSETTO:-0500
TZNAME:EST
DTSTART:20241103T060000
END:STANDARD
END:VTIMEZONE
BEGIN:VEVENT
DTSTART;TZID=America/New_York:20231220T100000
DTEND;TZID=America/New_York:20231220T170000
DTSTAMP:20260424T160947
CREATED:20231103T150915Z
LAST-MODIFIED:20231115T191346Z
UID:10150-1703066400-1703091600@fairmountwaterworks.org
SUMMARY:FREE MUSEUM DAY during the PHILLY HOLIDAY EXPERIENCE
DESCRIPTION:Come visit on Free Museum Day during the Philly Holiday Experience! We will be offering tours on the hour from 11 am to 2 pm and we will have a fun\, hands-on\, pop-up activity from 11 am – 3 pm in our LAB: \nFish: Playing it Cool around the Holidays! \nDo you wonder what happens in the Schuylkill river in the winter?  What do the fish and other animals do when the water gets cold? Learn about the cold-blooded residents of the Schuylkill river and how they survive the winter.  You will also discover a physical difference between hot and cold water and how that can affect fish in the winter. Be creative and make a fish ornament to take home!
URL:https://fairmountwaterworks.org/event/free-museum-day-during-the-philly-holiday-experience/
LOCATION:PA
CATEGORIES:Arts & Culture,Hands-On Science,Pop-Up,Social,Tour
ATTACH;FMTTYPE=image/jpeg:https://fairmountwaterworks.org/wp-content/uploads/river-mural-fish-scaled.jpg
END:VEVENT
END:VCALENDAR