BEGIN:VCALENDAR
VERSION:2.0
PRODID:-//Fairmount Water Works - ECPv6.15.20//NONSGML v1.0//EN
CALSCALE:GREGORIAN
METHOD:PUBLISH
X-ORIGINAL-URL:https://fairmountwaterworks.org
X-WR-CALDESC:Events for Fairmount Water Works
REFRESH-INTERVAL;VALUE=DURATION:PT1H
X-Robots-Tag:noindex
X-PUBLISHED-TTL:PT1H
BEGIN:VTIMEZONE
TZID:America/New_York
BEGIN:DAYLIGHT
TZOFFSETFROM:-0500
TZOFFSETTO:-0400
TZNAME:EDT
DTSTART:20230312T070000
END:DAYLIGHT
BEGIN:STANDARD
TZOFFSETFROM:-0400
TZOFFSETTO:-0500
TZNAME:EST
DTSTART:20231105T060000
END:STANDARD
BEGIN:DAYLIGHT
TZOFFSETFROM:-0500
TZOFFSETTO:-0400
TZNAME:EDT
DTSTART:20240310T070000
END:DAYLIGHT
BEGIN:STANDARD
TZOFFSETFROM:-0400
TZOFFSETTO:-0500
TZNAME:EST
DTSTART:20241103T060000
END:STANDARD
BEGIN:DAYLIGHT
TZOFFSETFROM:-0500
TZOFFSETTO:-0400
TZNAME:EDT
DTSTART:20250309T070000
END:DAYLIGHT
BEGIN:STANDARD
TZOFFSETFROM:-0400
TZOFFSETTO:-0500
TZNAME:EST
DTSTART:20251102T060000
END:STANDARD
END:VTIMEZONE
BEGIN:VEVENT
DTSTART;TZID=America/New_York:20241026T130000
DTEND;TZID=America/New_York:20241026T143000
DTSTAMP:20260423T194152
CREATED:20240925T170227Z
LAST-MODIFIED:20240925T170227Z
UID:11143-1729947600-1729953000@fairmountwaterworks.org
SUMMARY:Lafayette Historic Tour of Fairmount Water Works
DESCRIPTION:Join the staff from the American Friends of Lafayette and the Fairmount Water Works Interpretive Center for a guided interpretation of the Water Works\, the 1815 engineering marvel that so impressed Lafayette on his Philadelphia visit. \nSelected tours will include excerpts from the writings of both Lafayette and his secretary\, Auguste Levasseur\, about their experience at the site that has now been declared a National Historic Landmark. \nOpen to all\, free admission\nREGISTER HERE
URL:https://fairmountwaterworks.org/event/lafayette-historic-tour-of-fairmount-water-works-2/
LOCATION:Fairmount Water Works\, 640 Water Works Drive\, Philadelphia\, PA\, 19130\, United States
CATEGORIES:Teachers,Tour
ATTACH;FMTTYPE=image/png:https://fairmountwaterworks.org/wp-content/uploads/lafayette-200-logo-960x1240-1-793x1024-1.png
END:VEVENT
END:VCALENDAR