BEGIN:VCALENDAR
VERSION:2.0
PRODID:-//Fairmount Water Works - ECPv6.15.20//NONSGML v1.0//EN
CALSCALE:GREGORIAN
METHOD:PUBLISH
X-ORIGINAL-URL:https://fairmountwaterworks.org
X-WR-CALDESC:Events for Fairmount Water Works
REFRESH-INTERVAL;VALUE=DURATION:PT1H
X-Robots-Tag:noindex
X-PUBLISHED-TTL:PT1H
BEGIN:VTIMEZONE
TZID:America/New_York
BEGIN:DAYLIGHT
TZOFFSETFROM:-0500
TZOFFSETTO:-0400
TZNAME:EDT
DTSTART:20240310T070000
END:DAYLIGHT
BEGIN:STANDARD
TZOFFSETFROM:-0400
TZOFFSETTO:-0500
TZNAME:EST
DTSTART:20241103T060000
END:STANDARD
BEGIN:DAYLIGHT
TZOFFSETFROM:-0500
TZOFFSETTO:-0400
TZNAME:EDT
DTSTART:20250309T070000
END:DAYLIGHT
BEGIN:STANDARD
TZOFFSETFROM:-0400
TZOFFSETTO:-0500
TZNAME:EST
DTSTART:20251102T060000
END:STANDARD
BEGIN:DAYLIGHT
TZOFFSETFROM:-0500
TZOFFSETTO:-0400
TZNAME:EDT
DTSTART:20260308T070000
END:DAYLIGHT
BEGIN:STANDARD
TZOFFSETFROM:-0400
TZOFFSETTO:-0500
TZNAME:EST
DTSTART:20261101T060000
END:STANDARD
END:VTIMEZONE
BEGIN:VEVENT
DTSTART;TZID=America/New_York:20250215T110000
DTEND;TZID=America/New_York:20250215T123000
DTSTAMP:20260421T061253
CREATED:20241226T143059Z
LAST-MODIFIED:20241226T144007Z
UID:11408-1739617200-1739622600@fairmountwaterworks.org
SUMMARY:LOVING LANDMARKS
DESCRIPTION:Join us  at Fairmount Water Works to fall in love all over again with one of Philadelphia’s beloved icons. This architecture tour will shed light on the landmark’s best features through sketching\, photography and more. We will finish the tour inside to make a Valentine to Water with a warm cup of cocoa. \n  \nFamilies are welcome! \n$5 per family or couple – materials fee \n 
URL:https://fairmountwaterworks.org/event/loving-landmarks/
LOCATION:Fairmount Water Works\, 640 Water Works Drive\, Philadelphia\, PA\, 19130\, United States
CATEGORIES:Arts & Culture,CLOSED,Teachers,Tour
ATTACH;FMTTYPE=image/png:https://fairmountwaterworks.org/wp-content/uploads/2024/12/Haer-drawing-1.png
END:VEVENT
END:VCALENDAR