BEGIN:VCALENDAR
VERSION:2.0
PRODID:-//Fairmount Water Works - ECPv6.15.20//NONSGML v1.0//EN
CALSCALE:GREGORIAN
METHOD:PUBLISH
X-ORIGINAL-URL:https://fairmountwaterworks.org
X-WR-CALDESC:Events for Fairmount Water Works
REFRESH-INTERVAL;VALUE=DURATION:PT1H
X-Robots-Tag:noindex
X-PUBLISHED-TTL:PT1H
BEGIN:VTIMEZONE
TZID:America/New_York
BEGIN:DAYLIGHT
TZOFFSETFROM:-0500
TZOFFSETTO:-0400
TZNAME:EDT
DTSTART:20250309T070000
END:DAYLIGHT
BEGIN:STANDARD
TZOFFSETFROM:-0400
TZOFFSETTO:-0500
TZNAME:EST
DTSTART:20251102T060000
END:STANDARD
BEGIN:DAYLIGHT
TZOFFSETFROM:-0500
TZOFFSETTO:-0400
TZNAME:EDT
DTSTART:20260308T070000
END:DAYLIGHT
BEGIN:STANDARD
TZOFFSETFROM:-0400
TZOFFSETTO:-0500
TZNAME:EST
DTSTART:20261101T060000
END:STANDARD
BEGIN:DAYLIGHT
TZOFFSETFROM:-0500
TZOFFSETTO:-0400
TZNAME:EDT
DTSTART:20270314T070000
END:DAYLIGHT
BEGIN:STANDARD
TZOFFSETFROM:-0400
TZOFFSETTO:-0500
TZNAME:EST
DTSTART:20271107T060000
END:STANDARD
END:VTIMEZONE
BEGIN:VEVENT
DTSTART;TZID=America/New_York:20260514T163000
DTEND;TZID=America/New_York:20260514T183000
DTSTAMP:20260422T163001
CREATED:20260123T201937Z
LAST-MODIFIED:20260416T201007Z
UID:12701-1778776200-1778783400@fairmountwaterworks.org
SUMMARY:WE THE PEOPLE: Preserve Our Right To Clean Water Preview Reception
DESCRIPTION:WE THE PEOPLE: Preserve Our Right To Clean Water\n4th Annual Special Fine Art Exhibition\nPreview Reception\nThe Philadelphia Water Department (PWD) has been a national leader in educating the public about the value of clean water and the need for public stewardship of our regional and local watersheds. This exhibition encapsulates these ideas and invites visitors to engage in thought and discussion sparked by a series of events which celebrate clean water including a fine art exhibition\, installations\, dance performances and interactive displays throughout the Fairmount Water Works Interpretive Center (FWWIC). \nThe exhibition will be open to the public from May 16 to August 1\, 2026. \nParticipating Artists: Keith Breitfeller \, *Emily Brown\, Brian David Dennis\, Thom Duffy\, **Benjamin Passione\, Rinal Parikh \, \nAmie Potsic\, Ana Vizcarra Rankin\, Robert Reinhardt and Michael Williamson. \nCourtesy of Galleries: *Avery Galleries and **Gross McCleaf Gallery. \nThe exhibition is curated by Thom Duffy under the direction of Karen Young\, FWWIC Director\, and brought to you in part by the Fund for the Water Works and the Edward F. Grusheski Water Literacy Foundation.
URL:https://fairmountwaterworks.org/event/the-rights-ways-of-water-4th-annual-special-fine-art-exhibition-preview-reception/
LOCATION:Fairmount Water Works Interpretive Center\, 640 Water Works Drive\, Philadelphia\, PA\, 19130
CATEGORIES:Arts & Culture,Exhibitions
ATTACH;FMTTYPE=image/jpeg:https://fairmountwaterworks.org/wp-content/uploads/2026/01/David-Panama-Ben-Passione-44x50.jpg.jpeg
END:VEVENT
BEGIN:VEVENT
DTSTART;TZID=America/New_York:20260520T160000
DTEND;TZID=America/New_York:20260520T173000
DTSTAMP:20260422T163001
CREATED:20260421T195751Z
LAST-MODIFIED:20260421T195751Z
UID:13124-1779292800-1779298200@fairmountwaterworks.org
SUMMARY:World Heritage Month: Loving Our Landmarks Tour
DESCRIPTION:Come experience the story of Philadelphia’s water—past\, present\, and future. Join us for our Cultural Heritage Tour at one of Philadelphia’s most iconic landmarks. See how the Fairmount Water Works continues to meet the challenges of changing times —from a public health crisis in the 1800s\, through the changing climate of the 21st century. \nTour guide Ellen Freedman Schultz\, Director of Strategic Partnerships at the Fairmount Water Works Interpretive Center and Philadelphia Water Department\, will show rarely seen “before” images of the late 20th-century rehabilitation of the site and will talk about other water heritage sites throughout the world. All will inspire conversations about the challenges and possibilities for the protection of our significant water heritage sites. \nThe guided tour will reaffirm that the historic Fairmount Water Works still stands as a beautiful and enduring symbol of the city’s commitment to providing clean public drinking water and across the globe.
URL:https://fairmountwaterworks.org/event/world-heritage-month-loving-our-landmarks-tour-2/
LOCATION:Fairmount Water Works Interpretive Center\, 640 Water Works Drive\, Philadelphia\, PA\, 19130
CATEGORIES:History,Tour
ATTACH;FMTTYPE=image/webp:https://fairmountwaterworks.org/wp-content/uploads/2026/04/image.webp
END:VEVENT
END:VCALENDAR