BEGIN:VCALENDAR
VERSION:2.0
PRODID:-//Fairmount Water Works - ECPv6.15.20//NONSGML v1.0//EN
CALSCALE:GREGORIAN
METHOD:PUBLISH
X-WR-CALNAME:Fairmount Water Works
X-ORIGINAL-URL:https://fairmountwaterworks.org
X-WR-CALDESC:Events for Fairmount Water Works
REFRESH-INTERVAL;VALUE=DURATION:PT1H
X-Robots-Tag:noindex
X-PUBLISHED-TTL:PT1H
BEGIN:VTIMEZONE
TZID:America/New_York
BEGIN:DAYLIGHT
TZOFFSETFROM:-0500
TZOFFSETTO:-0400
TZNAME:EDT
DTSTART:20150308T070000
END:DAYLIGHT
BEGIN:STANDARD
TZOFFSETFROM:-0400
TZOFFSETTO:-0500
TZNAME:EST
DTSTART:20151101T060000
END:STANDARD
BEGIN:DAYLIGHT
TZOFFSETFROM:-0500
TZOFFSETTO:-0400
TZNAME:EDT
DTSTART:20160313T070000
END:DAYLIGHT
BEGIN:STANDARD
TZOFFSETFROM:-0400
TZOFFSETTO:-0500
TZNAME:EST
DTSTART:20161106T060000
END:STANDARD
BEGIN:DAYLIGHT
TZOFFSETFROM:-0500
TZOFFSETTO:-0400
TZNAME:EDT
DTSTART:20170312T070000
END:DAYLIGHT
BEGIN:STANDARD
TZOFFSETFROM:-0400
TZOFFSETTO:-0500
TZNAME:EST
DTSTART:20171105T060000
END:STANDARD
END:VTIMEZONE
BEGIN:VEVENT
DTSTART;VALUE=DATE:20160915
DTEND;VALUE=DATE:20161231
DTSTAMP:20260422T201028
CREATED:20160727T175518Z
LAST-MODIFIED:20181120T165423Z
UID:7194-1473897600-1483142399@fairmountwaterworks.org
SUMMARY:"Falling Waters: The Legacy of the Schuylkill Navigation"
DESCRIPTION:Falling Waters: The Legacy of the Schuylkill Navigation\nA Culture & Conversation Exhibit by Sandy Sorlien \nOn exhibit in our Media Room and stairwell until December 30\, 2016\, during regular hours.\nClosing Reception: Thursday December 29\, 5:30-7 PM\, Gallery Talk 6:15\n\nAbout the Exhibit\nNo human endeavor has had a greater influence on the Schuylkill River than its 19th century network of dams. Yet residents of Southeastern Pennsylvania today may know little about the Schuylkill Navigation\, as most of its infrastructure is gone. There were once 32 dams\, 46 miles of slackwater pools\, 62 miles of canals\, and 120 locks. \nConstructed from 1816-1828 to tame the wild river\, the privately-owned system extended 108 miles from Fairmount to Port Carbon. Thus began a long period of human dominance of the river for our own purposes: transportation\, commerce\, power\, and recreation. Anthracite coal\, other raw materials\, and finished goods were carried on barges over this system\, literally fueling the Industrial Revolution in the Schuylkill Valley. It brought numerous factory boom towns like Norristown\, Conshohocken\, and Manayunk.  Unfortunately\, with this development came heavy pollution of Philadelphia’s drinking water source. Finally in 1947-51\, our state and federal government accomplished a massive cleanup\, the Schuylkill River Project\, dredging coal silt from the river and largely restoring its flow. \nMost of the infrastructure of the Schuylkill Navigation was demolished. But there are four remaining navigation dams\, two desilting dams\, two watered canals\, one working lock\, and numerous dam abutments\, lock ruins\, canal traces\, and silt impoundment basins. Some remnants are buried or overgrown or blocked by railways. In 2013\, photographer Sandy Sorlien began looking for them. \nAt the 200th anniversary of the Schuylkill Navigation\, this exhibition represents the first three years of Sandy’s ongoing quest to photograph all 32 dam sites on her native river. \n“Falling Waters” will be on display at the Fairmount Water Works from September 15 – December 31\, 2016. (The gallery is occasionally used for private events. Calling ahead is suggested.) \nAbout the Artist\nSandy Sorlien is a photographer\, neighborhood planner\, and watershed educator. Her photographs are in the collections of numerous institutions\, including the Philadelphia Museum of Art\, the Michener Museum\, and Haverford College. Since 2012 Sandy has been a contractor at the Fairmount Water Works\, the education arm of Philadelphia Water. She has developed several upriver dam-related programs\, including the Falling Waters tour series and the Schuylkill Dam Series geocaches. She was born and raised in the Schuylkill River watershed and lives in Roxborough near the Manayunk Canal. Sandy rows out of Bachelors Barge Club on Boathouse Row\, and watches carefully for herons\, kingfishers\, and otters – all biological indicators of a healthy river. \nAbout Culture & Conversation\nUsing art as the platform\, Culture & Conversation prompts meaningful\, thought-provoking dialogue about our environment.
URL:https://fairmountwaterworks.org/event/culture-conversation-falling-waters-the-legacy-of-the-schuylkill-navigation-system/
LOCATION:Fairmount Water Works\, 640 Water Works Drive\, Philadelphia\, PA\, 19130\, United States
CATEGORIES:Arts & Culture,Lecture,Social
END:VEVENT
BEGIN:VEVENT
DTSTART;TZID=America/New_York:20161203T140000
DTEND;TZID=America/New_York:20161203T160000
DTSTAMP:20260422T201028
CREATED:20160713T152722Z
LAST-MODIFIED:20181120T191000Z
UID:7162-1480773600-1480780800@fairmountwaterworks.org
SUMMARY:Science Saturday: "Cry(ology) Me a Frozen River: The Science of Ice and Snow"
DESCRIPTION:Drop in every Saturday between 2-4 pm\, and together\, we’ll explore different aspects of our environment during fun and interactive sessions in our water lab. \nIs it a fact that no two snowflakes are the same? How do they form? How many different forms of ice and snow are there? Head to the Water Works to investigate the properties of ice and snow. Learn about the special shape of snowflakes and about a unique type of ice that forms on our local rivers. Make your own “snow” – just add water!
URL:https://fairmountwaterworks.org/event/science-saturday-cryology-me-a-frozen-river-the-science-of-ice-and-snow/
LOCATION:Fairmount Water Works\, 640 Water Works Drive\, Philadelphia\, PA\, 19130\, United States
CATEGORIES:Hands-On Science
END:VEVENT
BEGIN:VEVENT
DTSTART;TZID=America/New_York:20161204T130000
DTEND;TZID=America/New_York:20161204T150000
DTSTAMP:20260422T201028
CREATED:20160604T164003Z
LAST-MODIFIED:20181120T163851Z
UID:7026-1480856400-1480863600@fairmountwaterworks.org
SUMMARY:Sunday Cinema: "Last Call at the Oasis"
DESCRIPTION:Join us every Sunday afternoon for Sunday Cinema – a free series featuring movies and documentaries that surround a water theme. It’s a great family-friendly event\, and we’ll show a different movie every month. (Film selection subject to change.) \n“Last Call at the Oasis”: A documentary on the world’s water crisis.
URL:https://fairmountwaterworks.org/event/sunday-cinema-last-call-at-the-oasis/
LOCATION:Fairmount Water Works\, 640 Water Works Drive\, Philadelphia\, PA\, 19130\, United States
END:VEVENT
BEGIN:VEVENT
DTSTART;TZID=America/New_York:20161204T150000
DTEND;TZID=America/New_York:20161204T170000
DTSTAMP:20260422T201028
CREATED:20160604T164349Z
LAST-MODIFIED:20181120T163851Z
UID:7027-1480863600-1480870800@fairmountwaterworks.org
SUMMARY:Sunday Cinema: "Last Call at the Oasis"
DESCRIPTION:Join us every Sunday afternoon for Sunday Cinema – a free series featuring movies and documentaries that surround a water theme. It’s a great family-friendly event\, and we’ll show a different movie every month. (Film selection subject to change.) \n“Last Call at the Oasis”: A documentary on the world’s water crisis.
URL:https://fairmountwaterworks.org/event/sunday-cinema-free-birds-19/
LOCATION:Fairmount Water Works\, 640 Water Works Drive\, Philadelphia\, PA\, 19130\, United States
END:VEVENT
BEGIN:VEVENT
DTSTART;TZID=America/New_York:20161210T140000
DTEND;TZID=America/New_York:20161210T160000
DTSTAMP:20260422T201028
CREATED:20160713T152811Z
LAST-MODIFIED:20181120T191000Z
UID:7163-1481378400-1481385600@fairmountwaterworks.org
SUMMARY:Science Saturday: "Cry(ology) Me a Frozen River: The Science of Ice and Snow"
DESCRIPTION:Drop in every Saturday between 2-4 pm\, and together\, we’ll explore different aspects of our environment during fun and interactive sessions in our water lab. \nIs it a fact that no two snowflakes are the same? How do they form? How many different forms of ice and snow are there? Head to the Water Works to investigate the properties of ice and snow. Learn about the special shape of snowflakes and about a unique type of ice that forms on our local rivers. Make your own “snow” – just add water!
URL:https://fairmountwaterworks.org/event/science-saturday-cryology-me-a-frozen-river-the-science-of-ice-and-snow-2/
LOCATION:Fairmount Water Works\, 640 Water Works Drive\, Philadelphia\, PA\, 19130\, United States
CATEGORIES:Hands-On Science
END:VEVENT
BEGIN:VEVENT
DTSTART;TZID=America/New_York:20161211T130000
DTEND;TZID=America/New_York:20161211T150000
DTSTAMP:20260422T201028
CREATED:20160604T164604Z
LAST-MODIFIED:20181120T163851Z
UID:7028-1481461200-1481468400@fairmountwaterworks.org
SUMMARY:Sunday Cinema: "Last Call at the Oasis"
DESCRIPTION:Join us every Sunday afternoon for Sunday Cinema – a free series featuring movies and documentaries that surround a water theme. It’s a great family-friendly event\, and we’ll show a different movie every month. (Film selection subject to change.) \n“Last Call at the Oasis”: A documentary on the world’s water crisis.
URL:https://fairmountwaterworks.org/event/sunday-cinema-last-call-at-the-oasis-2/
LOCATION:Fairmount Water Works\, 640 Water Works Drive\, Philadelphia\, PA\, 19130\, United States
END:VEVENT
BEGIN:VEVENT
DTSTART;TZID=America/New_York:20161211T150000
DTEND;TZID=America/New_York:20161211T170000
DTSTAMP:20260422T201028
CREATED:20160604T164659Z
LAST-MODIFIED:20181120T163851Z
UID:7029-1481468400-1481475600@fairmountwaterworks.org
SUMMARY:Sunday Cinema: "Last Call at the Oasis"
DESCRIPTION:Join us every Sunday afternoon for Sunday Cinema – a free series featuring movies and documentaries that surround a water theme. It’s a great family-friendly event\, and we’ll show a different movie every month. (Film selection subject to change.) \n“Last Call at the Oasis”: A documentary on the world’s water crisis.
URL:https://fairmountwaterworks.org/event/sunday-cinema-last-call-at-the-oasis-3/
LOCATION:Fairmount Water Works\, 640 Water Works Drive\, Philadelphia\, PA\, 19130\, United States
END:VEVENT
BEGIN:VEVENT
DTSTART;TZID=America/New_York:20161217T140000
DTEND;TZID=America/New_York:20161217T160000
DTSTAMP:20260422T201028
CREATED:20160713T152847Z
LAST-MODIFIED:20181120T191000Z
UID:7164-1481983200-1481990400@fairmountwaterworks.org
SUMMARY:Science Saturday: "Cry(ology) Me a Frozen River: The Science of Ice and Snow"
DESCRIPTION:Drop in every Saturday between 2-4 pm\, and together\, we’ll explore different aspects of our environment during fun and interactive sessions in our water lab. \nIs it a fact that no two snowflakes are the same? How do they form? How many different forms of ice and snow are there? Head to the Water Works to investigate the properties of ice and snow. Learn about the special shape of snowflakes and about a unique type of ice that forms on our local rivers. Make your own “snow” – just add water!
URL:https://fairmountwaterworks.org/event/science-saturday-cryology-me-a-frozen-river-the-science-of-ice-and-snow-3/
LOCATION:PA
CATEGORIES:Hands-On Science
END:VEVENT
BEGIN:VEVENT
DTSTART;TZID=America/New_York:20161218T130000
DTEND;TZID=America/New_York:20161218T150000
DTSTAMP:20260422T201028
CREATED:20160604T165455Z
LAST-MODIFIED:20181120T163851Z
UID:7030-1482066000-1482073200@fairmountwaterworks.org
SUMMARY:Sunday Cinema: "Last Call at the Oasis"
DESCRIPTION:Join us every Sunday afternoon for Sunday Cinema – a free series featuring movies and documentaries that surround a water theme. It’s a great family-friendly event\, and we’ll show a different movie every month. (Film selection subject to change.) \n“Last Call at the Oasis”: A documentary on the world’s water crisis.
URL:https://fairmountwaterworks.org/event/sunday-cinema-last-call-at-the-oasis-4/
LOCATION:Fairmount Water Works\, 640 Water Works Drive\, Philadelphia\, PA\, 19130\, United States
END:VEVENT
BEGIN:VEVENT
DTSTART;TZID=America/New_York:20161218T150000
DTEND;TZID=America/New_York:20161218T170000
DTSTAMP:20260422T201028
CREATED:20160604T165548Z
LAST-MODIFIED:20181120T163851Z
UID:7031-1482073200-1482080400@fairmountwaterworks.org
SUMMARY:Sunday Cinema: "Last Call at the Oasis"
DESCRIPTION:Join us every Sunday afternoon for Sunday Cinema – a free series featuring movies and documentaries that surround a water theme. It’s a great family-friendly event\, and we’ll show a different movie every month. (Film selection subject to change.) \n“Last Call at the Oasis”: A documentary on the world’s water crisis.
URL:https://fairmountwaterworks.org/event/sunday-cinema-last-call-at-the-oasis-5/
LOCATION:Fairmount Water Works\, 640 Water Works Drive\, Philadelphia\, PA\, 19130\, United States
END:VEVENT
BEGIN:VEVENT
DTSTART;TZID=America/New_York:20161229T173000
DTEND;TZID=America/New_York:20161229T190000
DTSTAMP:20260422T201028
CREATED:20161214T191842Z
LAST-MODIFIED:20181120T165422Z
UID:7303-1483032600-1483038000@fairmountwaterworks.org
SUMMARY:"Falling Waters: The Legacy of the Schuylkill Navigation" (Reception)
DESCRIPTION:Falling Waters: The Legacy of the Schuylkill Navigation\nA Culture & Conversation Exhibit by Sandy Sorlien \nOn exhibit in our Media Room and stairwell until December 30\, 2016\, during regular hours.\nClosing Reception: Thursday December 29\, 5:30-7 PM\, Gallery Talk 6:15\n\nAbout the Exhibit\nNo human endeavor has had a greater influence on the Schuylkill River than its 19th century network of dams. Yet residents of Southeastern Pennsylvania today may know little about the Schuylkill Navigation\, as most of its infrastructure is gone. There were once 32 dams\, 46 miles of slackwater pools\, 62 miles of canals\, and 120 locks. \nConstructed from 1816-1828 to tame the wild river\, the privately-owned system extended 108 miles from Fairmount to Port Carbon. Thus began a long period of human dominance of the river for our own purposes: transportation\, commerce\, power\, and recreation. Anthracite coal\, other raw materials\, and finished goods were carried on barges over this system\, literally fueling the Industrial Revolution in the Schuylkill Valley. It brought numerous factory boom towns like Norristown\, Conshohocken\, and Manayunk.  Unfortunately\, with this development came heavy pollution of Philadelphia’s drinking water source. Finally in 1947-51\, our state and federal government accomplished a massive cleanup\, the Schuylkill River Project\, dredging coal silt from the river and largely restoring its flow. \nMost of the infrastructure of the Schuylkill Navigation was demolished. But there are four remaining navigation dams\, two desilting dams\, two watered canals\, one working lock\, and numerous dam abutments\, lock ruins\, canal traces\, and silt impoundment basins. Some remnants are buried or overgrown or blocked by railways. In 2013\, photographer Sandy Sorlien began looking for them. \nAt the 200th anniversary of the Schuylkill Navigation\, this exhibition represents the first three years of Sandy’s ongoing quest to photograph all 32 dam sites on her native river. \n“Falling Waters” will be on display at the Fairmount Water Works from September 15 – December 31\, 2016. (The gallery is occasionally used for private events. Calling ahead is suggested.) \nAbout the Artist\nSandy Sorlien is a photographer\, neighborhood planner\, and watershed educator. Her photographs are in the collections of numerous institutions\, including the Philadelphia Museum of Art\, the Michener Museum\, and Haverford College. Since 2012 Sandy has been a contractor at the Fairmount Water Works\, the education arm of Philadelphia Water. She has developed several upriver dam-related programs\, including the Falling Waters tour series and the Schuylkill Dam Series geocaches. She was born and raised in the Schuylkill River watershed and lives in Roxborough near the Manayunk Canal. Sandy rows out of Bachelors Barge Club on Boathouse Row\, and watches carefully for herons\, kingfishers\, and otters – all biological indicators of a healthy river. \nAbout Culture & Conversation\nUsing art as the platform\, Culture & Conversation prompts meaningful\, thought-provoking dialogue about our environment.
URL:https://fairmountwaterworks.org/event/falling-waters-the-legacy-of-the-schuylkill-navigation-reception/
LOCATION:Fairmount Water Works\, 640 Water Works Drive\, Philadelphia\, PA\, 19130\, United States
CATEGORIES:Arts & Culture,Lecture,Social
END:VEVENT
END:VCALENDAR