BEGIN:VCALENDAR
VERSION:2.0
PRODID:-//Fairmount Water Works - ECPv6.15.20//NONSGML v1.0//EN
CALSCALE:GREGORIAN
METHOD:PUBLISH
X-ORIGINAL-URL:https://fairmountwaterworks.org
X-WR-CALDESC:Events for Fairmount Water Works
REFRESH-INTERVAL;VALUE=DURATION:PT1H
X-Robots-Tag:noindex
X-PUBLISHED-TTL:PT1H
BEGIN:VTIMEZONE
TZID:America/New_York
BEGIN:DAYLIGHT
TZOFFSETFROM:-0500
TZOFFSETTO:-0400
TZNAME:EDT
DTSTART:20160313T070000
END:DAYLIGHT
BEGIN:STANDARD
TZOFFSETFROM:-0400
TZOFFSETTO:-0500
TZNAME:EST
DTSTART:20161106T060000
END:STANDARD
BEGIN:DAYLIGHT
TZOFFSETFROM:-0500
TZOFFSETTO:-0400
TZNAME:EDT
DTSTART:20170312T070000
END:DAYLIGHT
BEGIN:STANDARD
TZOFFSETFROM:-0400
TZOFFSETTO:-0500
TZNAME:EST
DTSTART:20171105T060000
END:STANDARD
BEGIN:DAYLIGHT
TZOFFSETFROM:-0500
TZOFFSETTO:-0400
TZNAME:EDT
DTSTART:20180311T070000
END:DAYLIGHT
BEGIN:STANDARD
TZOFFSETFROM:-0400
TZOFFSETTO:-0500
TZNAME:EST
DTSTART:20181104T060000
END:STANDARD
END:VTIMEZONE
BEGIN:VEVENT
DTSTART;TZID=America/New_York:20170107T140000
DTEND;TZID=America/New_York:20170107T160000
DTSTAMP:20260422T221102
CREATED:20161216T144853Z
LAST-MODIFIED:20181120T191000Z
UID:7305-1483797600-1483804800@fairmountwaterworks.org
SUMMARY:Science Saturday - "Diatoms: Jewels of the River"
DESCRIPTION:Drop in every Saturday between 2-4 pm\, and together\, we’ll explore different aspects of our environment during fun and interactive sessions in our water lab. \nArt and science meet as you explore the colorful and wondrous microscopic world of water. Discover the complex and intricate beauty of these hidden single-celled algae called diatoms along with their contribution to water quality research. \nDiatoms have a glass-like silica cell wall that consists of two halves that elegantly fit together.  In the 19th century amateur scientists amused themselves by arranging them in intricate patterns\, in the 20th century\, famed woman ecologist Ruth Patrick pioneered the study of these small cells to study water pollution.
URL:https://fairmountwaterworks.org/event/science-saturday-diatoms-jewels-of-the-river/
LOCATION:Fairmount Water Works\, 640 Water Works Drive\, Philadelphia\, PA\, 19130\, United States
CATEGORIES:Hands-On Science
END:VEVENT
BEGIN:VEVENT
DTSTART;TZID=America/New_York:20170108T130000
DTEND;TZID=America/New_York:20170108T170000
DTSTAMP:20260422T221102
CREATED:20170105T155348Z
LAST-MODIFIED:20181120T163850Z
UID:7331-1483880400-1483894800@fairmountwaterworks.org
SUMMARY:A Closer Look at Diatoms
DESCRIPTION:Come visit the Fairmount Water Works during our Sunday operating hours for a self-guided version of “Diatoms: Jewels of the River”. Through a lens\, view these colorful and wonderfully complex hidden algae…
URL:https://fairmountwaterworks.org/event/a-closer-look-at-diatoms-2/
LOCATION:PA
CATEGORIES:Hands-On Science
END:VEVENT
BEGIN:VEVENT
DTSTART;TZID=America/New_York:20170114T140000
DTEND;TZID=America/New_York:20170114T160000
DTSTAMP:20260422T221102
CREATED:20161216T145052Z
LAST-MODIFIED:20181120T191000Z
UID:7308-1484402400-1484409600@fairmountwaterworks.org
SUMMARY:Science Saturday: "Diatoms: Jewels of the River"
DESCRIPTION:Drop in every Saturday between 2-4 pm\, and together\, we’ll explore different aspects of our environment during fun and interactive sessions in our water lab. \nArt and science meet as you explore the colorful and wondrous microscopic world of water. Discover the complex and intricate beauty of these hidden single-celled algae called diatoms along with their contribution to water quality research. \nDiatoms have a glass-like silica cell wall that consists of two halves that elegantly fit together.  In the 19th century amateur scientists amused themselves by arranging them in intricate patterns\, in the 20th century\, famed woman ecologist Ruth Patrick pioneered the study of these small cells to study water pollution.
URL:https://fairmountwaterworks.org/event/science-saturday-diatoms-jewels-of-the-river-2/
LOCATION:Fairmount Water Works\, 640 Water Works Drive\, Philadelphia\, PA\, 19130\, United States
CATEGORIES:Hands-On Science
END:VEVENT
BEGIN:VEVENT
DTSTART;TZID=America/New_York:20170115T130000
DTEND;TZID=America/New_York:20170115T170000
DTSTAMP:20260422T221102
CREATED:20170105T155251Z
LAST-MODIFIED:20181120T163850Z
UID:7329-1484485200-1484499600@fairmountwaterworks.org
SUMMARY:A Closer Look at Diatoms
DESCRIPTION:Come visit the Fairmount Water Works during our Sunday operating hours for a self-guided version of “Diatoms: Jewels of the River”. Through a lens\, view these colorful and wonderfully complex hidden algae… \n  \n  \n 
URL:https://fairmountwaterworks.org/event/a-closer-look-at-diatoms/
LOCATION:Fairmount Water Works\, 640 Water Works Drive\, Philadelphia\, PA\, 19130\, United States
CATEGORIES:Hands-On Science
END:VEVENT
BEGIN:VEVENT
DTSTART;TZID=America/New_York:20170121T140000
DTEND;TZID=America/New_York:20170121T160000
DTSTAMP:20260422T221102
CREATED:20161216T145349Z
LAST-MODIFIED:20181120T190959Z
UID:7309-1485007200-1485014400@fairmountwaterworks.org
SUMMARY:Science Saturday - "Diatoms: Jewels of the River”
DESCRIPTION:Drop in every Saturday between 2-4 pm\, and together\, we’ll explore different aspects of our environment during fun and interactive sessions in our water lab. \nArt and science meet as you explore the colorful and wondrous microscopic world of water. Discover the complex and intricate beauty of these hidden single-celled algae called diatoms along with their contribution to water quality research. \nDiatoms have a glass-like silica cell wall that consists of two halves that elegantly fit together.  In the 19th century amateur scientists amused themselves by arranging them in intricate patterns\, in the 20th century\, famed woman ecologist Ruth Patrick pioneered the study of these small cells to study water pollution.
URL:https://fairmountwaterworks.org/event/science-saturday-diatoms-jewels-of-the-river-3/
LOCATION:PA
CATEGORIES:Hands-On Science
END:VEVENT
BEGIN:VEVENT
DTSTART;TZID=America/New_York:20170122T130000
DTEND;TZID=America/New_York:20170122T170000
DTSTAMP:20260422T221102
CREATED:20170105T155521Z
LAST-MODIFIED:20181120T163850Z
UID:7332-1485090000-1485104400@fairmountwaterworks.org
SUMMARY:A Closer Look at Diatoms
DESCRIPTION:Come visit the Fairmount Water Works during our Sunday operating hours for a self-guided version of “Diatoms: Jewels of the River”. Through a lens\, view these colorful and wonderfully complex hidden algae…
URL:https://fairmountwaterworks.org/event/a-closer-look-at-diatoms-3/
LOCATION:Fairmount Water Works\, 640 Water Works Drive\, Philadelphia\, PA\, 19130\, United States
CATEGORIES:Hands-On Science
END:VEVENT
BEGIN:VEVENT
DTSTART;TZID=America/New_York:20170128T140000
DTEND;TZID=America/New_York:20170128T160000
DTSTAMP:20260422T221102
CREATED:20161216T150917Z
LAST-MODIFIED:20181120T190959Z
UID:7310-1485612000-1485619200@fairmountwaterworks.org
SUMMARY:Science Saturday - "Diatoms: Jewels of the River"
DESCRIPTION:Drop in every Saturday between 2-4 pm\, and together\, we’ll explore different aspects of our environment during fun and interactive sessions in our water lab. \nArt and science meet as you explore the colorful and wondrous microscopic world of water. Discover the complex and intricate beauty of these hidden single-celled algae called diatoms along with their contribution to water quality research. \nDiatoms have a glass-like silica cell wall that consists of two halves that elegantly fit together.  In the 19th century amateur scientists amused themselves by arranging them in intricate patterns\, in the 20th century\, famed woman ecologist Ruth Patrick pioneered the study of these small cells to study water pollution.
URL:https://fairmountwaterworks.org/event/science-saturday-diatoms-jewels-of-the-river-4/
LOCATION:Fairmount Water Works\, 640 Water Works Drive\, Philadelphia\, PA\, 19130\, United States
CATEGORIES:Hands-On Science
END:VEVENT
BEGIN:VEVENT
DTSTART;TZID=America/New_York:20170129T130000
DTEND;TZID=America/New_York:20170129T170000
DTSTAMP:20260422T221102
CREATED:20170105T163042Z
LAST-MODIFIED:20170105T163042Z
UID:7342-1485694800-1485709200@fairmountwaterworks.org
SUMMARY:CLOSED TO THE PUBLIC (Private Event)
DESCRIPTION:
URL:https://fairmountwaterworks.org/event/closed-to-the-public-private-event-2/
LOCATION:Fairmount Water Works\, 640 Water Works Drive\, Philadelphia\, PA\, 19130\, United States
END:VEVENT
END:VCALENDAR