BEGIN:VCALENDAR
VERSION:2.0
PRODID:-//Fairmount Water Works - ECPv6.15.20//NONSGML v1.0//EN
CALSCALE:GREGORIAN
METHOD:PUBLISH
X-WR-CALNAME:Fairmount Water Works
X-ORIGINAL-URL:https://fairmountwaterworks.org
X-WR-CALDESC:Events for Fairmount Water Works
REFRESH-INTERVAL;VALUE=DURATION:PT1H
X-Robots-Tag:noindex
X-PUBLISHED-TTL:PT1H
BEGIN:VTIMEZONE
TZID:America/New_York
BEGIN:DAYLIGHT
TZOFFSETFROM:-0500
TZOFFSETTO:-0400
TZNAME:EDT
DTSTART:20160313T070000
END:DAYLIGHT
BEGIN:STANDARD
TZOFFSETFROM:-0400
TZOFFSETTO:-0500
TZNAME:EST
DTSTART:20161106T060000
END:STANDARD
BEGIN:DAYLIGHT
TZOFFSETFROM:-0500
TZOFFSETTO:-0400
TZNAME:EDT
DTSTART:20170312T070000
END:DAYLIGHT
BEGIN:STANDARD
TZOFFSETFROM:-0400
TZOFFSETTO:-0500
TZNAME:EST
DTSTART:20171105T060000
END:STANDARD
BEGIN:DAYLIGHT
TZOFFSETFROM:-0500
TZOFFSETTO:-0400
TZNAME:EDT
DTSTART:20180311T070000
END:DAYLIGHT
BEGIN:STANDARD
TZOFFSETFROM:-0400
TZOFFSETTO:-0500
TZNAME:EST
DTSTART:20181104T060000
END:STANDARD
END:VTIMEZONE
BEGIN:VEVENT
DTSTART;TZID=America/New_York:20170304T140000
DTEND;TZID=America/New_York:20170304T160000
DTSTAMP:20260423T013918
CREATED:20161216T152406Z
LAST-MODIFIED:20181120T190959Z
UID:7315-1488636000-1488643200@fairmountwaterworks.org
SUMMARY:Science Saturday - "Diatoms: Jewels of the River"
DESCRIPTION:Drop in every Saturday between 2-4 pm\, and together\, we’ll explore different aspects of our environment during fun and interactive sessions in our water lab. \nArt and science meet as you explore the colorful and wondrous microscopic world of water. Discover the complex and intricate beauty of these hidden single-celled algae called diatoms along with their contribution to water quality research. \nDiatoms have a glass-like silica cell wall that consists of two halves that elegantly fit together.  In the 19th century amateur scientists amused themselves by arranging them in intricate patterns\, in the 20th century\, famed woman ecologist Ruth Patrick pioneered the study of these small cells to study water pollution.
URL:https://fairmountwaterworks.org/event/science-saturday-diatoms-jewels-of-the-river-9/
LOCATION:Fairmount Water Works\, 640 Water Works Drive\, Philadelphia\, PA\, 19130\, United States
CATEGORIES:Hands-On Science
END:VEVENT
BEGIN:VEVENT
DTSTART;TZID=America/New_York:20170305T130000
DTEND;TZID=America/New_York:20170305T170000
DTSTAMP:20260423T013918
CREATED:20170105T162641Z
LAST-MODIFIED:20181120T163849Z
UID:7338-1488718800-1488733200@fairmountwaterworks.org
SUMMARY:A Closer Look at Diatoms
DESCRIPTION:Come visit the Fairmount Water Works during our Sunday operating hours for a self-guided version of “Diatoms: Jewels of the River”. Through a lens\, view these colorful and wonderfully complex hidden algae…
URL:https://fairmountwaterworks.org/event/a-closer-look-at-diatoms-9/
LOCATION:Fairmount Water Works\, 640 Water Works Drive\, Philadelphia\, PA\, 19130\, United States
CATEGORIES:Hands-On Science
END:VEVENT
BEGIN:VEVENT
DTSTART;TZID=America/New_York:20170311T140000
DTEND;TZID=America/New_York:20170311T160000
DTSTAMP:20260423T013918
CREATED:20161216T152525Z
LAST-MODIFIED:20181120T190959Z
UID:7316-1489240800-1489248000@fairmountwaterworks.org
SUMMARY:Science Saturday - "Diatoms: Jewels of the River"
DESCRIPTION:Drop in every Saturday between 2-4 pm\, and together\, we’ll explore different aspects of our environment during fun and interactive sessions in our water lab. \nArt and science meet as you explore the colorful and wondrous microscopic world of water. Discover the complex and intricate beauty of these hidden single-celled algae called diatoms along with their contribution to water quality research. \nDiatoms have a glass-like silica cell wall that consists of two halves that elegantly fit together.  In the 19th century amateur scientists amused themselves by arranging them in intricate patterns\, in the 20th century\, famed woman ecologist Ruth Patrick pioneered the study of these small cells to study water pollution.
URL:https://fairmountwaterworks.org/event/science-saturday-diatoms-jewels-of-the-river-10/
LOCATION:PA
CATEGORIES:Hands-On Science
END:VEVENT
BEGIN:VEVENT
DTSTART;TZID=America/New_York:20170312T130000
DTEND;TZID=America/New_York:20170312T170000
DTSTAMP:20260423T013918
CREATED:20170105T162730Z
LAST-MODIFIED:20181120T163849Z
UID:7339-1489323600-1489338000@fairmountwaterworks.org
SUMMARY:A Closer Look at Diatoms
DESCRIPTION:Come visit the Fairmount Water Works during our Sunday operating hours for a self-guided version of “Diatoms: Jewels of the River”. Through a lens\, view these colorful and wonderfully complex hidden algae…
URL:https://fairmountwaterworks.org/event/a-closer-look-at-diatoms-10/
LOCATION:Fairmount Water Works\, 640 Water Works Drive\, Philadelphia\, PA\, 19130\, United States
CATEGORIES:Hands-On Science
END:VEVENT
BEGIN:VEVENT
DTSTART;TZID=America/New_York:20170312T140000
DTEND;TZID=America/New_York:20170312T160000
DTSTAMP:20260423T013918
CREATED:20170222T204214Z
LAST-MODIFIED:20181120T185524Z
UID:7374-1489327200-1489334400@fairmountwaterworks.org
SUMMARY:Fracking: Up Close and Personal Eye Witness Report from Dimock\, PA
DESCRIPTION:Join the Women’s International League for Peace and Freedom (Greater Philadelphia Branch) as local residents discuss how their communities have been affected by fracking. Also hear about the important work of local environmental organizations. \nThis event is open to the public. \nClick here for the event flyer.
URL:https://fairmountwaterworks.org/event/fracking-up-close-and-personal-eye-witness-report-from-dimock-pa/
LOCATION:Fairmount Water Works\, 640 Water Works Drive\, Philadelphia\, PA\, 19130\, United States
CATEGORIES:Lecture
END:VEVENT
BEGIN:VEVENT
DTSTART;TZID=America/New_York:20170318T140000
DTEND;TZID=America/New_York:20170318T160000
DTSTAMP:20260423T013918
CREATED:20161216T152635Z
LAST-MODIFIED:20181120T190959Z
UID:7317-1489845600-1489852800@fairmountwaterworks.org
SUMMARY:Science Saturday - "Diatoms: Jewels of the River"
DESCRIPTION:Drop in every Saturday between 2-4 pm\, and together\, we’ll explore different aspects of our environment during fun and interactive sessions in our water lab. \nArt and science meet as you explore the colorful and wondrous microscopic world of water. Discover the complex and intricate beauty of these hidden single-celled algae called diatoms along with their contribution to water quality research. \nDiatoms have a glass-like silica cell wall that consists of two halves that elegantly fit together.  In the 19th century amateur scientists amused themselves by arranging them in intricate patterns\, in the 20th century\, famed woman ecologist Ruth Patrick pioneered the study of these small cells to study water pollution.
URL:https://fairmountwaterworks.org/event/science-saturday-diatoms-jewels-of-the-river-11/
LOCATION:Fairmount Water Works\, 640 Water Works Drive\, Philadelphia\, PA\, 19130\, United States
CATEGORIES:Hands-On Science
END:VEVENT
BEGIN:VEVENT
DTSTART;TZID=America/New_York:20170319T130000
DTEND;TZID=America/New_York:20170319T170000
DTSTAMP:20260423T013918
CREATED:20170105T162900Z
LAST-MODIFIED:20170105T162900Z
UID:7340-1489928400-1489942800@fairmountwaterworks.org
SUMMARY:A Closer Look at Diatoms
DESCRIPTION:Come visit the Fairmount Water Works during our Sunday operating hours for a self-guided version of “Diatoms: Jewels of the River”. Through a lens\, view these colorful and wonderfully complex hidden algae…
URL:https://fairmountwaterworks.org/event/a-closer-look-at-diatoms-11/
LOCATION:Fairmount Water Works\, 640 Water Works Drive\, Philadelphia\, PA\, 19130\, United States
CATEGORIES:Hands-On Science,Lecture
END:VEVENT
BEGIN:VEVENT
DTSTART;TZID=America/New_York:20170325T073000
DTEND;TZID=America/New_York:20170325T123000
DTSTAMP:20260423T013918
CREATED:20170221T201805Z
LAST-MODIFIED:20170221T201805Z
UID:7367-1490427000-1490445000@fairmountwaterworks.org
SUMMARY:2017 Walk for Water
DESCRIPTION:The Fairmount Water Works is proud to partner with Keiyo Soy Ministries and the Global Water Alliance for the 2017 Walk for Water\, taking place along the Schuylkill River Trail! \nKeiyo Soy Ministries (KSM) is an organization dedicated to raising funds to combat the urgent need for clean water in Kerio Valley in the Rift Valley Province of northern Kenya. \nRegistration is $25 (Deadline March 25\, 2017). \nTo learn more\, call Dr. Elijah Korich at 267.528.8285\, or visit www.ksmministries.com.
URL:https://fairmountwaterworks.org/event/2017-walk-for-water/
LOCATION:Fairmount Water Works\, 640 Water Works Drive\, Philadelphia\, PA\, 19130\, United States
END:VEVENT
BEGIN:VEVENT
DTSTART;TZID=America/New_York:20170325T140000
DTEND;TZID=America/New_York:20170325T160000
DTSTAMP:20260423T013918
CREATED:20161216T152754Z
LAST-MODIFIED:20181120T190959Z
UID:7318-1490450400-1490457600@fairmountwaterworks.org
SUMMARY:Science Saturday - "Diatoms: Jewels of the River"
DESCRIPTION:Drop in every Saturday between 2-4 pm\, and together\, we’ll explore different aspects of our environment during fun and interactive sessions in our water lab. \nArt and science meet as you explore the colorful and wondrous microscopic world of water. Discover the complex and intricate beauty of these hidden single-celled algae called diatoms along with their contribution to water quality research. \nDiatoms have a glass-like silica cell wall that consists of two halves that elegantly fit together.  In the 19th century amateur scientists amused themselves by arranging them in intricate patterns\, in the 20th century\, famed woman ecologist Ruth Patrick pioneered the study of these small cells to study water pollution.
URL:https://fairmountwaterworks.org/event/science-saturday-diatoms-jewels-of-the-river-12/
LOCATION:Fairmount Water Works\, 640 Water Works Drive\, Philadelphia\, PA\, 19130\, United States
CATEGORIES:Hands-On Science
END:VEVENT
BEGIN:VEVENT
DTSTART;TZID=America/New_York:20170326T130000
DTEND;TZID=America/New_York:20170326T170000
DTSTAMP:20260423T013918
CREATED:20170105T162937Z
LAST-MODIFIED:20181120T163849Z
UID:7341-1490533200-1490547600@fairmountwaterworks.org
SUMMARY:A Closer Look at Diatoms
DESCRIPTION:Come visit the Fairmount Water Works during our Sunday operating hours for a self-guided version of “Diatoms: Jewels of the River”. Through a lens\, view these colorful and wonderfully complex hidden algae…
URL:https://fairmountwaterworks.org/event/a-closer-look-at-diatoms-12/
LOCATION:Fairmount Water Works\, 640 Water Works Drive\, Philadelphia\, PA\, 19130\, United States
CATEGORIES:Hands-On Science
END:VEVENT
END:VCALENDAR