BEGIN:VCALENDAR
VERSION:2.0
PRODID:-//Fairmount Water Works - ECPv6.15.20//NONSGML v1.0//EN
CALSCALE:GREGORIAN
METHOD:PUBLISH
X-ORIGINAL-URL:https://fairmountwaterworks.org
X-WR-CALDESC:Events for Fairmount Water Works
REFRESH-INTERVAL;VALUE=DURATION:PT1H
X-Robots-Tag:noindex
X-PUBLISHED-TTL:PT1H
BEGIN:VTIMEZONE
TZID:America/New_York
BEGIN:DAYLIGHT
TZOFFSETFROM:-0500
TZOFFSETTO:-0400
TZNAME:EDT
DTSTART:20160313T070000
END:DAYLIGHT
BEGIN:STANDARD
TZOFFSETFROM:-0400
TZOFFSETTO:-0500
TZNAME:EST
DTSTART:20161106T060000
END:STANDARD
BEGIN:DAYLIGHT
TZOFFSETFROM:-0500
TZOFFSETTO:-0400
TZNAME:EDT
DTSTART:20170312T070000
END:DAYLIGHT
BEGIN:STANDARD
TZOFFSETFROM:-0400
TZOFFSETTO:-0500
TZNAME:EST
DTSTART:20171105T060000
END:STANDARD
BEGIN:DAYLIGHT
TZOFFSETFROM:-0500
TZOFFSETTO:-0400
TZNAME:EDT
DTSTART:20180311T070000
END:DAYLIGHT
BEGIN:STANDARD
TZOFFSETFROM:-0400
TZOFFSETTO:-0500
TZNAME:EST
DTSTART:20181104T060000
END:STANDARD
END:VTIMEZONE
BEGIN:VEVENT
DTSTART;TZID=America/New_York:20170805T140000
DTEND;TZID=America/New_York:20170805T160000
DTSTAMP:20260423T162422
CREATED:20170608T145628Z
LAST-MODIFIED:20181120T190957Z
UID:7579-1501941600-1501948800@fairmountwaterworks.org
SUMMARY:Science Saturday - "What's for Lunch?"
DESCRIPTION:Did you know that we have river otters right here in the Schuylkill River? Come and learn about some of the amazing animals that not only chooses to call Philadelphia home\, but also how they form relationships between other animals and form food webs! In our lab\, we will be creating food webs to show how every organism plays a role in the ecosystem\, ranging from the smallest algae to massive birds of prey! Visitors of all ages can learn more about the delicate balance that is required to maintain a food web\, and how the addition or removal of a species can disrupt the entire system!
URL:https://fairmountwaterworks.org/event/science-saturday-whats-for-lunch-6/
LOCATION:Fairmount Water Works\, 640 Water Works Drive\, Philadelphia\, PA\, 19130\, United States
CATEGORIES:Hands-On Science
END:VEVENT
BEGIN:VEVENT
DTSTART;TZID=America/New_York:20170810T143000
DTEND;TZID=America/New_York:20170810T163000
DTSTAMP:20260423T162422
CREATED:20170322T202142Z
LAST-MODIFIED:20181127T162110Z
UID:7451-1502375400-1502382600@fairmountwaterworks.org
SUMMARY:River Reimagined: A Land and Water Tour
DESCRIPTION:Learn about the Fairmount Water Works\, one of Philadelphia’s first tourist attractions\, and cruise the Schuylkill for a new perspective on sites along this historic river. After a brief tour of the Fairmount Water Works\, stroll through the beautifully landscaped South Garden\, and along the Schuylkill Banks for a 1.5 mile walk to the Walnut Street dock to board one of Patriot Harbor Lines‘ boats for a 1-hour narrated cruise. \nPLEASE NOTE: Comfortable and sturdy shoes are strongly recommended for the 1.5-mile walk. Transportation from the Walnut Street dock back to the Fairmount Water Works is available. In the event of inclement weather\, we may have to cancel the tour. You will be notified by email if the tour must be cancelled. \nRegister here.
URL:https://fairmountwaterworks.org/event/river-reimagined-a-land-and-water-tour-3/
LOCATION:Fairmount Water Works\, 640 Water Works Drive\, Philadelphia\, PA\, 19130\, United States
CATEGORIES:Social,Tour
END:VEVENT
BEGIN:VEVENT
DTSTART;TZID=America/New_York:20170812T140000
DTEND;TZID=America/New_York:20170812T160000
DTSTAMP:20260423T162422
CREATED:20170608T145715Z
LAST-MODIFIED:20181120T190957Z
UID:7580-1502546400-1502553600@fairmountwaterworks.org
SUMMARY:Science Saturday - "What's for Lunch?"
DESCRIPTION:Did you know that we have river otters right here in the Schuylkill River? Come and learn about some of the amazing animals that not only chooses to call Philadelphia home\, but also how they form relationships between other animals and form food webs! In our lab\, we will be creating food webs to show how every organism plays a role in the ecosystem\, ranging from the smallest algae to massive birds of prey! Visitors of all ages can learn more about the delicate balance that is required to maintain a food web\, and how the addition or removal of a species can disrupt the entire system!
URL:https://fairmountwaterworks.org/event/science-saturday-whats-for-lunch-7/
LOCATION:Fairmount Water Works\, 640 Water Works Drive\, Philadelphia\, PA\, 19130\, United States
CATEGORIES:Hands-On Science
END:VEVENT
BEGIN:VEVENT
DTSTART;TZID=America/New_York:20170817T180000
DTEND;TZID=America/New_York:20170817T193000
DTSTAMP:20260423T162422
CREATED:20170322T195949Z
LAST-MODIFIED:20181120T190632Z
UID:7444-1502992800-1502998200@fairmountwaterworks.org
SUMMARY:Hot Yoga at the Water Works
DESCRIPTION:Grab your yoga mat\, towel\, and bottle of water for a special hot yoga class! Work up a sweat\, burn calories\, then relax – all while enjoying the view of the Schuylkill River at the Fairmount Water Works Pavilion! \nThis is a community class\, given by Priya Hot Yoga. Suggested donation is $15. A portion of the proceeds of these classes will benefit educational programs at the Fairmount Water Works.
URL:https://fairmountwaterworks.org/event/hot-yoga-at-the-water-works-4/
LOCATION:Fairmount Water Works\, 640 Water Works Drive\, Philadelphia\, PA\, 19130\, United States
CATEGORIES:Get Active,Health & Wellness
END:VEVENT
BEGIN:VEVENT
DTSTART;TZID=America/New_York:20170819T140000
DTEND;TZID=America/New_York:20170819T160000
DTSTAMP:20260423T162422
CREATED:20170608T145820Z
LAST-MODIFIED:20181120T190956Z
UID:7581-1503151200-1503158400@fairmountwaterworks.org
SUMMARY:Science Saturday - "What's for Lunch?"
DESCRIPTION:Did you know that we have river otters right here in the Schuylkill River? Come and learn about some of the amazing animals that not only chooses to call Philadelphia home\, but also how they form relationships between other animals and form food webs! In our lab\, we will be creating food webs to show how every organism plays a role in the ecosystem\, ranging from the smallest algae to massive birds of prey! Visitors of all ages can learn more about the delicate balance that is required to maintain a food web\, and how the addition or removal of a species can disrupt the entire system!
URL:https://fairmountwaterworks.org/event/science-saturday-whats-for-lunch-8/
LOCATION:Fairmount Water Works\, 640 Water Works Drive\, Philadelphia\, PA\, 19130\, United States
CATEGORIES:Hands-On Science
END:VEVENT
BEGIN:VEVENT
DTSTART;TZID=America/New_York:20170824T143000
DTEND;TZID=America/New_York:20170824T163000
DTSTAMP:20260423T162422
CREATED:20170322T202223Z
LAST-MODIFIED:20181127T162110Z
UID:7452-1503585000-1503592200@fairmountwaterworks.org
SUMMARY:River Reimagined: A Land and Water Tour
DESCRIPTION:Learn about the Fairmount Water Works\, one of Philadelphia’s first tourist attractions\, and cruise the Schuylkill for a new perspective on sites along this historic river. After a brief tour of the Fairmount Water Works\, stroll through the beautifully landscaped South Garden\, and along the Schuylkill Banks for a 1.5 mile walk to the Walnut Street dock to board one of Patriot Harbor Lines‘ boats for a 1-hour narrated cruise. \nPLEASE NOTE: Comfortable and sturdy shoes are strongly recommended for the 1.5-mile walk. Transportation from the Walnut Street dock back to the Fairmount Water Works is available. In the event of inclement weather\, we may have to cancel the tour. You will be notified by email if the tour must be cancelled. \nRegister here.
URL:https://fairmountwaterworks.org/event/river-reimagined-a-land-and-water-tour-4/
LOCATION:Fairmount Water Works\, 640 Water Works Drive\, Philadelphia\, PA\, 19130\, United States
CATEGORIES:Social,Tour
END:VEVENT
BEGIN:VEVENT
DTSTART;TZID=America/New_York:20170826T140000
DTEND;TZID=America/New_York:20170826T160000
DTSTAMP:20260423T162422
CREATED:20170608T145907Z
LAST-MODIFIED:20181120T190956Z
UID:7582-1503756000-1503763200@fairmountwaterworks.org
SUMMARY:Science Saturday - "What's for Lunch?"
DESCRIPTION:Did you know that we have river otters right here in the Schuylkill River? Come and learn about some of the amazing animals that not only chooses to call Philadelphia home\, but also how they form relationships between other animals and form food webs! In our lab\, we will be creating food webs to show how every organism plays a role in the ecosystem\, ranging from the smallest algae to massive birds of prey! Visitors of all ages can learn more about the delicate balance that is required to maintain a food web\, and how the addition or removal of a species can disrupt the entire system!
URL:https://fairmountwaterworks.org/event/science-saturday-whats-for-lunch-9/
LOCATION:Fairmount Water Works\, 640 Water Works Drive\, Philadelphia\, PA\, 19130\, United States
CATEGORIES:Hands-On Science
END:VEVENT
BEGIN:VEVENT
DTSTART;TZID=America/New_York:20170830T150000
DTEND;TZID=America/New_York:20170830T170000
DTSTAMP:20260423T162422
CREATED:20170830T153422Z
LAST-MODIFIED:20170830T153422Z
UID:7624-1504105200-1504112400@fairmountwaterworks.org
SUMMARY:CLOSED
DESCRIPTION:
URL:https://fairmountwaterworks.org/event/closed-5/
LOCATION:PA
END:VEVENT
END:VCALENDAR