BEGIN:VCALENDAR
VERSION:2.0
PRODID:-//Fairmount Water Works - ECPv6.15.20//NONSGML v1.0//EN
CALSCALE:GREGORIAN
METHOD:PUBLISH
X-WR-CALNAME:Fairmount Water Works
X-ORIGINAL-URL:https://fairmountwaterworks.org
X-WR-CALDESC:Events for Fairmount Water Works
REFRESH-INTERVAL;VALUE=DURATION:PT1H
X-Robots-Tag:noindex
X-PUBLISHED-TTL:PT1H
BEGIN:VTIMEZONE
TZID:America/New_York
BEGIN:DAYLIGHT
TZOFFSETFROM:-0500
TZOFFSETTO:-0400
TZNAME:EDT
DTSTART:20160313T070000
END:DAYLIGHT
BEGIN:STANDARD
TZOFFSETFROM:-0400
TZOFFSETTO:-0500
TZNAME:EST
DTSTART:20161106T060000
END:STANDARD
BEGIN:DAYLIGHT
TZOFFSETFROM:-0500
TZOFFSETTO:-0400
TZNAME:EDT
DTSTART:20170312T070000
END:DAYLIGHT
BEGIN:STANDARD
TZOFFSETFROM:-0400
TZOFFSETTO:-0500
TZNAME:EST
DTSTART:20171105T060000
END:STANDARD
BEGIN:DAYLIGHT
TZOFFSETFROM:-0500
TZOFFSETTO:-0400
TZNAME:EDT
DTSTART:20180311T070000
END:DAYLIGHT
BEGIN:STANDARD
TZOFFSETFROM:-0400
TZOFFSETTO:-0500
TZNAME:EST
DTSTART:20181104T060000
END:STANDARD
END:VTIMEZONE
BEGIN:VEVENT
DTSTART;TZID=America/New_York:20171007T140000
DTEND;TZID=America/New_York:20171007T160000
DTSTAMP:20260423T194604
CREATED:20170918T193322Z
LAST-MODIFIED:20181120T190956Z
UID:7684-1507384800-1507392000@fairmountwaterworks.org
SUMMARY:Science Saturday: "The Schuylkill River & You!"
DESCRIPTION:Discover the many ways we are connected to the Schuylkill River\, and how we can protect these waters from the harmful effects of water pollution. \nRivers provide drinking water and a habitat for wildlife. Join us at the river’s edge as we explore our past and present relationship with the Schuylkill River in particular and our environmental impact. Activities include: \n\n“Fishing Around” – Survey the number of fish and species in your “river” to help determine how polluted it is.\n“Where Does the Water Go?” – Follow the journey of water from the river\, to our treatment plants\, and to your home!\n“Your Impact on the Schuylkill” – Learn how to reduce your carbon footprint by reducing the amount of trash you produce. Make the pledge to protect our river!\n\n 
URL:https://fairmountwaterworks.org/event/science-saturday-the-schuylkill-river-you/
LOCATION:Fairmount Water Works\, 640 Water Works Drive\, Philadelphia\, PA\, 19130\, United States
CATEGORIES:Hands-On Science
END:VEVENT
BEGIN:VEVENT
DTSTART;TZID=America/New_York:20171014T130000
DTEND;TZID=America/New_York:20171014T163000
DTSTAMP:20260423T194604
CREATED:20170808T201038Z
LAST-MODIFIED:20170808T201038Z
UID:7605-1507986000-1507998600@fairmountwaterworks.org
SUMMARY:Special River Days 2017 "We Drink the River" Drinking Water System Bus Tour
DESCRIPTION:As a part of River Days\, the Fairmount Water Works will offer a special bus tour of the Philadelphia Water Department’s drinking water system and how it’s connected to our rivers\, including past and present-day infrastructure that brings us clean and safe drinking water every day. \nAdults only. \nRegistration is full!
URL:https://fairmountwaterworks.org/event/special-river-days-2017-tour/
LOCATION:PA
CATEGORIES:Tour
END:VEVENT
BEGIN:VEVENT
DTSTART;TZID=America/New_York:20171014T140000
DTEND;TZID=America/New_York:20171014T160000
DTSTAMP:20260423T194604
CREATED:20170919T145218Z
LAST-MODIFIED:20181120T190956Z
UID:7699-1507989600-1507996800@fairmountwaterworks.org
SUMMARY:Science Saturday: "The Schuylkill River & You!"
DESCRIPTION:Discover the many ways we are connected to the Schuylkill River\, and how we can protect these waters from the harmful effects of water pollution. \nRivers provide drinking water and a habitat for wildlife. Join us at the river’s edge as we explore our past and present relationship with the Schuylkill River in particular and our environmental impact. Activities include: \n\n“Fishing Around” – Survey the number of fish and species in your “river” to help determine how polluted it is.\n“Where Does the Water Go?” – Follow the journey of water from the river\, to our treatment plants\, and to your home!\n“Your Impact on the Schuylkill” – Learn how to reduce your carbon footprint by reducing the amount of trash you produce. Make the pledge to protect our river!
URL:https://fairmountwaterworks.org/event/science-saturday-the-schuylkill-river-you-2/
LOCATION:Fairmount Water Works\, 640 Water Works Drive\, Philadelphia\, PA\, 19130\, United States
CATEGORIES:Hands-On Science
END:VEVENT
BEGIN:VEVENT
DTSTART;TZID=America/New_York:20171015T130000
DTEND;TZID=America/New_York:20171022T170000
DTSTAMP:20260423T194604
CREATED:20170921T161935Z
LAST-MODIFIED:20170921T161935Z
UID:7729-1508072400-1508691600@fairmountwaterworks.org
SUMMARY:Water and Food: The Art of Irrigation
DESCRIPTION:
URL:https://fairmountwaterworks.org/event/water-and-food-the-art-of-irrigation/
LOCATION:Fairmount Water Works\, 640 Water Works Drive\, Philadelphia\, PA\, 19130\, United States
CATEGORIES:Arts & Culture,Lecture
END:VEVENT
BEGIN:VEVENT
DTSTART;TZID=America/New_York:20171021T140000
DTEND;TZID=America/New_York:20171021T160000
DTSTAMP:20260423T194604
CREATED:20170919T145526Z
LAST-MODIFIED:20181120T190956Z
UID:7701-1508594400-1508601600@fairmountwaterworks.org
SUMMARY:Science Saturday: "The Schuylkill River & You!"
DESCRIPTION:Discover the many ways we are connected to the Schuylkill River\, and how we can protect these waters from the harmful effects of water pollution. \nRivers provide drinking water and a habitat for wildlife. Join us at the river’s edge as we explore our past and present relationship with the Schuylkill River in particular and our environmental impact. Activities include: \n\n“Fishing Around” – Survey the number of fish and species in your “river” to help determine how polluted it is.\n“Where Does the Water Go?” – Follow the journey of water from the river\, to our treatment plants\, and to your home!\n“Your Impact on the Schuylkill” – Learn how to reduce your carbon footprint by reducing the amount of trash you produce. Make the pledge to protect our river!
URL:https://fairmountwaterworks.org/event/science-saturday-the-schuylkill-river-you-3/
LOCATION:Fairmount Water Works\, 640 Water Works Drive\, Philadelphia\, PA\, 19130\, United States
CATEGORIES:Hands-On Science
END:VEVENT
BEGIN:VEVENT
DTSTART;TZID=America/New_York:20171026T160000
DTEND;TZID=America/New_York:20171026T180000
DTSTAMP:20260423T194604
CREATED:20171006T175606Z
LAST-MODIFIED:20181120T165420Z
UID:7734-1509033600-1509040800@fairmountwaterworks.org
SUMMARY:Behind the Scenes Tour of the Fairmount Water Works
DESCRIPTION:Eye-level with the Schuylkill\, you’ll walk the same underground paths as a royal family and Olympic swimmers during a behind-the-scenes look at  one of Philadelphia’s first tourist destinations. Hear about this landmark that pioneered engineering\, tourism\, and environmental awareness in Philadelphia. \nThis is a hard-hat tour\, and may not be accessible for all of our visitors. Sturdy closed-toe shoes are strongly recommended. \nRegistration is free\, but space is limited. \n 
URL:https://fairmountwaterworks.org/event/behind-the-scenes-tour-of-the-fairmount-water-works/
LOCATION:Fairmount Water Works\, 640 Water Works Drive\, Philadelphia\, PA\, 19130\, United States
CATEGORIES:Lecture,Social,Tour
END:VEVENT
BEGIN:VEVENT
DTSTART;TZID=America/New_York:20171028T140000
DTEND;TZID=America/New_York:20171028T160000
DTSTAMP:20260423T194604
CREATED:20170919T151252Z
LAST-MODIFIED:20181120T190956Z
UID:7702-1509199200-1509206400@fairmountwaterworks.org
SUMMARY:Science Saturday: "The Schuylkill River & You!"
DESCRIPTION:Discover the many ways we are connected to the Schuylkill River\, and how we can protect these waters from the harmful effects of water pollution. \nRivers provide drinking water and a habitat for wildlife. Join us at the river’s edge as we explore our past and present relationship with the Schuylkill River in particular and our environmental impact. Activities include: \n\n“Fishing Around” – Survey the number of fish and species in your “river” to help determine how polluted it is.\n“Where Does the Water Go?” – Follow the journey of water from the river\, to our treatment plants\, and to your home!\n“Your Impact on the Schuylkill” – Learn how to reduce your carbon footprint by reducing the amount of trash you produce. Make the pledge to protect our river!
URL:https://fairmountwaterworks.org/event/science-saturday-the-schuylkill-river-you-4/
LOCATION:Fairmount Water Works\, 640 Water Works Drive\, Philadelphia\, PA\, 19130\, United States
CATEGORIES:Hands-On Science
END:VEVENT
END:VCALENDAR