BEGIN:VCALENDAR
VERSION:2.0
PRODID:-//Fairmount Water Works - ECPv6.15.20//NONSGML v1.0//EN
CALSCALE:GREGORIAN
METHOD:PUBLISH
X-ORIGINAL-URL:https://fairmountwaterworks.org
X-WR-CALDESC:Events for Fairmount Water Works
REFRESH-INTERVAL;VALUE=DURATION:PT1H
X-Robots-Tag:noindex
X-PUBLISHED-TTL:PT1H
BEGIN:VTIMEZONE
TZID:America/New_York
BEGIN:DAYLIGHT
TZOFFSETFROM:-0500
TZOFFSETTO:-0400
TZNAME:EDT
DTSTART:20160313T070000
END:DAYLIGHT
BEGIN:STANDARD
TZOFFSETFROM:-0400
TZOFFSETTO:-0500
TZNAME:EST
DTSTART:20161106T060000
END:STANDARD
BEGIN:DAYLIGHT
TZOFFSETFROM:-0500
TZOFFSETTO:-0400
TZNAME:EDT
DTSTART:20170312T070000
END:DAYLIGHT
BEGIN:STANDARD
TZOFFSETFROM:-0400
TZOFFSETTO:-0500
TZNAME:EST
DTSTART:20171105T060000
END:STANDARD
BEGIN:DAYLIGHT
TZOFFSETFROM:-0500
TZOFFSETTO:-0400
TZNAME:EDT
DTSTART:20180311T070000
END:DAYLIGHT
BEGIN:STANDARD
TZOFFSETFROM:-0400
TZOFFSETTO:-0500
TZNAME:EST
DTSTART:20181104T060000
END:STANDARD
END:VTIMEZONE
BEGIN:VEVENT
DTSTART;TZID=America/New_York:20171202T140000
DTEND;TZID=America/New_York:20171202T160000
DTSTAMP:20260423T232656
CREATED:20170919T151813Z
LAST-MODIFIED:20181120T190955Z
UID:7707-1512223200-1512230400@fairmountwaterworks.org
SUMMARY:Science Saturday: "The Schuylkill River & You!"
DESCRIPTION:Discover the many ways we are connected to the Schuylkill River\, and how we can protect these waters from the harmful effects of water pollution. \nRivers provide drinking water and a habitat for wildlife. Join us at the river’s edge as we explore our past and present relationship with the Schuylkill River in particular and our environmental impact. Activities include: \n\n“Fishing Around” – Survey the number of fish and species in your “river” to help determine how polluted it is.\n“Where Does the Water Go?” – Follow the journey of water from the river\, to our treatment plants\, and to your home!\n“Your Impact on the Schuylkill” – Learn how to reduce your carbon footprint by reducing the amount of trash you produce. Make the pledge to protect our river!
URL:https://fairmountwaterworks.org/event/science-saturday-the-schuylkill-river-you-9/
LOCATION:Fairmount Water Works\, 640 Water Works Drive\, Philadelphia\, PA\, 19130\, United States
CATEGORIES:Hands-On Science
END:VEVENT
BEGIN:VEVENT
DTSTART;TZID=America/New_York:20171209T140000
DTEND;TZID=America/New_York:20171209T160000
DTSTAMP:20260423T232656
CREATED:20170919T152434Z
LAST-MODIFIED:20181120T190955Z
UID:7710-1512828000-1512835200@fairmountwaterworks.org
SUMMARY:Science Saturday: "The Schuylkill River & You!"
DESCRIPTION:Discover the many ways we are connected to the Schuylkill River\, and how we can protect these waters from the harmful effects of water pollution. \nRivers provide drinking water and a habitat for wildlife. Join us at the river’s edge as we explore our past and present relationship with the Schuylkill River in particular and our environmental impact. Activities include: \n\n“Fishing Around” – Survey the number of fish and species in your “river” to help determine how polluted it is.\n“Where Does the Water Go?” – Follow the journey of water from the river\, to our treatment plants\, and to your home!\n“Your Impact on the Schuylkill” – Learn how to reduce your carbon footprint by reducing the amount of trash you produce. Make the pledge to protect our river!
URL:https://fairmountwaterworks.org/event/science-saturday-the-schuylkill-river-you-12/
LOCATION:Fairmount Water Works\, 640 Water Works Drive\, Philadelphia\, PA\, 19130\, United States
CATEGORIES:Hands-On Science
END:VEVENT
BEGIN:VEVENT
DTSTART;TZID=America/New_York:20171214T160000
DTEND;TZID=America/New_York:20171214T170000
DTSTAMP:20260423T232656
CREATED:20171027T151802Z
LAST-MODIFIED:20181120T165417Z
UID:7782-1513267200-1513270800@fairmountwaterworks.org
SUMMARY:The Historic Fairmount Water Works: Inside & Out
DESCRIPTION:Tour the Fairmount Water Works – a National Historic Landmark\, Civil Engineering Landmark\, and National Mechanical Engineering Landmark – beginning outdoors on the grounds (weather permitting). FWW’s tour guide extraordinaire\, Ken Hinde\, will then take you inside the Revival buildings for a journey into today’s interpretive center\, connecting the Water Works’ past and present purpose. \nAttendees also have the opportunity to sit in the intimate Engine House Theater and see an award-winning 15-minute film on the site’s important role in Philadelphia’s history before touring exhibit areas on their own. \nSpace is limited\, so register today. 
URL:https://fairmountwaterworks.org/event/the-historic-fairmount-water-works-inside-out/
LOCATION:Fairmount Water Works\, 640 Water Works Drive\, Philadelphia\, PA\, 19130\, United States
CATEGORIES:Arts & Culture,Lecture,Social,Tour
END:VEVENT
BEGIN:VEVENT
DTSTART;TZID=America/New_York:20171216T140000
DTEND;TZID=America/New_York:20171216T160000
DTSTAMP:20260423T232656
CREATED:20170919T152158Z
LAST-MODIFIED:20181120T190955Z
UID:7709-1513432800-1513440000@fairmountwaterworks.org
SUMMARY:Science Saturday: "The Schuylkill River & You!"
DESCRIPTION:Discover the many ways we are connected to the Schuylkill River\, and how we can protect these waters from the harmful effects of water pollution. \nRivers provide drinking water and a habitat for wildlife. Join us at the river’s edge as we explore our past and present relationship with the Schuylkill River in particular and our environmental impact. Activities include: \n\n“Fishing Around” – Survey the number of fish and species in your “river” to help determine how polluted it is.\n“Where Does the Water Go?” – Follow the journey of water from the river\, to our treatment plants\, and to your home!\n“Your Impact on the Schuylkill” – Learn how to reduce your carbon footprint by reducing the amount of trash you produce. Make the pledge to protect our river!
URL:https://fairmountwaterworks.org/event/science-saturday-the-schuylkill-river-you-11/
LOCATION:Fairmount Water Works\, 640 Water Works Drive\, Philadelphia\, PA\, 19130\, United States
CATEGORIES:Hands-On Science
END:VEVENT
BEGIN:VEVENT
DTSTART;TZID=America/New_York:20171222T150000
DTEND;TZID=America/New_York:20171222T170000
DTSTAMP:20260423T232657
CREATED:20171222T165228Z
LAST-MODIFIED:20171222T165228Z
UID:7860-1513954800-1513962000@fairmountwaterworks.org
SUMMARY:CLOSED
DESCRIPTION:
URL:https://fairmountwaterworks.org/event/closed-9/
LOCATION:PA
END:VEVENT
BEGIN:VEVENT
DTSTART;TZID=America/New_York:20171223T110000
DTEND;TZID=America/New_York:20171223T130000
DTSTAMP:20260423T232657
CREATED:20171213T171944Z
LAST-MODIFIED:20181120T163810Z
UID:7835-1514026800-1514034000@fairmountwaterworks.org
SUMMARY:Let It Snow!
DESCRIPTION:  \n \nCome inside to enjoy fun science-themed programs for all ages at the Fairmount Water Works. Make your own snowy winter scene in a DIY snow globe\, or a stuffed fish (paper that is) to get it ready to survive the winter. Why? Find out during your visit! (Recommended for ages 3 and up. Some activities may require adult supervision.)
URL:https://fairmountwaterworks.org/event/let-it-snow/
LOCATION:PA
CATEGORIES:Hands-On Science
END:VEVENT
BEGIN:VEVENT
DTSTART;TZID=America/New_York:20171223T140000
DTEND;TZID=America/New_York:20171223T160000
DTSTAMP:20260423T232657
CREATED:20170919T152522Z
LAST-MODIFIED:20181120T190955Z
UID:7711-1514037600-1514044800@fairmountwaterworks.org
SUMMARY:Science Saturday: "The Schuylkill River & You!"
DESCRIPTION:Discover the many ways we are connected to the Schuylkill River\, and how we can protect these waters from the harmful effects of water pollution. \nRivers provide drinking water and a habitat for wildlife. Join us at the river’s edge as we explore our past and present relationship with the Schuylkill River in particular and our environmental impact. Activities include: \n\n“Fishing Around” – Survey the number of fish and species in your “river” to help determine how polluted it is.\n“Where Does the Water Go?” – Follow the journey of water from the river\, to our treatment plants\, and to your home!\n“Your Impact on the Schuylkill” – Learn how to reduce your carbon footprint by reducing the amount of trash you produce. Make the pledge to protect our river!
URL:https://fairmountwaterworks.org/event/science-saturday-the-schuylkill-river-you-13/
LOCATION:Fairmount Water Works\, 640 Water Works Drive\, Philadelphia\, PA\, 19130\, United States
CATEGORIES:Hands-On Science
END:VEVENT
BEGIN:VEVENT
DTSTART;TZID=America/New_York:20171224T100000
DTEND;TZID=America/New_York:20171224T170000
DTSTAMP:20260423T232657
CREATED:20171214T151509Z
LAST-MODIFIED:20171214T151509Z
UID:7854-1514109600-1514134800@fairmountwaterworks.org
SUMMARY:CLOSED
DESCRIPTION:
URL:https://fairmountwaterworks.org/event/closed-7/
LOCATION:PA
END:VEVENT
BEGIN:VEVENT
DTSTART;TZID=America/New_York:20171226T110000
DTEND;TZID=America/New_York:20171226T130000
DTSTAMP:20260423T232657
CREATED:20171213T172540Z
LAST-MODIFIED:20181120T163810Z
UID:7839-1514286000-1514293200@fairmountwaterworks.org
SUMMARY:Let It Snow!
DESCRIPTION:Come inside to enjoy fun science-themed programs for all ages at the Fairmount Water Works. Make your own snowy winter scene in a DIY snow globe\, or a stuffed fish (paper that is) to get it ready to survive the winter. Why? Find out during your visit! (Recommended for ages 3 and up. Some activities may require adult supervision.)
URL:https://fairmountwaterworks.org/event/let-it-snow-2/
LOCATION:PA
CATEGORIES:Hands-On Science
END:VEVENT
BEGIN:VEVENT
DTSTART;TZID=America/New_York:20171227T110000
DTEND;TZID=America/New_York:20171227T130000
DTSTAMP:20260423T232657
CREATED:20171213T173153Z
LAST-MODIFIED:20181120T163810Z
UID:7841-1514372400-1514379600@fairmountwaterworks.org
SUMMARY:Let It Snow!
DESCRIPTION:Come inside to enjoy fun science-themed programs for all ages at the Fairmount Water Works. Make your own snowy winter scene in a DIY snow globe\, or a stuffed fish (paper that is) to get it ready to survive the winter. Why? Find out during your visit! (Recommended for ages 3 and up. Some activities may require adult supervision.)
URL:https://fairmountwaterworks.org/event/let-it-snow-3/
LOCATION:PA
CATEGORIES:Hands-On Science
END:VEVENT
BEGIN:VEVENT
DTSTART;TZID=America/New_York:20171228T110000
DTEND;TZID=America/New_York:20171228T130000
DTSTAMP:20260423T232657
CREATED:20171213T173539Z
LAST-MODIFIED:20181120T163809Z
UID:7843-1514458800-1514466000@fairmountwaterworks.org
SUMMARY:Let It Snow!
DESCRIPTION:Come inside to enjoy fun science-themed programs for all ages at the Fairmount Water Works. Make your own snowy winter scene in a DIY snow globe\, or a stuffed fish (paper that is) to get it ready to survive the winter. Why? Find out during your visit! (Recommended for ages 3 and up. Some activities may require adult supervision.)
URL:https://fairmountwaterworks.org/event/let-it-snow-4/
LOCATION:PA
CATEGORIES:Hands-On Science
END:VEVENT
BEGIN:VEVENT
DTSTART;TZID=America/New_York:20171229T110000
DTEND;TZID=America/New_York:20171229T130000
DTSTAMP:20260423T232657
CREATED:20171213T174121Z
LAST-MODIFIED:20181120T163809Z
UID:7845-1514545200-1514552400@fairmountwaterworks.org
SUMMARY:Let It Snow!
DESCRIPTION:Come inside to enjoy fun science-themed programs for all ages at the Fairmount Water Works. Make your own snowy winter scene in a DIY snow globe\, or a stuffed fish (paper that is) to get it ready to survive the winter. Why? Find out during your visit! (Recommended for ages 3 and up. Some activities may require adult supervision.)
URL:https://fairmountwaterworks.org/event/let-it-snow-5/
LOCATION:PA
CATEGORIES:Hands-On Science
END:VEVENT
BEGIN:VEVENT
DTSTART;TZID=America/New_York:20171231T100000
DTEND;TZID=America/New_York:20171231T170000
DTSTAMP:20260423T232657
CREATED:20171214T154304Z
LAST-MODIFIED:20171214T154304Z
UID:7856-1514714400-1514739600@fairmountwaterworks.org
SUMMARY:CLOSED
DESCRIPTION:
URL:https://fairmountwaterworks.org/event/closed-8/
LOCATION:PA
END:VEVENT
END:VCALENDAR