BEGIN:VCALENDAR
VERSION:2.0
PRODID:-//Fairmount Water Works - ECPv6.15.20//NONSGML v1.0//EN
CALSCALE:GREGORIAN
METHOD:PUBLISH
X-WR-CALNAME:Fairmount Water Works
X-ORIGINAL-URL:https://fairmountwaterworks.org
X-WR-CALDESC:Events for Fairmount Water Works
REFRESH-INTERVAL;VALUE=DURATION:PT1H
X-Robots-Tag:noindex
X-PUBLISHED-TTL:PT1H
BEGIN:VTIMEZONE
TZID:America/New_York
BEGIN:DAYLIGHT
TZOFFSETFROM:-0500
TZOFFSETTO:-0400
TZNAME:EDT
DTSTART:20240310T070000
END:DAYLIGHT
BEGIN:STANDARD
TZOFFSETFROM:-0400
TZOFFSETTO:-0500
TZNAME:EST
DTSTART:20241103T060000
END:STANDARD
BEGIN:DAYLIGHT
TZOFFSETFROM:-0500
TZOFFSETTO:-0400
TZNAME:EDT
DTSTART:20250309T070000
END:DAYLIGHT
BEGIN:STANDARD
TZOFFSETFROM:-0400
TZOFFSETTO:-0500
TZNAME:EST
DTSTART:20251102T060000
END:STANDARD
BEGIN:DAYLIGHT
TZOFFSETFROM:-0500
TZOFFSETTO:-0400
TZNAME:EDT
DTSTART:20260308T070000
END:DAYLIGHT
BEGIN:STANDARD
TZOFFSETFROM:-0400
TZOFFSETTO:-0500
TZNAME:EST
DTSTART:20261101T060000
END:STANDARD
END:VTIMEZONE
BEGIN:VEVENT
DTSTART;TZID=America/New_York:20250226T100000
DTEND;TZID=America/New_York:20250301T170000
DTSTAMP:20260421T060637
CREATED:20250722T164718Z
LAST-MODIFIED:20250722T164718Z
UID:11959-1740564000-1740848400@fairmountwaterworks.org
SUMMARY:Trash Free Waters Art Show
DESCRIPTION:Come view a selection of entries from the 2023 Trash Free Waters Art Contest\, organized by the Partnership for the Delaware Estuary. \nArtists from across the Delaware Estuary region were asked to create a piece of artwork related to the theme of Trash Free Waters. Artwork could use any medium\, but had to be created on a provided 12″ by 9″ canvas. The goal of the art contest was to bring awareness to the problem of aquatic trash and highlight the ways people can help be part of the solution. \nWinners were chosen by public vote at the 2023 Delaware River Festival\, held at Penn’s Landing in Philadelphia on September 9th. \nWinning artwork have been turned into advertisements to help share the message of the importance of keeping out local waterways trash free! \nView during Interpretive Center hours starting August 10: Wednesday – Saturday: 10am-5pm
URL:https://fairmountwaterworks.org/event/trash-free-waters-art-show-33/
LOCATION:Fairmount Water Works\, 640 Water Works Drive\, Philadelphia\, PA\, 19130\, United States
CATEGORIES:Arts & Culture,Exhibitions
ATTACH;FMTTYPE=image/jpeg:https://fairmountwaterworks.org/wp-content/uploads/Todd-edited-scaled.jpg
END:VEVENT
BEGIN:VEVENT
DTSTART;TZID=America/New_York:20250305T100000
DTEND;TZID=America/New_York:20250308T170000
DTSTAMP:20260421T060637
CREATED:20250722T164744Z
LAST-MODIFIED:20250722T164744Z
UID:11961-1741168800-1741453200@fairmountwaterworks.org
SUMMARY:Trash Free Waters Art Show
DESCRIPTION:Come view a selection of entries from the 2023 Trash Free Waters Art Contest\, organized by the Partnership for the Delaware Estuary. \nArtists from across the Delaware Estuary region were asked to create a piece of artwork related to the theme of Trash Free Waters. Artwork could use any medium\, but had to be created on a provided 12″ by 9″ canvas. The goal of the art contest was to bring awareness to the problem of aquatic trash and highlight the ways people can help be part of the solution. \nWinners were chosen by public vote at the 2023 Delaware River Festival\, held at Penn’s Landing in Philadelphia on September 9th. \nWinning artwork have been turned into advertisements to help share the message of the importance of keeping out local waterways trash free! \nView during Interpretive Center hours starting August 10: Wednesday – Saturday: 10am-5pm
URL:https://fairmountwaterworks.org/event/trash-free-waters-art-show-34/
LOCATION:Fairmount Water Works\, 640 Water Works Drive\, Philadelphia\, PA\, 19130\, United States
CATEGORIES:Arts & Culture,Exhibitions
ATTACH;FMTTYPE=image/jpeg:https://fairmountwaterworks.org/wp-content/uploads/Todd-edited-scaled.jpg
END:VEVENT
BEGIN:VEVENT
DTSTART;TZID=America/New_York:20250312T100000
DTEND;TZID=America/New_York:20250315T170000
DTSTAMP:20260421T060637
CREATED:20250722T164833Z
LAST-MODIFIED:20250722T164833Z
UID:11963-1741773600-1742058000@fairmountwaterworks.org
SUMMARY:Trash Free Waters Art Show
DESCRIPTION:Come view a selection of entries from the 2023 Trash Free Waters Art Contest\, organized by the Partnership for the Delaware Estuary. \nArtists from across the Delaware Estuary region were asked to create a piece of artwork related to the theme of Trash Free Waters. Artwork could use any medium\, but had to be created on a provided 12″ by 9″ canvas. The goal of the art contest was to bring awareness to the problem of aquatic trash and highlight the ways people can help be part of the solution. \nWinners were chosen by public vote at the 2023 Delaware River Festival\, held at Penn’s Landing in Philadelphia on September 9th. \nWinning artwork have been turned into advertisements to help share the message of the importance of keeping out local waterways trash free! \nView during Interpretive Center hours starting August 10: Wednesday – Saturday: 10am-5pm
URL:https://fairmountwaterworks.org/event/trash-free-waters-art-show-35/
LOCATION:Fairmount Water Works\, 640 Water Works Drive\, Philadelphia\, PA\, 19130\, United States
CATEGORIES:Arts & Culture,Exhibitions
ATTACH;FMTTYPE=image/jpeg:https://fairmountwaterworks.org/wp-content/uploads/Todd-edited-scaled.jpg
END:VEVENT
BEGIN:VEVENT
DTSTART;TZID=America/New_York:20250319T100000
DTEND;TZID=America/New_York:20250322T170000
DTSTAMP:20260421T060637
CREATED:20250722T164901Z
LAST-MODIFIED:20250722T164901Z
UID:11965-1742378400-1742662800@fairmountwaterworks.org
SUMMARY:Trash Free Waters Art Show
DESCRIPTION:Come view a selection of entries from the 2023 Trash Free Waters Art Contest\, organized by the Partnership for the Delaware Estuary. \nArtists from across the Delaware Estuary region were asked to create a piece of artwork related to the theme of Trash Free Waters. Artwork could use any medium\, but had to be created on a provided 12″ by 9″ canvas. The goal of the art contest was to bring awareness to the problem of aquatic trash and highlight the ways people can help be part of the solution. \nWinners were chosen by public vote at the 2023 Delaware River Festival\, held at Penn’s Landing in Philadelphia on September 9th. \nWinning artwork have been turned into advertisements to help share the message of the importance of keeping out local waterways trash free! \nView during Interpretive Center hours starting August 10: Wednesday – Saturday: 10am-5pm
URL:https://fairmountwaterworks.org/event/trash-free-waters-art-show-36/
LOCATION:Fairmount Water Works\, 640 Water Works Drive\, Philadelphia\, PA\, 19130\, United States
CATEGORIES:Arts & Culture,Exhibitions
ATTACH;FMTTYPE=image/jpeg:https://fairmountwaterworks.org/wp-content/uploads/Todd-edited-scaled.jpg
END:VEVENT
BEGIN:VEVENT
DTSTART;TZID=America/New_York:20250322T090000
DTEND;TZID=America/New_York:20250322T120000
DTSTAMP:20260421T060637
CREATED:20250215T175720Z
LAST-MODIFIED:20250218T173246Z
UID:11492-1742634000-1742644800@fairmountwaterworks.org
SUMMARY:WALK FOR WATER
DESCRIPTION:KSM Annual Run/Walk for Water – 5K\nKSM \, Annual ” Run/Walk for Water for Life” ( Join the fight for Clean Drinking water)\nAccording to UNICEF and WHO\, 1 in 3 people globally do not have access to safe drinking water.    Billions of people around the world are continuing to suffer from poor access to water\, sanitation\, and hygiene. \nThis year’s Theme for World Water Day is “ Valuing Water”.  Let us value water and help the thousands of children in Kerion Valley to drink safe water. \nWhere your registration fee goes: https://www.youtube.com/watch?v=uqQlKu1cQGk \nRegister now: $20. Price increases to $25 after February 17\, 2024 at 11:59pm EST \nEarly Bird catches the prey : Register and get lower rate and T-shirt! \nTo register\, visit  here. \nThank you in advance for joining us.
URL:https://fairmountwaterworks.org/event/ksm-annual-run-walk-for-water/
LOCATION:Fairmount Water Works\, 640 Water Works Drive\, Philadelphia\, PA\, 19130\, United States
CATEGORIES:Get Active,Health & Wellness
ATTACH;FMTTYPE=image/jpeg:https://fairmountwaterworks.org/wp-content/uploads/Walk-for-Water-scaled.jpg
END:VEVENT
BEGIN:VEVENT
DTSTART;TZID=America/New_York:20250322T110000
DTEND;TZID=America/New_York:20250322T140000
DTSTAMP:20260421T060637
CREATED:20241226T174048Z
LAST-MODIFIED:20241226T174048Z
UID:11427-1742641200-1742652000@fairmountwaterworks.org
SUMMARY:POP-UP: DIATOM ART
DESCRIPTION:DROP IN! \nDiatom art was popular among microscopists in the 1800’s in Victorian England. The artist collected different species and arranged them into a design. Come join us in making a print of your own diatom design! \nFor families and all ages!
URL:https://fairmountwaterworks.org/event/pop-up-diatom-art/
LOCATION:Fairmount Water Works\, 640 Water Works Drive\, Philadelphia\, PA\, 19130\, United States
CATEGORIES:Pop-Up
ATTACH;FMTTYPE=image/png:https://fairmountwaterworks.org/wp-content/uploads/2024/12/example-2.png
END:VEVENT
BEGIN:VEVENT
DTSTART;TZID=America/New_York:20250326T100000
DTEND;TZID=America/New_York:20250329T170000
DTSTAMP:20260421T060637
CREATED:20250722T164937Z
LAST-MODIFIED:20250722T164937Z
UID:11968-1742983200-1743267600@fairmountwaterworks.org
SUMMARY:Trash Free Waters Art Show
DESCRIPTION:Come view a selection of entries from the 2023 Trash Free Waters Art Contest\, organized by the Partnership for the Delaware Estuary. \nArtists from across the Delaware Estuary region were asked to create a piece of artwork related to the theme of Trash Free Waters. Artwork could use any medium\, but had to be created on a provided 12″ by 9″ canvas. The goal of the art contest was to bring awareness to the problem of aquatic trash and highlight the ways people can help be part of the solution. \nWinners were chosen by public vote at the 2023 Delaware River Festival\, held at Penn’s Landing in Philadelphia on September 9th. \nWinning artwork have been turned into advertisements to help share the message of the importance of keeping out local waterways trash free! \nView during Interpretive Center hours starting August 10: Wednesday – Saturday: 10am-5pm
URL:https://fairmountwaterworks.org/event/trash-free-waters-art-show-37/
LOCATION:Fairmount Water Works\, 640 Water Works Drive\, Philadelphia\, PA\, 19130\, United States
CATEGORIES:Arts & Culture,Exhibitions
ATTACH;FMTTYPE=image/jpeg:https://fairmountwaterworks.org/wp-content/uploads/Todd-edited-scaled.jpg
END:VEVENT
BEGIN:VEVENT
DTSTART;TZID=America/New_York:20250329T110000
DTEND;TZID=America/New_York:20250329T123000
DTSTAMP:20260421T060637
CREATED:20250215T155340Z
LAST-MODIFIED:20250215T200748Z
UID:11481-1743246000-1743251400@fairmountwaterworks.org
SUMMARY:LOVING LANDMARKS
DESCRIPTION:Join us  at Fairmount Water Works to fall in love all over again with one of Philadelphia’s beloved icons. This architecture tour will shed light on the landmark’s best features through sketching\, photography and more. We will finish the tour inside to make a love letter to Water with a warm cup of cocoa. \n  \nFamilies are welcome! \n$5 per family or couple – materials fee \n 
URL:https://fairmountwaterworks.org/event/loving-landmarks-2/
LOCATION:Fairmount Water Works\, 640 Water Works Drive\, Philadelphia\, PA\, 19130\, United States
CATEGORIES:Arts & Culture,CLOSED,Teachers,Tour
ATTACH;FMTTYPE=image/png:https://fairmountwaterworks.org/wp-content/uploads/2024/12/Haer-drawing-1.png
END:VEVENT
END:VCALENDAR