BEGIN:VCALENDAR
VERSION:2.0
PRODID:-//Fairmount Water Works - ECPv6.15.20//NONSGML v1.0//EN
CALSCALE:GREGORIAN
METHOD:PUBLISH
X-ORIGINAL-URL:https://fairmountwaterworks.org
X-WR-CALDESC:Events for Fairmount Water Works
REFRESH-INTERVAL;VALUE=DURATION:PT1H
X-Robots-Tag:noindex
X-PUBLISHED-TTL:PT1H
BEGIN:VTIMEZONE
TZID:America/New_York
BEGIN:DAYLIGHT
TZOFFSETFROM:-0500
TZOFFSETTO:-0400
TZNAME:EDT
DTSTART:20240310T070000
END:DAYLIGHT
BEGIN:STANDARD
TZOFFSETFROM:-0400
TZOFFSETTO:-0500
TZNAME:EST
DTSTART:20241103T060000
END:STANDARD
BEGIN:DAYLIGHT
TZOFFSETFROM:-0500
TZOFFSETTO:-0400
TZNAME:EDT
DTSTART:20250309T070000
END:DAYLIGHT
BEGIN:STANDARD
TZOFFSETFROM:-0400
TZOFFSETTO:-0500
TZNAME:EST
DTSTART:20251102T060000
END:STANDARD
BEGIN:DAYLIGHT
TZOFFSETFROM:-0500
TZOFFSETTO:-0400
TZNAME:EDT
DTSTART:20260308T070000
END:DAYLIGHT
BEGIN:STANDARD
TZOFFSETFROM:-0400
TZOFFSETTO:-0500
TZNAME:EST
DTSTART:20261101T060000
END:STANDARD
END:VTIMEZONE
BEGIN:VEVENT
DTSTART;VALUE=DATE:20250704
DTEND;VALUE=DATE:20250705
DTSTAMP:20260421T151525
CREATED:20250320T204357Z
LAST-MODIFIED:20250320T204357Z
UID:11555-1751587200-1751673599@fairmountwaterworks.org
SUMMARY:CITY HOLIDAY-BUILDING CLOSED
DESCRIPTION:
URL:https://fairmountwaterworks.org/event/city-holiday-building-closed-5/
LOCATION:PA
ATTACH;FMTTYPE=image/gif:https://fairmountwaterworks.org/wp-content/uploads/2014/07/veterans-day.gif
END:VEVENT
BEGIN:VEVENT
DTSTART;TZID=America/New_York:20250712T100000
DTEND;TZID=America/New_York:20250712T113000
DTSTAMP:20260421T151525
CREATED:20250221T205015Z
LAST-MODIFIED:20250722T193527Z
UID:11523-1752314400-1752319800@fairmountwaterworks.org
SUMMARY:Lafayette Historic Tour of Fairmount Water Works
DESCRIPTION: The Marquis de Lafayette was 19 when he first came to America in 1777 to fight for its freedom. When he returned in August\, 1824 for his farewell tour he was 67. At the end of his tour\, in the summer of 1825\, Lafayette visited Philadelphia once more\, specifically to see the dedication of the Fairmount Water Works with a tour by the watering committee. He referred to it as “the perfect embodiment of the American Government\, in which were combined simplicity\, power\, and economy.”\n Join us for a guided interpretation of the 1815 engineering marvel that so impressed Lafayette on his Philadelphia visit. Tours will include excerpts from the extensive writings of both Lafayette and his secretary\, Auguste Levasseur\, about their experience at the site\, that is now designated a Historic Landmark building.\nOpen to all. Free. Registration preferred.\nOpen to all\, free admission\n 
URL:https://fairmountwaterworks.org/event/https-www-eventbrite-com-e-special-tours-of-fairmount-water-works-to-celebrate-lafayette-anniversary-tickets-1424668073559affoddtdtcreator/
LOCATION:Fairmount Water Works\, 640 Water Works Drive\, Philadelphia\, PA\, 19130\, United States
CATEGORIES:Teachers,Tour
ATTACH;FMTTYPE=image/png:https://fairmountwaterworks.org/wp-content/uploads/lafayette-200-logo-960x1240-1-793x1024-1.png
END:VEVENT
BEGIN:VEVENT
DTSTART;TZID=America/New_York:20250712T110000
DTEND;TZID=America/New_York:20250712T120000
DTSTAMP:20260421T151525
CREATED:20250325T201058Z
LAST-MODIFIED:20250722T193438Z
UID:11584-1752318000-1752321600@fairmountwaterworks.org
SUMMARY:Curator-Led Tour of CONFLUENCE
DESCRIPTION:ART EXHIBIT TOURS\nCONFLUENCE: 3rd ANNUAL ART EXHIBIT AT FWWIC\nWe welcome visitors to register in advance for personal and engaging tours with Thom Duffy\, Curator. Visitors will also be greeted by contributing artists. Don’t miss this opportunity to hear from artists who are featured in this special exhibition ! \nRegister HERE.
URL:https://fairmountwaterworks.org/event/curator-led-tour-of-confluence-3/
LOCATION:Fairmount Water Works\, 640 Water Works Drive\, Philadelphia\, PA\, 19130\, United States
CATEGORIES:Arts & Culture
ATTACH;FMTTYPE=image/jpeg:https://fairmountwaterworks.org/wp-content/uploads/2025/03/Fenton-Susan-Pink-Hat-and-Floral-Frame-KM.jpg.jpeg
END:VEVENT
BEGIN:VEVENT
DTSTART;TZID=America/New_York:20250712T120000
DTEND;TZID=America/New_York:20250712T130000
DTSTAMP:20260421T151525
CREATED:20250425T204028Z
LAST-MODIFIED:20250722T193616Z
UID:11709-1752321600-1752325200@fairmountwaterworks.org
SUMMARY:Bodies of Water
DESCRIPTION:The Naked Stark is a Partner in Movement at Fairmount Water Works. Come and celebrate the first performance of their residency! \nFree performances will be shown in tandem with free gallery tours of the Fairmount Water Works’ new art exhibit “CONFLUENCE.” \nMay 3\, 12 PM & 12:30 PM \nCome for am art tour at 11pm and stay for a dance performance at 12pm!\nCome for a dance performance at 12:30 and stay for an art tour at 1pm!
URL:https://fairmountwaterworks.org/event/bodies-of-water-2/
LOCATION:Fairmount Water Works Interpretive Center\, 640 Water Works Drive\, Philadelphia\, PA\, 19130
CATEGORIES:Arts & Culture,Exhibitions
ATTACH;FMTTYPE=image/png:https://fairmountwaterworks.org/wp-content/uploads/2025/04/2.png
END:VEVENT
BEGIN:VEVENT
DTSTART;TZID=America/New_York:20250712T130000
DTEND;TZID=America/New_York:20250712T140000
DTSTAMP:20260421T151525
CREATED:20250325T201125Z
LAST-MODIFIED:20250722T193558Z
UID:11586-1752325200-1752328800@fairmountwaterworks.org
SUMMARY:Curator-Led Tour of CONFLUENCE
DESCRIPTION:ART EXHIBIT TOURS\nCONFLUENCE: 3rd ANNUAL ART EXHIBIT AT FWWIC\nWe welcome visitors to register in advance for personal and engaging tours with Thom Duffy\, Curator. Visitors will also be greeted by contributing artists. Don’t miss this opportunity to hear from artists who are featured in this special exhibition ! \nRegister HERE.
URL:https://fairmountwaterworks.org/event/curator-led-tour-of-confluence-4/
LOCATION:Fairmount Water Works\, 640 Water Works Drive\, Philadelphia\, PA\, 19130\, United States
CATEGORIES:Arts & Culture
ATTACH;FMTTYPE=image/jpeg:https://fairmountwaterworks.org/wp-content/uploads/2025/03/Fenton-Susan-Pink-Hat-and-Floral-Frame-KM.jpg.jpeg
END:VEVENT
BEGIN:VEVENT
DTSTART;TZID=America/New_York:20250713T070000
DTEND;TZID=America/New_York:20250718T170000
DTSTAMP:20260421T151525
CREATED:20250221T215717Z
LAST-MODIFIED:20250701T194048Z
UID:11528-1752390000-1752858000@fairmountwaterworks.org
SUMMARY:Schuylkill Acts & Impacts
DESCRIPTION:  \n  \nThis program is filled.  Information will be available about next year’s program in January 2026. Check our website!
URL:https://fairmountwaterworks.org/event/schuylkill-acts-impacts/
LOCATION:PA
ATTACH;FMTTYPE=image/jpeg:https://fairmountwaterworks.org/wp-content/uploads/2025/02/SAI-kayak-2022.jpg
END:VEVENT
BEGIN:VEVENT
DTSTART;TZID=America/New_York:20250719T100000
DTEND;TZID=America/New_York:20250719T113000
DTSTAMP:20260421T151525
CREATED:20250515T163902Z
LAST-MODIFIED:20250722T193641Z
UID:11786-1752919200-1752924600@fairmountwaterworks.org
SUMMARY:Lafayette Historic Tour of Fairmount Water Works
DESCRIPTION: The Marquis de Lafayette was 19 when he first came to America in 1777 to fight for its freedom. When he returned in August\, 1824 for his farewell tour he was 67. At the end of his tour\, in the summer of 1825\, Lafayette visited Philadelphia once more\, specifically to see the dedication of the Fairmount Water Works with a tour by the watering committee. He referred to it as “the perfect embodiment of the American Government\, in which were combined simplicity\, power\, and economy.”\n Join us for a guided interpretation of the 1815 engineering marvel that so impressed Lafayette on his Philadelphia visit. Tours will include excerpts from the extensive writings of both Lafayette and his secretary\, Auguste Levasseur\, about their experience at the site\, that is now designated a Historic Landmark building.\nOpen to all. Free. Registration preferred.\nOpen to all\, free admission\n 
URL:https://fairmountwaterworks.org/event/https-www-eventbrite-com-e-special-tours-of-fairmount-water-works-to-celebrate-lafayette-anniversary-tickets-1424668073559affoddtdtcreator-2/
LOCATION:Fairmount Water Works\, 640 Water Works Drive\, Philadelphia\, PA\, 19130\, United States
CATEGORIES:Teachers,Tour
ATTACH;FMTTYPE=image/png:https://fairmountwaterworks.org/wp-content/uploads/lafayette-200-logo-960x1240-1-793x1024-1.png
END:VEVENT
BEGIN:VEVENT
DTSTART;TZID=America/New_York:20250726T110000
DTEND;TZID=America/New_York:20250726T120000
DTSTAMP:20260421T151525
CREATED:20250325T201147Z
LAST-MODIFIED:20250410T203818Z
UID:11588-1753527600-1753531200@fairmountwaterworks.org
SUMMARY:Curator-Led Tour of CONFLUENCE
DESCRIPTION:ART EXHIBIT TOURS\nCONFLUENCE: 3rd ANNUAL ART EXHIBIT AT FWWIC\nWe welcome visitors to register in advance for personal and engaging tours with Thom Duffy\, Curator. Visitors will also be greeted by contributing artists. Don’t miss this opportunity to hear from artists who are featured in this special exhibition ! \nRegister HERE.
URL:https://fairmountwaterworks.org/event/curator-led-tour-of-confluence-5/
LOCATION:Fairmount Water Works\, 640 Water Works Drive\, Philadelphia\, PA\, 19130\, United States
CATEGORIES:Arts & Culture
ATTACH;FMTTYPE=image/jpeg:https://fairmountwaterworks.org/wp-content/uploads/2025/03/Brellochs_28_Mine-Not-Yours.jpg
END:VEVENT
BEGIN:VEVENT
DTSTART;TZID=America/New_York:20250726T120000
DTEND;TZID=America/New_York:20250726T130000
DTSTAMP:20260421T151525
CREATED:20250425T204104Z
LAST-MODIFIED:20250425T204104Z
UID:11711-1753531200-1753534800@fairmountwaterworks.org
SUMMARY:Bodies of Water
DESCRIPTION:The Naked Stark is a Partner in Movement at Fairmount Water Works. Come and celebrate the first performance of their residency! \nFree performances will be shown in tandem with free gallery tours of the Fairmount Water Works’ new art exhibit “CONFLUENCE.” \nMay 3\, 12 PM & 12:30 PM \nCome for am art tour at 11pm and stay for a dance performance at 12pm!\nCome for a dance performance at 12:30 and stay for an art tour at 1pm!
URL:https://fairmountwaterworks.org/event/bodies-of-water-3/
LOCATION:Fairmount Water Works Interpretive Center\, 640 Water Works Drive\, Philadelphia\, PA\, 19130
CATEGORIES:Arts & Culture,Exhibitions
ATTACH;FMTTYPE=image/png:https://fairmountwaterworks.org/wp-content/uploads/2025/04/2.png
END:VEVENT
BEGIN:VEVENT
DTSTART;TZID=America/New_York:20250726T130000
DTEND;TZID=America/New_York:20250726T140000
DTSTAMP:20260421T151525
CREATED:20250325T201211Z
LAST-MODIFIED:20250410T203848Z
UID:11590-1753534800-1753538400@fairmountwaterworks.org
SUMMARY:Curator-Led Tour of CONFLUENCE
DESCRIPTION:ART EXHIBIT TOURS\nCONFLUENCE: 3rd ANNUAL ART EXHIBIT AT FWWIC\nWe welcome visitors to register in advance for personal and engaging tours with Thom Duffy\, Curator. Visitors will also be greeted by contributing artists. Don’t miss this opportunity to hear from artists who are featured in this special exhibition ! \nRegister HERE.
URL:https://fairmountwaterworks.org/event/curator-led-tour-of-confluence-6/
LOCATION:Fairmount Water Works\, 640 Water Works Drive\, Philadelphia\, PA\, 19130\, United States
CATEGORIES:Arts & Culture
ATTACH;FMTTYPE=image/jpeg:https://fairmountwaterworks.org/wp-content/uploads/2025/03/Brellochs_28_Mine-Not-Yours.jpg
END:VEVENT
BEGIN:VEVENT
DTSTART;TZID=America/New_York:20250726T150000
DTEND;TZID=America/New_York:20250726T160000
DTSTAMP:20260421T151525
CREATED:20250722T141410Z
LAST-MODIFIED:20250722T141410Z
UID:11918-1753542000-1753545600@fairmountwaterworks.org
SUMMARY:Curator-Led Tour of CONFLUENCE
DESCRIPTION:ART EXHIBIT TOURS\nCONFLUENCE: 3rd ANNUAL ART EXHIBIT AT FWWIC\nWe welcome visitors to register in advance for personal and engaging tours with Thom Duffy\, Curator. Visitors will also be greeted by contributing artists. Don’t miss this opportunity to hear from artists who are featured in this special exhibition ! \nRegister HERE.
URL:https://fairmountwaterworks.org/event/curator-led-tour-of-confluence-13/
LOCATION:Fairmount Water Works\, 640 Water Works Drive\, Philadelphia\, PA\, 19130\, United States
CATEGORIES:Arts & Culture
ATTACH;FMTTYPE=image/jpeg:https://fairmountwaterworks.org/wp-content/uploads/2025/03/Brellochs_28_Mine-Not-Yours.jpg
END:VEVENT
END:VCALENDAR